BEGIN:VCALENDAR
VERSION:2.0
PRODID:-//The Mad River Valley Village - ECPv6.0.13//NONSGML v1.0//EN
CALSCALE:GREGORIAN
METHOD:PUBLISH
X-ORIGINAL-URL:https://mrvvillage.com
X-WR-CALDESC:Events for The Mad River Valley Village
REFRESH-INTERVAL;VALUE=DURATION:PT1H
X-Robots-Tag:noindex
X-PUBLISHED-TTL:PT1H
BEGIN:VTIMEZONE
TZID:America/New_York
BEGIN:DAYLIGHT
TZOFFSETFROM:-0500
TZOFFSETTO:-0400
TZNAME:EDT
DTSTART:20240310T070000
END:DAYLIGHT
BEGIN:STANDARD
TZOFFSETFROM:-0400
TZOFFSETTO:-0500
TZNAME:EST
DTSTART:20241103T060000
END:STANDARD
TZID:UTC
BEGIN:STANDARD
TZOFFSETFROM:+0000
TZOFFSETTO:+0000
TZNAME:UTC
DTSTART:20240101T000000
END:STANDARD
END:VTIMEZONE
BEGIN:VEVENT
DTSTART;TZID=America/New_York:20240127T170000
DTEND;TZID=America/New_York:20240127T210000
DTSTAMP:20260422T190540
CREATED:20231220T195605Z
LAST-MODIFIED:20240127T170823Z
UID:10005765-1706374800-1706389200@mrvvillage.com
SUMMARY:It’s Almost Cocktail Hour
DESCRIPTION:Join us on Saturday\, January 27 at The Phoenix in Waterbury\, Vermont to reflect on our habits and how we choose to celebrate during the holidays season. There will be NA beer\, mocktails\, and fizzy drinks  to taste and purchase\, along with raffle baskets with donated items from local businesses. Stick around for live music and to learn more about Mosaic and the work we do.
URL:https://mrvvillage.com/event/its-almost-cocktail-hour/
LOCATION:The Phoenix\, 5 Stowe St.\, Waterbury\, Vermont\, 05676\, United States
CATEGORIES:Food & Drink,Live Music
ATTACH;FMTTYPE=image/png:https://mrvvillage.com/wp-content/uploads/2023/12/Its-Almost-Cocktail-Hour-NBtIn3.tmp_.png
ORGANIZER;CN="Mosaic%20Vermont":MAILTO:morgan@mosaic-vt.org
GEO:44.3378299;-72.7560057
X-APPLE-STRUCTURED-LOCATION;VALUE=URI;X-ADDRESS=The Phoenix 5 Stowe St. Waterbury Vermont 05676 United States;X-APPLE-RADIUS=500;X-TITLE=5 Stowe St.:geo:-72.7560057,44.3378299
END:VEVENT
BEGIN:VEVENT
DTSTART;TZID=UTC:20240131T170000
DTEND;TZID=UTC:20240131T210000
DTSTAMP:20260422T190540
CREATED:20240101T225534Z
LAST-MODIFIED:20240131T175317Z
UID:10005815-1706720400-1706734800@mrvvillage.com
SUMMARY:MRB Pub Music Series: John Lackard Blues Band
DESCRIPTION:Join us for live music\, food & drinks from 5:00-9:00pm. Music featuring John Lackard Blues Band
URL:https://mrvvillage.com/event/mrb-pub-music-series-john-lackard-blues-band/
LOCATION:Mad River Barn
CATEGORIES:Dining,Family Friendly,Live Music,Public Welcome
GEO:44.195472;-72.8915611
END:VEVENT
BEGIN:VEVENT
DTSTART;TZID=UTC:20240207T170000
DTEND;TZID=UTC:20240207T210000
DTSTAMP:20260422T190540
CREATED:20240109T122630Z
LAST-MODIFIED:20240207T192315Z
UID:10005846-1707325200-1707339600@mrvvillage.com
SUMMARY:MRB Pub Music Series: Al’s Pals
DESCRIPTION:Join us for live music\, food & drinks from 5:00-9:00pm. Music featuring Al’s Pals
URL:https://mrvvillage.com/event/mrb-pub-music-series-als-pals-8/
LOCATION:Mad River Barn
CATEGORIES:Dining,Family Friendly,Live Music,Public Welcome
ATTACH;FMTTYPE=image/png:https://mrvvillage.com/wp-content/uploads/2023/12/PalsParty-3E9eEp.tmp_-z7HjPH.tmp_.png
GEO:44.195472;-72.8915611
END:VEVENT
BEGIN:VEVENT
DTSTART;TZID=America/New_York:20240213T170000
DTEND;TZID=America/New_York:20240213T180000
DTSTAMP:20260422T190540
CREATED:20240213T195317Z
LAST-MODIFIED:20240213T203818Z
UID:10005927-1707843600-1707847200@mrvvillage.com
SUMMARY:Scrag Mountain Music – Spiritual Sounding: Divine Love
DESCRIPTION:Presented by Scrag Mountain Music and hosted by the Unitarian Church of Montpelier\, this interspiritual event features Scrag co-Artistic Director Evan Premo’s improvised loop-based\, ambient style\, long form music for meditation\, prayer\, or deep listening. Evan’s music facilitates a deep meditative experience which connects listeners to one another and all consciousness. The theme for this spiritual sounding is Divine Love: that Love\, the essence of the Universe\, that holds us always through life’s peaks and valleys. As source material\, Evan will include Hildegard Von Bingen’s medieval chant\, Karitas habundat: “Love abounds in all\, from the deepest depths and excelling over every star…” \n“Come as you are\, Pay what you can.” For details and tickets: http://www.scragmountainmusic.org/spiritual-sounding-divine-love.html
URL:https://mrvvillage.com/event/scrag-mountain-music-spiritual-sounding-divine-love/
LOCATION:Unitarian Church of Montpelier\, 130 Main Street\, Montpelier\, Vermont\, 05602\, United States
CATEGORIES:Arts & Entertainment,Live Music
ATTACH;FMTTYPE=image/jpeg:https://mrvvillage.com/wp-content/uploads/2024/02/queenmarianette-mbrockington1p9a0348-2_1-JoqOH1.tmp_.jpg
ORGANIZER;CN="Scrag%20Mountain%20Music":MAILTO:Lara@scragmountainmusic.org
GEO:44.2615398;-72.5746765
X-APPLE-STRUCTURED-LOCATION;VALUE=URI;X-ADDRESS=Unitarian Church of Montpelier 130 Main Street Montpelier Vermont 05602 United States;X-APPLE-RADIUS=500;X-TITLE=130 Main Street:geo:-72.5746765,44.2615398
END:VEVENT
BEGIN:VEVENT
DTSTART;TZID=UTC:20240214T170000
DTEND;TZID=UTC:20240214T210000
DTSTAMP:20260422T190540
CREATED:20240116T141135Z
LAST-MODIFIED:20240214T205315Z
UID:10005870-1707930000-1707944400@mrvvillage.com
SUMMARY:MRB Pub Music Series: Jaded Ravins
DESCRIPTION:  \nJoin us for live music\, food & drinks from 5:00-9:00pm. Music featuring Jaded Ravins
URL:https://mrvvillage.com/event/mrb-pub-music-series-jaded-ravins-2/
LOCATION:Mad River Barn
CATEGORIES:Dining,Family Friendly,Live Music,Public Welcome
ATTACH;FMTTYPE=image/png:https://mrvvillage.com/wp-content/uploads/2024/01/Jaded-Ravins-2-Edit-yVsel0.tmp_-XTGU9R.tmp_.png
GEO:44.195472;-72.8915611
END:VEVENT
BEGIN:VEVENT
DTSTART;TZID=UTC:20240221T170000
DTEND;TZID=UTC:20240221T210000
DTSTAMP:20260422T190540
CREATED:20240123T155632Z
LAST-MODIFIED:20240221T220813Z
UID:10005887-1708534800-1708549200@mrvvillage.com
SUMMARY:MRB Pub Music Series: Al’s Pals
DESCRIPTION:Join us for live music\, food & drinks from 5:00-9:00pm. Music featuring Al’s Pals
URL:https://mrvvillage.com/event/mrb-pub-music-series-als-pals-9/
LOCATION:Mad River Barn
CATEGORIES:Dining,Family Friendly,Live Music,Public Welcome
ATTACH;FMTTYPE=image/png:https://mrvvillage.com/wp-content/uploads/2023/12/PalsParty-3E9eEp.tmp_-z7HjPH.tmp_.png
GEO:44.195472;-72.8915611
END:VEVENT
BEGIN:VEVENT
DTSTART;TZID=UTC:20240228T170000
DTEND;TZID=UTC:20240228T210000
DTSTAMP:20260422T190540
CREATED:20240130T172613Z
LAST-MODIFIED:20240228T232316Z
UID:10005904-1709139600-1709154000@mrvvillage.com
SUMMARY:MRB Pub Music Series: Running In Circles
DESCRIPTION:Join us for live music\, food & drinks from 5:00-9:00pm. Music featuring Running In Circles
URL:https://mrvvillage.com/event/mrb-pub-music-series-running-in-circles/
LOCATION:Mad River Barn
CATEGORIES:Dining,Family Friendly,Live Music,Public Welcome
ATTACH;FMTTYPE=image/png:https://mrvvillage.com/wp-content/uploads/2024/01/RIC-r716Sq.tmp_-sgzPy1.tmp_.png
GEO:44.195472;-72.8915611
END:VEVENT
BEGIN:VEVENT
DTSTART;TZID=America/New_York:20240302T210000
DTEND;TZID=America/New_York:20240302T230000
DTSTAMP:20260422T190540
CREATED:20240229T213831Z
LAST-MODIFIED:20240302T233833Z
UID:10005973-1709413200-1709420400@mrvvillage.com
SUMMARY:Hyde Away March Music
DESCRIPTION:Sat 3/2\, 9pm – F.O.B. \nFri 3/8\, 9pm – Local 28 \nSat 3/9\, 4:30pm – Local 28 \nFri 3/15\, 9pm – Straight Jacket Slumber Party \nFollow Us on Facebook for Specifics
URL:https://mrvvillage.com/event/hyde-away-march-music/
LOCATION:Hyde Away Inn\, 1428 Millbrook Rd (VT 17)\, Waitsfield\, 05673
CATEGORIES:Arts & Entertainment,Food & Drink,Live Music
ORGANIZER;CN="Hyde%20Away":MAILTO:hydeaway@madriver.com
GEO:44.1839313;-72.8706225
X-APPLE-STRUCTURED-LOCATION;VALUE=URI;X-ADDRESS=Hyde Away Inn 1428 Millbrook Rd (VT 17) Waitsfield 05673;X-APPLE-RADIUS=500;X-TITLE=1428 Millbrook Rd (VT 17):geo:-72.8706225,44.1839313
END:VEVENT
BEGIN:VEVENT
DTSTART;TZID=UTC:20240306T170000
DTEND;TZID=UTC:20240306T210000
DTSTAMP:20260422T190540
CREATED:20240205T185607Z
LAST-MODIFIED:20240306T225333Z
UID:10005916-1709744400-1709758800@mrvvillage.com
SUMMARY:MRB Pub Music Series: John Lackard Blues Band
DESCRIPTION:Join us for live music\, food & drinks from 5:00-9:00pm. Music featuring John Lackard Blues Band
URL:https://mrvvillage.com/event/mrb-pub-music-series-john-lackard-blues-band-2/
LOCATION:Mad River Barn
CATEGORIES:Dining,Family Friendly,Live Music,Public Welcome
GEO:44.195472;-72.8915611
END:VEVENT
BEGIN:VEVENT
DTSTART;TZID=America/New_York:20240308T210000
DTEND;TZID=America/New_York:20240308T230000
DTSTAMP:20260422T190540
CREATED:20240229T213914Z
LAST-MODIFIED:20240308T230814Z
UID:10005975-1709931600-1709938800@mrvvillage.com
SUMMARY:Hyde Away March Music
DESCRIPTION:Sat 3/2\, 9pm – F.O.B. \nFri 3/8\, 9pm – Local 28 \nSat 3/9\, 4:30pm – Local 28 \nFri 3/15\, 9pm – Straight Jacket Slumber Party \nFollow Us on Facebook for Specifics
URL:https://mrvvillage.com/event/hyde-away-march-music-2/
LOCATION:Hyde Away Inn\, 1428 Millbrook Rd (VT 17)\, Waitsfield\, 05673
CATEGORIES:Arts & Entertainment,Food & Drink,Live Music
ORGANIZER;CN="Hyde%20Away":MAILTO:hydeaway@madriver.com
GEO:44.1839313;-72.8706225
X-APPLE-STRUCTURED-LOCATION;VALUE=URI;X-ADDRESS=Hyde Away Inn 1428 Millbrook Rd (VT 17) Waitsfield 05673;X-APPLE-RADIUS=500;X-TITLE=1428 Millbrook Rd (VT 17):geo:-72.8706225,44.1839313
END:VEVENT
BEGIN:VEVENT
DTSTART;TZID=America/New_York:20240309T163000
DTEND;TZID=America/New_York:20240309T183000
DTSTAMP:20260422T190540
CREATED:20240229T213915Z
LAST-MODIFIED:20240309T230812Z
UID:10005976-1710001800-1710009000@mrvvillage.com
SUMMARY:Hyde Away March Music
DESCRIPTION:Sat 3/2\, 9pm – F.O.B. \nFri 3/8\, 9pm – Local 28 \nSat 3/9\, 4:30pm – Local 28 \nFri 3/15\, 9pm – Straight Jacket Slumber Party \nFollow Us on Facebook for Specifics
URL:https://mrvvillage.com/event/hyde-away-march-music-3/
LOCATION:Hyde Away Inn\, 1428 Millbrook Rd (VT 17)\, Waitsfield\, 05673
CATEGORIES:Arts & Entertainment,Food & Drink,Live Music
ORGANIZER;CN="Hyde%20Away":MAILTO:hydeaway@madriver.com
GEO:44.1839313;-72.8706225
X-APPLE-STRUCTURED-LOCATION;VALUE=URI;X-ADDRESS=Hyde Away Inn 1428 Millbrook Rd (VT 17) Waitsfield 05673;X-APPLE-RADIUS=500;X-TITLE=1428 Millbrook Rd (VT 17):geo:-72.8706225,44.1839313
END:VEVENT
BEGIN:VEVENT
DTSTART;TZID=UTC:20240313T170000
DTEND;TZID=UTC:20240313T210000
DTSTAMP:20260422T190540
CREATED:20240212T194041Z
LAST-MODIFIED:20240313T233811Z
UID:10005925-1710349200-1710363600@mrvvillage.com
SUMMARY:MRB Pub Music Series: Al’s Pals
DESCRIPTION:Join us for live music\, food & drinks from 5:00-9:00pm. Music featuring Al’s Pals
URL:https://mrvvillage.com/event/mrb-pub-music-series-als-pals-10/
LOCATION:Mad River Barn
CATEGORIES:Dining,Family Friendly,Live Music,Public Welcome
ATTACH;FMTTYPE=image/png:https://mrvvillage.com/wp-content/uploads/2023/12/PalsParty-3E9eEp.tmp_-z7HjPH.tmp_.png
GEO:44.195472;-72.8915611
END:VEVENT
BEGIN:VEVENT
DTSTART;TZID=America/New_York:20240315T210000
DTEND;TZID=America/New_York:20240315T230000
DTSTAMP:20260422T190540
CREATED:20240229T213955Z
LAST-MODIFIED:20240315T235310Z
UID:10005978-1710536400-1710543600@mrvvillage.com
SUMMARY:Hyde Away March Music
DESCRIPTION:Sat 3/2\, 9pm – F.O.B. \nFri 3/8\, 9pm – Local 28 \nSat 3/9\, 4:30pm – Local 28 \nFri 3/15\, 9pm – Straight Jacket Slumber Party \nFollow Us on Facebook for Specifics
URL:https://mrvvillage.com/event/hyde-away-march-music-4/
LOCATION:Hyde Away Inn\, 1428 Millbrook Rd (VT 17)\, Waitsfield\, 05673
CATEGORIES:Arts & Entertainment,Food & Drink,Live Music
ORGANIZER;CN="Hyde%20Away":MAILTO:hydeaway@madriver.com
GEO:44.1839313;-72.8706225
X-APPLE-STRUCTURED-LOCATION;VALUE=URI;X-ADDRESS=Hyde Away Inn 1428 Millbrook Rd (VT 17) Waitsfield 05673;X-APPLE-RADIUS=500;X-TITLE=1428 Millbrook Rd (VT 17):geo:-72.8706225,44.1839313
END:VEVENT
BEGIN:VEVENT
DTSTART;TZID=UTC:20240320T170000
DTEND;TZID=UTC:20240320T210000
DTSTAMP:20260422T190540
CREATED:20240219T205526Z
LAST-MODIFIED:20240320T130811Z
UID:10005942-1710954000-1710968400@mrvvillage.com
SUMMARY:MRB Pub Music Series: Ragged Company
DESCRIPTION:Join us for live music\, food & drinks from 5:00-9:00pm. Music featuring Ragged Company
URL:https://mrvvillage.com/event/mrb-pub-music-series-ragged-company-3/
LOCATION:Mad River Barn
CATEGORIES:Dining,Family Friendly,Live Music,Public Welcome
ATTACH;FMTTYPE=image/png:https://mrvvillage.com/wp-content/uploads/2023/12/Ragged-Trio-Chz5Z4.tmp_-99Zjhz.tmp_.png
GEO:44.195472;-72.8915611
END:VEVENT
BEGIN:VEVENT
DTSTART;TZID=America/New_York:20240323T200000
DTEND;TZID=America/New_York:20240323T230000
DTSTAMP:20260422T190540
CREATED:20240321T000841Z
LAST-MODIFIED:20240323T132334Z
UID:10006037-1711224000-1711234800@mrvvillage.com
SUMMARY:Big Pick at the Hyde Away
DESCRIPTION:This Saturday\, all the way from Bristol\, enjoy a bluegrass spin on your favorite songs – no cover!!!
URL:https://mrvvillage.com/event/big-pick-at-the-hyde-away/
LOCATION:Hyde Away Inn\, 1428 Millbrook Rd (VT 17)\, Waitsfield\, 05673
CATEGORIES:Arts & Entertainment,Food & Drink,Live Music
ORGANIZER;CN="Hyde%20Away":MAILTO:hydeaway@madriver.com
GEO:44.1839313;-72.8706225
X-APPLE-STRUCTURED-LOCATION;VALUE=URI;X-ADDRESS=Hyde Away Inn 1428 Millbrook Rd (VT 17) Waitsfield 05673;X-APPLE-RADIUS=500;X-TITLE=1428 Millbrook Rd (VT 17):geo:-72.8706225,44.1839313
END:VEVENT
BEGIN:VEVENT
DTSTART;TZID=UTC:20240327T170000
DTEND;TZID=UTC:20240327T210000
DTSTAMP:20260422T190540
CREATED:20240226T205542Z
LAST-MODIFIED:20240327T133811Z
UID:10005958-1711558800-1711573200@mrvvillage.com
SUMMARY:MRB Pub Music Series: Al’s Pals
DESCRIPTION:Join us for live music\, food & drinks from 5:00-9:00pm. Music featuring Al’s Pals
URL:https://mrvvillage.com/event/mrb-pub-music-series-als-pals-11/
LOCATION:Mad River Barn
CATEGORIES:Dining,Family Friendly,Live Music,Public Welcome
ATTACH;FMTTYPE=image/png:https://mrvvillage.com/wp-content/uploads/2023/12/PalsParty-3E9eEp.tmp_-z7HjPH.tmp_.png
GEO:44.195472;-72.8915611
END:VEVENT
BEGIN:VEVENT
DTSTART;TZID=UTC:20240403T170000
DTEND;TZID=UTC:20240403T210000
DTSTAMP:20260422T190540
CREATED:20240304T222521Z
LAST-MODIFIED:20240403T135323Z
UID:10005984-1712163600-1712178000@mrvvillage.com
SUMMARY:MRB Pub Music Series: Running In Circles
DESCRIPTION:Join us for live music\, food & drinks from 5:00-9:00pm. Music featuring Running In Circles
URL:https://mrvvillage.com/event/mrb-pub-music-series-running-in-circles-2/
LOCATION:Mad River Barn
CATEGORIES:Dining,Family Friendly,Live Music,Public Welcome
ATTACH;FMTTYPE=image/png:https://mrvvillage.com/wp-content/uploads/2024/01/RIC-r716Sq.tmp_-sgzPy1.tmp_.png
GEO:44.195472;-72.8915611
END:VEVENT
BEGIN:VEVENT
DTSTART;TZID=America/New_York:20240408T120000
DTEND;TZID=America/New_York:20240408T170000
DTSTAMP:20260422T190540
CREATED:20240314T235456Z
LAST-MODIFIED:20240408T142307Z
UID:10006020-1712577600-1712595600@mrvvillage.com
SUMMARY:Total Solar Eclipse at Camp Meade
DESCRIPTION:Gather with friends\, family\, and neighbors on the green at Camp Meade for a celestial celebration of this once-in-a-lifetime cosmic crossing. With live music\, street performers\, glassblowing demos by Sam Lightner of Lightner Glass\, kids’ activities\, science-themed story walk\, wood-fired pizza from Red Hen\, food from All Good Eats\, beer/wine by The Local\, and much more. $10/adult (kids are free); each ticket includes ISO-certified eclipse viewing glasses. \nEvent will take place at 961 US Route 2 in Middlesex\, VT. Parking is available at Camp Meade and along US Route 2. No dogs\, folding chairs\, or outside food/drink please.
URL:https://mrvvillage.com/event/total-solar-eclipse-at-camp-meade/
LOCATION:Camp Meade\, 961 ROUTE 2\, middlesex\, 05602
CATEGORIES:Community,Family Friendly,Food & Drink,Live Music
ORGANIZER;CN="Camp%20Meade":MAILTO:info@campmeade.today
GEO:44.2412437;-72.5366148
X-APPLE-STRUCTURED-LOCATION;VALUE=URI;X-ADDRESS=Camp Meade 961 ROUTE 2 middlesex 05602;X-APPLE-RADIUS=500;X-TITLE=961 ROUTE 2:geo:-72.5366148,44.2412437
END:VEVENT
BEGIN:VEVENT
DTSTART;TZID=UTC:20240410T080000
DTEND;TZID=UTC:20240410T170000
DTSTAMP:20260422T190540
CREATED:20240311T231001Z
LAST-MODIFIED:20240410T142320Z
UID:10006010-1712736000-1712768400@mrvvillage.com
SUMMARY:MRB Pub Music Series: Hogback Hollow
DESCRIPTION:Join us for live music\, food & drinks from 5:00-9:00pm. Music featuring Hogback Hollow \nHogback Hollow is an acoustic trio from Addison County VT that writes and performs original music along with some covers. The music of Hogback Hollow is rooted in bluegrass\, folk\, and Americana.\n\nDave Ogrodowczyk – Guitar\, Mandolin\, Vocals\n\n\nMatt Hecklinger – Guitar\, Mandolin\, Vocals\nMike Schuster – Bass\, Vocals\nhttps://www.facebook.com/hogbackhollow\nhttps://www.instagram.com/hogbackhollowmusic
URL:https://mrvvillage.com/event/mrb-pub-music-series-hogback-hollow/
LOCATION:Mad River Barn
CATEGORIES:Dining,Family Friendly,Live Music,Public Welcome
ATTACH;FMTTYPE=image/jpeg:https://mrvvillage.com/wp-content/uploads/2024/03/image0-mDYMFl.tmp_-JsGQKn.tmp_.jpg
GEO:44.195472;-72.8915611
END:VEVENT
BEGIN:VEVENT
DTSTART;TZID=America/New_York:20240418T170000
DTEND;TZID=America/New_York:20240418T200000
DTSTAMP:20260422T190540
CREATED:20240314T235511Z
LAST-MODIFIED:20240418T142309Z
UID:10006021-1713459600-1713470400@mrvvillage.com
SUMMARY:Open Mic Night
DESCRIPTION:Gather with us at The Local for an open mic night hosted by Sarah and Derek in the Tasting Room. All levels of experience are welcome. Dig deep to find that inner songstress\, dancer\, poet\, or performer! There is so much talent in our little neck of the woods\, and we’re happy to give you a space to share it with others. \nPlease RSVP whether you are planning to perform\, spectate\, or spectate until you work up the courage to perform! We will have a special wine & beer by the glass menu as well as a limited food menu for the evening. \nDoors open at 5:00pm. Performances begin at 6:00pm.
URL:https://mrvvillage.com/event/open-mic-night-5/
LOCATION:The Local: Wine & Beer\, 961 US Route 2\, Middlesex\, VT\, 05602\, United States
CATEGORIES:Arts & Entertainment,Community,Dining,Food & Drink,Live Music
ATTACH;FMTTYPE=image/png:https://mrvvillage.com/wp-content/uploads/2024/03/Open-Mic-240418-Ydnet6.tmp_.png
ORGANIZER;CN="The%20Local%3A%20Wine%20%26%23038%3B%20Beer":MAILTO:info@thelocalvt.com
GEO:44.2943225;-72.6828326
X-APPLE-STRUCTURED-LOCATION;VALUE=URI;X-ADDRESS=The Local: Wine & Beer 961 US Route 2 Middlesex VT 05602 United States;X-APPLE-RADIUS=500;X-TITLE=961 US Route 2:geo:-72.6828326,44.2943225
END:VEVENT
BEGIN:VEVENT
DTSTART;TZID=America/New_York:20240426T170000
DTEND;TZID=America/New_York:20240426T180000
DTSTAMP:20260422T190540
CREATED:20240418T142321Z
LAST-MODIFIED:20240426T143809Z
UID:10006080-1714150800-1714154400@mrvvillage.com
SUMMARY:Scrag Mountain Music\, Spiritual Sounding: Sacred Trees
DESCRIPTION:Friday\, April 26 5-6 pm\nMad River Valley Arts\, 5031 Main St\, Waitsfield \nJoin Evan Premo (multi-instrumentalist/composer and Scrag Mountain Music co-Artistic Director) and Mikahely (Burlington-based singer-songwriter instrumentalist originally from Madagascar) as they improvise on instruments made of trees. Evan and Mikahely will musically explore what trees can teach us about who we are as spiritual beings\, and Mikahely will speak about the importance of trees in Madagasy spiritual practice. Evan’s Spiritual Soundings feature improvised loop-based ambient music presented with an intentional theme. The community is invited to participate using any spiritual modality — meditation\, prayer\, deep listening\, movement etc — while holding the intention of the session’s theme. The hope is that this music and these gatherings will facilitate deep meditative experience which connects audiences to one another and all consciousness. \nSpace is limited and there are a limited number of chairs available. Attendees are encouraged to reserve tickets in advance and are invited to bring a cushion or mat to sit on. \nThis program is presented in conjunction with Mad River Valley Arts’s exhibition RISE: Trees\, Our Botanical Giants running through April 26. Reception following the Spiritual Sounding. \nPlease note that space is limited and there are a limited number of chairs available. Attendees are encouraged to reserve “Pay what you can” tickets in advance at scragmountainmusic.org and are invited to bring a cushion or mat to sit on.
URL:https://mrvvillage.com/event/scrag-mountain-music-spiritual-sounding-sacred-trees/
LOCATION:Mad River Valley Arts\, 5031 Main Street #2 Village Square\, Waitsfield\, 05673
CATEGORIES:Arts & Entertainment,Live Music
ATTACH;FMTTYPE=image/jpeg:https://mrvvillage.com/wp-content/uploads/2024/04/IMG_6787-fGZG48.tmp_.jpg
ORGANIZER;CN="Scrag%20Mountain%20Music":MAILTO:Lara@scragmountainmusic.org
GEO:44.1926386;-72.7798479
X-APPLE-STRUCTURED-LOCATION;VALUE=URI;X-ADDRESS=Mad River Valley Arts 5031 Main Street #2 Village Square Waitsfield 05673;X-APPLE-RADIUS=500;X-TITLE=5031 Main Street #2 Village Square:geo:-72.7798479,44.1926386
END:VEVENT
BEGIN:VEVENT
DTSTART;TZID=UTC:20240517T170000
DTEND;TZID=UTC:20240517T210000
DTSTAMP:20260422T190540
CREATED:20240512T043818Z
LAST-MODIFIED:20240517T163813Z
UID:10006148-1715965200-1715979600@mrvvillage.com
SUMMARY:LIVE MUSIC Running In Circles & Wood Fired Friday
DESCRIPTION:Get Fired Up! \nThis week’s line up includes Live Music by Running in Circles with Wood Fired Pizza & other Italian delights!
URL:https://mrvvillage.com/event/live-music-running-in-circles-wood-fired-friday/
LOCATION:Mad River Barn
CATEGORIES:Dining,Family Friendly,Live Music,Public Welcome
GEO:44.195472;-72.8915611
END:VEVENT
BEGIN:VEVENT
DTSTART;TZID=America/New_York:20240519T160000
DTEND;TZID=America/New_York:20240519T173000
DTSTAMP:20260422T190540
CREATED:20240422T143845Z
LAST-MODIFIED:20240519T163808Z
UID:10006081-1716134400-1716139800@mrvvillage.com
SUMMARY:Bella Voce “Singing and Living in Harmony” Spring Concert
DESCRIPTION:The “Singing and Living in Harmony” theme of the concerts speaks to the important role that music plays in our own personal life and in our connections with others.   Music of Hildegard von Bingen\, Ola Gjeilo\, Gwyneth Walker\, and more.\nGuest Artists: The Hildegard Ensemble\, (for Stowe:) and Students of Stowe Middle High School\nFor a full description of the program\, visit our website at https://bellavocevt.org/events#spring2024
URL:https://mrvvillage.com/event/bella-voce-singing-and-living-in-harmony-spring-concert/
LOCATION:Stowe Community Church\, 137 Main Street\, MIDDLESEX\, Vermont\, Stowe\, United States
CATEGORIES:Arts & Entertainment,Live Music
ATTACH;FMTTYPE=image/jpeg:https://mrvvillage.com/wp-content/uploads/2024/04/BV-SPRING-FLIER-u7OOsL.tmp_.jpg
ORGANIZER;CN="Bella%20Voce%20Women%26%238217%3Bs%20Chorus":MAILTO:vikki@bellavocevt.org
GEO:44.4654332;-72.6874023
X-APPLE-STRUCTURED-LOCATION;VALUE=URI;X-ADDRESS=Stowe Community Church 137 Main Street MIDDLESEX Vermont Stowe United States;X-APPLE-RADIUS=500;X-TITLE=137 Main Street:geo:-72.6874023,44.4654332
END:VEVENT
BEGIN:VEVENT
DTSTART;TZID=America/New_York:20240519T163000
DTEND;TZID=America/New_York:20240519T193000
DTSTAMP:20260422T190540
CREATED:20240511T043829Z
LAST-MODIFIED:20240519T163808Z
UID:10006146-1716136200-1716147000@mrvvillage.com
SUMMARY:THE HARWOOD ASSEMBLY BAND AT OUR CONCERTS ON THE GREEN
DESCRIPTION:Kick off our summer community concert series with Harwood High School’s flagship modern music ensemble – The Assembly Band. \nFeaturing some of the best youth talent in Vermont\, this 14-piece band leans into the jam-band-funk-pop realm performing music from the likes of Stevie Wonder\, Tedeschi Trucks\, Grateful Dead\, Ozomatli\, The Doobie Brothers\, Sammy Rae and The Friends and more!
URL:https://mrvvillage.com/event/the-harwood-assembly-band-at-our-concerts-on-the-green/
LOCATION:Camp Meade\, 961 ROUTE 2\, middlesex\, 05602
CATEGORIES:Arts & Entertainment,Community,Live Music
ATTACH;FMTTYPE=image/jpeg:https://mrvvillage.com/wp-content/uploads/2024/05/IMG_0167-pLjoxT.tmp_.jpg
GEO:44.2412437;-72.5366148
X-APPLE-STRUCTURED-LOCATION;VALUE=URI;X-ADDRESS=Camp Meade 961 ROUTE 2 middlesex 05602;X-APPLE-RADIUS=500;X-TITLE=961 ROUTE 2:geo:-72.5366148,44.2412437
END:VEVENT
BEGIN:VEVENT
DTSTART;TZID=UTC:20240524T170000
DTEND;TZID=UTC:20240524T210000
DTSTAMP:20260422T190540
CREATED:20240512T043845Z
LAST-MODIFIED:20240524T172310Z
UID:10006151-1716570000-1716584400@mrvvillage.com
SUMMARY:LIVE MUSIC Ragged Company & Wood Fired Friday
DESCRIPTION:Get Fired Up! \nFor our Final Wood Fired Friday we have Live Music by Ragged Company with Wood Fired Pizzas and other Italian delights! \n 
URL:https://mrvvillage.com/event/live-music-ragged-company-wood-fired-friday/
LOCATION:Mad River Barn
CATEGORIES:Dining,Family Friendly,Live Music,Public Welcome
GEO:44.195472;-72.8915611
END:VEVENT
BEGIN:VEVENT
DTSTART;TZID=UTC:20240525T170000
DTEND;TZID=UTC:20240525T210000
DTSTAMP:20260422T190540
CREATED:20240512T043845Z
LAST-MODIFIED:20240525T172313Z
UID:10006152-1716656400-1716670800@mrvvillage.com
SUMMARY:Stone Bishop Backyard BBQ Benefit Concert
DESCRIPTION:Join us Saturday May 25th from 5 – 9pm in our events pavilion for a community benefit concert. \nLive Music provided by Running In Circles \nMad River Barn will be cooking up classic backyard BBQ fare for purchase \nCash Bar | Silent Auction \nProceeds will benefit Mike Bishop & Rebekah Stone with the financial hardships of their growing family \n 
URL:https://mrvvillage.com/event/stone-bishop-backyard-bbq-benefit-concert/
LOCATION:Mad River Barn
CATEGORIES:Dining,Family Friendly,Live Music,Public Welcome
GEO:44.195472;-72.8915611
END:VEVENT
BEGIN:VEVENT
DTSTART;TZID=America/New_York:20240530T173000
DTEND;TZID=America/New_York:20240530T200000
DTSTAMP:20260422T190540
CREATED:20240509T042340Z
LAST-MODIFIED:20240530T173809Z
UID:10006114-1717090200-1717099200@mrvvillage.com
SUMMARY:Open Mic Night
DESCRIPTION:Gather with us at The Local for an open mic night hosted by Sarah and Derek in the Tasting Room. All levels of experience are welcome. Dig deep to find that inner songstress\, dancer\, poet\, or performer! There is so much talent in our little neck of the woods\, and we’re happy to give you a space to share it with others. \nPlease RSVP whether you are planning to perform\, spectate\, or spectate until you work up the courage to perform! We will have a special wine & beer by the glass menu as well as a limited food menu for the evening. \nDoors open at 5:00pm. Performances begin at 6:00pm.
URL:https://mrvvillage.com/event/open-mic-night-6/
LOCATION:The Local: Wine & Beer\, 961 US Route 2\, Middlesex\, VT\, 05602\, United States
CATEGORIES:Arts & Entertainment,Live Music
ATTACH;FMTTYPE=image/png:https://mrvvillage.com/wp-content/uploads/2024/05/Open-Mic-053024-f7vESw.tmp_.png
ORGANIZER;CN="The%20Local%3A%20Wine%20%26%23038%3B%20Beer":MAILTO:info@thelocalvt.com
GEO:44.2943225;-72.6828326
X-APPLE-STRUCTURED-LOCATION;VALUE=URI;X-ADDRESS=The Local: Wine & Beer 961 US Route 2 Middlesex VT 05602 United States;X-APPLE-RADIUS=500;X-TITLE=961 US Route 2:geo:-72.6828326,44.2943225
END:VEVENT
BEGIN:VEVENT
DTSTART;TZID=America/New_York:20240618T190000
DTEND;TZID=America/New_York:20240618T210000
DTSTAMP:20260422T190540
CREATED:20240614T183835Z
LAST-MODIFIED:20240618T192316Z
UID:10006282-1718737200-1718744400@mrvvillage.com
SUMMARY:ZACH NUGENT from the MAD HOTEL
DESCRIPTION:From the Mad Hotel straight to your ears. Join local phenom Zach Nugent every Tuesday\, all summer. Zach plays Jerry Garcia’s whole catalog from the classics everyone knows to deep cuts that please the true nerds among us\, and more. Thanks to Frost Beer Works for supporting live music.\n$10 suggested donation.
URL:https://mrvvillage.com/event/zach-nugent-from-the-mad-hotel/
LOCATION:Mad Bush Falls\, 7575 Main Street\, Waitsfield\, VT\, 05673\, United States
CATEGORIES:Food & Drink,Live Music
ATTACH;FMTTYPE=image/png:https://mrvvillage.com/wp-content/uploads/2024/06/Mad-Hotel-rfmQGa.tmp_.png
ORGANIZER;CN="Madbush%20Falls":MAILTO:info@madbushfalls.com
GEO:44.1525119;-72.835302
X-APPLE-STRUCTURED-LOCATION;VALUE=URI;X-ADDRESS=Mad Bush Falls 7575 Main Street Waitsfield VT 05673 United States;X-APPLE-RADIUS=500;X-TITLE=7575 Main Street:geo:-72.835302,44.1525119
END:VEVENT
BEGIN:VEVENT
DTSTART;TZID=UTC:20240627T173000
DTEND;TZID=UTC:20240627T203000
DTSTAMP:20260422T190540
CREATED:20240626T210821Z
LAST-MODIFIED:20240627T212320Z
UID:10006372-1719509400-1719520200@mrvvillage.com
SUMMARY:LIVE MUSIC & PUB NIGHT Featuring Al’s Pals!
DESCRIPTION:Join us in the pub for all your favorite Mad River Barn menu items with live music from Ragged Company. Open 5pm – 9pm.
URL:https://mrvvillage.com/event/live-music-pub-night-featuring-als-pals/
LOCATION:Mad River Barn
CATEGORIES:Dining,Family Friendly,Live Music,Public Welcome
GEO:44.195472;-72.8915611
END:VEVENT
BEGIN:VEVENT
DTSTART;TZID=UTC:20240627T173000
DTEND;TZID=UTC:20240627T203000
DTSTAMP:20260422T190540
CREATED:20240626T210821Z
LAST-MODIFIED:20240627T212320Z
UID:10006373-1719509400-1719520200@mrvvillage.com
SUMMARY:LIVE MUSIC & PUB NIGHT Featuring Al’s Pals!
DESCRIPTION:Join us in the pub for all your favorite Mad River Barn menu items with live music from Ragged Company. Open 5pm – 9pm.
URL:https://mrvvillage.com/event/live-music-pub-night-featuring-als-pals-2/
LOCATION:Mad River Barn
CATEGORIES:Dining,Family Friendly,Live Music,Public Welcome
GEO:44.195472;-72.8915611
END:VEVENT
END:VCALENDAR