BEGIN:VCALENDAR
VERSION:2.0
PRODID:-//The Mad River Valley Village - ECPv6.0.13//NONSGML v1.0//EN
CALSCALE:GREGORIAN
METHOD:PUBLISH
X-ORIGINAL-URL:https://mrvvillage.com
X-WR-CALDESC:Events for The Mad River Valley Village
REFRESH-INTERVAL;VALUE=DURATION:PT1H
X-Robots-Tag:noindex
X-PUBLISHED-TTL:PT1H
BEGIN:VTIMEZONE
TZID:America/New_York
BEGIN:DAYLIGHT
TZOFFSETFROM:-0500
TZOFFSETTO:-0400
TZNAME:EDT
DTSTART:20230312T070000
END:DAYLIGHT
BEGIN:STANDARD
TZOFFSETFROM:-0400
TZOFFSETTO:-0500
TZNAME:EST
DTSTART:20231105T060000
END:STANDARD
END:VTIMEZONE
BEGIN:VEVENT
DTSTART;TZID=America/New_York:20230602T170000
DTEND;TZID=America/New_York:20230602T200000
DTSTAMP:20260421T215607
CREATED:20230516T024129Z
LAST-MODIFIED:20230602T232315Z
UID:10003954-1685725200-1685736000@mrvvillage.com
SUMMARY:David Feurzeig plays our Free Concert on the Green!
DESCRIPTION:All are welcome David Feurzeig plays piano at every town in Vermont (also the Camp Meade free concert on the Green)! Come watch the magic happen. Doors at 5:00pm and music begins at 5:30pm.
URL:https://mrvvillage.com/event/david-feurzeig-plays-our-free-concert-on-the-green/
LOCATION:Camp Meade\, 961 ROUTE 2\, middlesex\, 05602
CATEGORIES:Live Music
ATTACH;FMTTYPE=image/jpeg:https://mrvvillage.com/wp-content/uploads/2023/05/David-Feurzeig-piano-mUI4He.tmp_.jpg
ORGANIZER;CN="Camp%20Meade":MAILTO:info@campmeade.today
GEO:44.2412437;-72.5366148
X-APPLE-STRUCTURED-LOCATION;VALUE=URI;X-ADDRESS=Camp Meade 961 ROUTE 2 middlesex 05602;X-APPLE-RADIUS=500;X-TITLE=961 ROUTE 2:geo:-72.5366148,44.2412437
END:VEVENT
BEGIN:VEVENT
DTSTART;TZID=America/New_York:20230604T170000
DTEND;TZID=America/New_York:20230604T200000
DTSTAMP:20260421T215607
CREATED:20230516T024200Z
LAST-MODIFIED:20230604T235314Z
UID:10003955-1685898000-1685908800@mrvvillage.com
SUMMARY:Sunday Service with Bob Wagner and Friends at our Free Concert on the Green!
DESCRIPTION:Join us as we feed our souls at the Sunday Service with Bob Wagner and Friends. You won’t want to miss this monthly residency on the Green! Doors at 5pm\, band begins at 5:30pm.
URL:https://mrvvillage.com/event/sunday-service-with-bob-wagner-and-friends-at-our-free-concert-on-the-green/
LOCATION:Camp Meade\, 961 ROUTE 2\, middlesex\, 05602
CATEGORIES:Live Music
ATTACH;FMTTYPE=image/jpeg:https://mrvvillage.com/wp-content/uploads/2023/05/Bob-Wagner-playing-BW-qLsISQ.tmp_.jpg
ORGANIZER;CN="Camp%20Meade":MAILTO:info@campmeade.today
GEO:44.2412437;-72.5366148
X-APPLE-STRUCTURED-LOCATION;VALUE=URI;X-ADDRESS=Camp Meade 961 ROUTE 2 middlesex 05602;X-APPLE-RADIUS=500;X-TITLE=961 ROUTE 2:geo:-72.5366148,44.2412437
END:VEVENT
END:VCALENDAR