BEGIN:VCALENDAR
VERSION:2.0
PRODID:-//The Mad River Valley Village - ECPv6.0.13//NONSGML v1.0//EN
CALSCALE:GREGORIAN
METHOD:PUBLISH
X-ORIGINAL-URL:https://mrvvillage.com
X-WR-CALDESC:Events for The Mad River Valley Village
REFRESH-INTERVAL;VALUE=DURATION:PT1H
X-Robots-Tag:noindex
X-PUBLISHED-TTL:PT1H
BEGIN:VTIMEZONE
TZID:UTC
BEGIN:STANDARD
TZOFFSETFROM:+0000
TZOFFSETTO:+0000
TZNAME:UTC
DTSTART:20230101T000000
END:STANDARD
TZID:America/New_York
BEGIN:DAYLIGHT
TZOFFSETFROM:-0500
TZOFFSETTO:-0400
TZNAME:EDT
DTSTART:20230312T070000
END:DAYLIGHT
BEGIN:STANDARD
TZOFFSETFROM:-0400
TZOFFSETTO:-0500
TZNAME:EST
DTSTART:20231105T060000
END:STANDARD
END:VTIMEZONE
BEGIN:VEVENT
DTSTART;TZID=UTC:20230615T170000
DTEND;TZID=UTC:20230615T210000
DTSTAMP:20260421T215639
CREATED:20230516T194239Z
LAST-MODIFIED:20230615T133817Z
UID:10003963-1686848400-1686862800@mrvvillage.com
SUMMARY:Pub Music Series: Some Hollow
DESCRIPTION:Join us for live music\, food & drinks from 5:00-9:00pm. Music featuring Some Hollow
URL:https://mrvvillage.com/event/pub-music-series/
CATEGORIES:Dining,Family Friendly,Live Music,Public Welcome
END:VEVENT
BEGIN:VEVENT
DTSTART;TZID=America/New_York:20230618T170000
DTEND;TZID=America/New_York:20230618T200000
DTSTAMP:20260421T215639
CREATED:20230516T024319Z
LAST-MODIFIED:20230618T140826Z
UID:10003956-1687107600-1687118400@mrvvillage.com
SUMMARY:Dave Keller Band at our Free Concert on the Green!
DESCRIPTION:Dave Keller is releasing a brand new album this summer! Be sure to pick it up when it is available and come check out the band as they play live just for you. Doors at 5pm\, band begins at 5:30pm
URL:https://mrvvillage.com/event/dave-keller-band-at-our-free-concert-on-the-green/
LOCATION:Camp Meade\, 961 ROUTE 2\, middlesex\, 05602
CATEGORIES:Live Music
ATTACH;FMTTYPE=image/jpeg:https://mrvvillage.com/wp-content/uploads/2023/05/Dave-Keller-EsVOEt.tmp_.jpg
ORGANIZER;CN="Camp%20Meade":MAILTO:info@campmeade.today
GEO:44.2412437;-72.5366148
X-APPLE-STRUCTURED-LOCATION;VALUE=URI;X-ADDRESS=Camp Meade 961 ROUTE 2 middlesex 05602;X-APPLE-RADIUS=500;X-TITLE=961 ROUTE 2:geo:-72.5366148,44.2412437
END:VEVENT
END:VCALENDAR