BEGIN:VCALENDAR
VERSION:2.0
PRODID:-//The Mad River Valley Village - ECPv6.0.13//NONSGML v1.0//EN
CALSCALE:GREGORIAN
METHOD:PUBLISH
X-ORIGINAL-URL:https://mrvvillage.com
X-WR-CALDESC:Events for The Mad River Valley Village
REFRESH-INTERVAL;VALUE=DURATION:PT1H
X-Robots-Tag:noindex
X-PUBLISHED-TTL:PT1H
BEGIN:VTIMEZONE
TZID:UTC
BEGIN:STANDARD
TZOFFSETFROM:+0000
TZOFFSETTO:+0000
TZNAME:UTC
DTSTART:20230101T000000
END:STANDARD
TZID:America/New_York
BEGIN:DAYLIGHT
TZOFFSETFROM:-0500
TZOFFSETTO:-0400
TZNAME:EDT
DTSTART:20230312T070000
END:DAYLIGHT
BEGIN:STANDARD
TZOFFSETFROM:-0400
TZOFFSETTO:-0500
TZNAME:EST
DTSTART:20231105T060000
END:STANDARD
END:VTIMEZONE
BEGIN:VEVENT
DTSTART;TZID=UTC:20230622T170000
DTEND;TZID=UTC:20230622T210000
DTSTAMP:20260421T215647
CREATED:20230523T212619Z
LAST-MODIFIED:20230622T172932Z
UID:10003995-1687453200-1687467600@mrvvillage.com
SUMMARY:Pub Music Series: Granville Daze
DESCRIPTION:Join us for live music\, food & drinks from 5:00-9:00pm. Music featuring Granville Daze
URL:https://mrvvillage.com/event/pub-music-series-granville-daze/
CATEGORIES:Dining,Family Friendly,Live Music,Public Welcome
ATTACH;FMTTYPE=image/jpeg:https://mrvvillage.com/wp-content/uploads/2023/06/EatLocalLOGOMRB-pdf-afCR6P.tmp_.jpg
END:VEVENT
BEGIN:VEVENT
DTSTART;TZID=America/New_York:20230623T170000
DTEND;TZID=America/New_York:20230623T200000
DTSTAMP:20260421T215647
CREATED:20230520T204155Z
LAST-MODIFIED:20230623T173820Z
UID:10003986-1687539600-1687550400@mrvvillage.com
SUMMARY:Madigan Linnane plays our Free Concert on the Green!
DESCRIPTION:Join us as we welcome Madigan to the Green! We think you will agree that her thoughtful lyrics\, drawn from emotional life experiences\, combine beautifully with her modern folk/pop/indie musical style. Doors at 5pm\, music begins at 5:30pm.
URL:https://mrvvillage.com/event/madigan-linnane-plays-our-free-concert-on-the-green/
LOCATION:Camp Meade\, 961 ROUTE 2\, middlesex\, 05602
CATEGORIES:Arts & Entertainment,Community,Family Friendly,Food & Drink,Live Music
ATTACH;FMTTYPE=image/jpeg:https://mrvvillage.com/wp-content/uploads/2023/05/Madigan-L-rZeToT.tmp_.jpg
ORGANIZER;CN="Camp%20Meade":MAILTO:info@campmeade.today
GEO:44.2412437;-72.5366148
X-APPLE-STRUCTURED-LOCATION;VALUE=URI;X-ADDRESS=Camp Meade 961 ROUTE 2 middlesex 05602;X-APPLE-RADIUS=500;X-TITLE=961 ROUTE 2:geo:-72.5366148,44.2412437
END:VEVENT
BEGIN:VEVENT
DTSTART;TZID=America/New_York:20230625T170000
DTEND;TZID=America/New_York:20230625T200000
DTSTAMP:20260421T215647
CREATED:20230516T024404Z
LAST-MODIFIED:20230625T180818Z
UID:10003957-1687712400-1687723200@mrvvillage.com
SUMMARY:Three String Circus at our Free Concert on the Green!
DESCRIPTION:All are  welcome for the latest D. Davis musical collaboration\, Three String Circus to the Green! Always interesting\, always great music – come on out. Doors at 5pm and band begins at 5:30pm.
URL:https://mrvvillage.com/event/three-string-circus-at-our-free-concert-on-the-green/
LOCATION:Camp Meade\, 961 ROUTE 2\, middlesex\, 05602
CATEGORIES:Arts & Entertainment,Live Music
ATTACH;FMTTYPE=image/jpeg:https://mrvvillage.com/wp-content/uploads/2023/05/THREE-STR-No2vlh.tmp_.jpg
ORGANIZER;CN="Camp%20Meade":MAILTO:info@campmeade.today
GEO:44.2412437;-72.5366148
X-APPLE-STRUCTURED-LOCATION;VALUE=URI;X-ADDRESS=Camp Meade 961 ROUTE 2 middlesex 05602;X-APPLE-RADIUS=500;X-TITLE=961 ROUTE 2:geo:-72.5366148,44.2412437
END:VEVENT
END:VCALENDAR