BEGIN:VCALENDAR
VERSION:2.0
PRODID:-//The Mad River Valley Village - ECPv6.0.13//NONSGML v1.0//EN
CALSCALE:GREGORIAN
METHOD:PUBLISH
X-WR-CALNAME:The Mad River Valley Village
X-ORIGINAL-URL:https://mrvvillage.com
X-WR-CALDESC:Events for The Mad River Valley Village
REFRESH-INTERVAL;VALUE=DURATION:PT1H
X-Robots-Tag:noindex
X-PUBLISHED-TTL:PT1H
BEGIN:VTIMEZONE
TZID:UTC
BEGIN:STANDARD
TZOFFSETFROM:+0000
TZOFFSETTO:+0000
TZNAME:UTC
DTSTART:20230101T000000
END:STANDARD
TZID:America/Halifax
BEGIN:DAYLIGHT
TZOFFSETFROM:-0400
TZOFFSETTO:-0300
TZNAME:ADT
DTSTART:20230312T060000
END:DAYLIGHT
BEGIN:STANDARD
TZOFFSETFROM:-0300
TZOFFSETTO:-0400
TZNAME:AST
DTSTART:20231105T050000
END:STANDARD
TZID:America/New_York
BEGIN:DAYLIGHT
TZOFFSETFROM:-0500
TZOFFSETTO:-0400
TZNAME:EDT
DTSTART:20230312T070000
END:DAYLIGHT
BEGIN:STANDARD
TZOFFSETFROM:-0400
TZOFFSETTO:-0500
TZNAME:EST
DTSTART:20231105T060000
END:STANDARD
END:VTIMEZONE
BEGIN:VEVENT
DTSTART;TZID=UTC:20230907T170000
DTEND;TZID=UTC:20230907T210000
DTSTAMP:20260423T053517
CREATED:20230809T034148Z
LAST-MODIFIED:20230907T235421Z
UID:10004569-1694106000-1694120400@mrvvillage.com
SUMMARY:MRB Pub Music Series: Running in Circles (RIC)
DESCRIPTION:Join us for live music\, food & drinks from 5:00-9:00pm. Music featuring Running in Circles (RIC)
URL:https://mrvvillage.com/event/mrb-pub-music-series-joshs-new-band/
CATEGORIES:Dining,Family Friendly,Live Music,Public Welcome
END:VEVENT
BEGIN:VEVENT
DTSTART;TZID=America/Halifax:20230909T110000
DTEND;TZID=America/Halifax:20230909T200000
DTSTAMP:20260423T053517
CREATED:20230816T051312Z
LAST-MODIFIED:20230909T120843Z
UID:10004738-1694257200-1694289600@mrvvillage.com
SUMMARY:Lawson’s Finest Liquids Birthday Bash: Saturday
DESCRIPTION:Five sips around the sun and the fun has just begun!\nIt has been 5 years since we opened our taproom in Waitsfield and 15 years since the start of Lawson’s Finest Liquids. To celebrate this milestone\, we are having a party and you’re all invited! Come on down to cheers our specialty beers\, and a keep-the-glass special! \nFood: The Feed Lot (cash only)\, Nor’easter Catering\, Green Mountain Twisters Pretzels and 802 Ice Cream Bars. \nActivities: Tie-dye\, Friendly Lens VW Photobus\, brewery tours\, Yoga w/ Emma(11:30-12:30) and Caricatures! \nLive music: 12:30-2:30 Ragged Company \n3:30-5:00 Good Morning Gils \n6:00-8:00 Lazer Dad \n 
URL:https://mrvvillage.com/event/lawsons-finest-liquids-birthday-celebration/
LOCATION:Lawson’s Finest Taproom\, 155 Carroll Road\, Waitsfield\, Vermont\, 05673
CATEGORIES:Community,Food & Drink,Live Music
ATTACH;FMTTYPE=image/jpeg:https://mrvvillage.com/wp-content/uploads/2023/08/TaproomBirthdayBashPoster_2023-scaled-e1692821432632-yEsmuz.tmp_-BbzPcn.tmp_.jpg
ORGANIZER;CN="Lawson%26%238217%3Bs%20Finest%20Liquids":MAILTO:hello@lawsonsfinest.com
GEO:44.1878437;-72.8352541
X-APPLE-STRUCTURED-LOCATION;VALUE=URI;X-ADDRESS=Lawson’s Finest Taproom 155 Carroll Road Waitsfield Vermont 05673;X-APPLE-RADIUS=500;X-TITLE=155 Carroll Road:geo:-72.8352541,44.1878437
END:VEVENT
BEGIN:VEVENT
DTSTART;TZID=UTC:20230910T130000
DTEND;TZID=UTC:20230910T170000
DTSTAMP:20260423T053517
CREATED:20230812T042631Z
LAST-MODIFIED:20230910T122355Z
UID:10004573-1694350800-1694365200@mrvvillage.com
SUMMARY:Fracas on the Farm
DESCRIPTION:An Annual Fundraiser to Support VT Farm and Agriculture\nTickets & more info at: www.madriverbarnvt.com \n\n\n\n\n\n\nThe Mad River Barn\, in collaboration with Ploughgate\, is proud to host Fracas on the Farm; an annual celebration of the exquisite beauty of the Mad River Valley. Rooted in our commitment to supporting Vermont’s Farm and Agriculture organizations\, Fracas on the Farm brings together our community to experience the magic of local music\, culinary delights\, and artistic expressions. Through purposeful partnerships with regional arts and culinary businesses\, we offer families a unique opportunity to immerse themselves in the wonders of our vibrant local culture. \nCentral to our mission is giving back to the Vermont Farm & Agriculture community that sustains us. Every year\, a significant portion of all proceeds is thoughtfully donated to essential Farm & Agriculture organizations\, vital pillars of the Vermont economy. In 2023\, We proudly direct a portion of the proceeds to support the Vermont Farm Fund and the Northeast Organic Farming Association [NOFA]\, supporting their tireless efforts to provost sustainable farming practices and fostering a resilient agriculture community. \nThrough Fracas on the Farm\, we endeavor to foster a sense of gratitude and stewardship for the Mad River Valley while nurturing connections that strengthen our community. Guided by our shared values of sustainability\, collaboration\, and appreciation for local traditions\, we are dedicated to creating an enduring legacy that enriches the lives of everyone who has the privledge of experiencing Vermont.
URL:https://mrvvillage.com/event/fracas-on-the-farm/
CATEGORIES:Family Friendly,Live Music,Public Welcome,Ticketed Event
END:VEVENT
BEGIN:VEVENT
DTSTART;TZID=America/New_York:20230910T170000
DTEND;TZID=America/New_York:20230910T200000
DTSTAMP:20260423T053517
CREATED:20230831T221045Z
LAST-MODIFIED:20230910T122356Z
UID:10005091-1694365200-1694376000@mrvvillage.com
SUMMARY:Alex Stewart & Friends (featuring Geoff Kim) at our Concerts on the Green!
DESCRIPTION:Join us for great Jazz\, Latin and Funk with Alex Stewart and Friends\, featuring Geoff Kim. Come check out this incredible band:\nAlex Stewart\, saxophone\nGeoff Kim\, guitar\nMike Hartigan\, keyboards\nJeremy Hill\, bass\nGeza Carr\, drums.\nDoors at 5pm\, band begins at 5:30pm.
URL:https://mrvvillage.com/event/alex-stewart-friends-featuring-geoff-kim-at-our-concerts-on-the-green/
LOCATION:Camp Meade\, 961 ROUTE 2\, middlesex\, 05602
CATEGORIES:Arts & Entertainment,Live Music
ATTACH;FMTTYPE=image/jpeg:https://mrvvillage.com/wp-content/uploads/2023/08/Alex-Stewart-Friends-cover-4IiwxJ.tmp_.jpg
ORGANIZER;CN="Camp%20Meade":MAILTO:info@campmeade.today
GEO:44.2412437;-72.5366148
X-APPLE-STRUCTURED-LOCATION;VALUE=URI;X-ADDRESS=Camp Meade 961 ROUTE 2 middlesex 05602;X-APPLE-RADIUS=500;X-TITLE=961 ROUTE 2:geo:-72.5366148,44.2412437
END:VEVENT
END:VCALENDAR