BEGIN:VCALENDAR
VERSION:2.0
PRODID:-//The Mad River Valley Village - ECPv6.0.13//NONSGML v1.0//EN
CALSCALE:GREGORIAN
METHOD:PUBLISH
X-WR-CALNAME:The Mad River Valley Village
X-ORIGINAL-URL:https://mrvvillage.com
X-WR-CALDESC:Events for The Mad River Valley Village
REFRESH-INTERVAL;VALUE=DURATION:PT1H
X-Robots-Tag:noindex
X-PUBLISHED-TTL:PT1H
BEGIN:VTIMEZONE
TZID:America/New_York
BEGIN:DAYLIGHT
TZOFFSETFROM:-0500
TZOFFSETTO:-0400
TZNAME:EDT
DTSTART:20250309T070000
END:DAYLIGHT
BEGIN:STANDARD
TZOFFSETFROM:-0400
TZOFFSETTO:-0500
TZNAME:EST
DTSTART:20251102T060000
END:STANDARD
END:VTIMEZONE
BEGIN:VEVENT
DTSTART;TZID=America/New_York:20251211T190000
DTEND;TZID=America/New_York:20251211T203000
DTSTAMP:20260422T032754
CREATED:20251126T135436Z
LAST-MODIFIED:20251211T230826Z
UID:10009342-1765479600-1765485000@mrvvillage.com
SUMMARY:Play Every Town Concert
DESCRIPTION:Pianist David Feurzeig will perform his 91st Vermont concert in Fayston\, at the Green Mountain Valley School\, 271 Moulton Rd\, Waitsfield VT\, with local performer Gamal Buhaina\, continuing David’s exciting tour–a free show in all of Vermont’s 252 towns to spread the joy of music and promote environmentally sustainable performance. \nIn May of 2022\, he embarked on his Play Every Town project: 252 free concerts in each of Vermont’s 252 towns to combat climate change through the power of community and music. With this project David will become the first musician to perform in every Vermont municipality. \nHe will travel in his solar-charged electric vehicle throughout the state\, offering free concerts to bring attention to the interrelated issues of climate and community\, while bringing the joy of music to his audiences.
URL:https://mrvvillage.com/event/play-every-town-concert/
LOCATION:Green Mountain Valley School\, 271 Moulton Road\, Waitsfield\, Vermont\, 05673
CATEGORIES:Live Music
ATTACH;FMTTYPE=image/jpeg:https://mrvvillage.com/wp-content/uploads/2025/11/David-Feurzeig-photo-E6vwMG.jpg
ORGANIZER;CN="Play%20Every%20Town":MAILTO:playeverytown@gmail.com
GEO:44.1854794;-72.8535654
X-APPLE-STRUCTURED-LOCATION;VALUE=URI;X-ADDRESS=Green Mountain Valley School 271 Moulton Road Waitsfield Vermont 05673;X-APPLE-RADIUS=500;X-TITLE=271 Moulton Road:geo:-72.8535654,44.1854794
END:VEVENT
BEGIN:VEVENT
DTSTART;TZID=America/New_York:20251212T193000
DTEND;TZID=America/New_York:20251212T220000
DTSTAMP:20260422T032754
CREATED:20251205T222421Z
LAST-MODIFIED:20251212T232329Z
UID:10009387-1765567800-1765576800@mrvvillage.com
SUMMARY:Mad River Chorale Holiday Concert
DESCRIPTION:Mad River Chorale Holiday Concert \nHope Lights The Way\n  \nMary Jane Austin\, conductor \nAlison Cerutti\, pianist \nMusic of Charpentier\, Lauridsen\, Gjeilo\, Sweelinck & Victoria \nString Quintet\, Flutes & piano \nSing A Long\, Holiday Caroles & The Halleluja Chorus
URL:https://mrvvillage.com/event/mad-river-chorale-holiday-concert/
LOCATION:Waitsfield United Church of Christ\, 4355 Main Street\, Waitsfield\, Vermont\, 05673\, United States
CATEGORIES:Community,Family Friendly,Live Music,Public Welcome
ATTACH;FMTTYPE=image/jpeg:https://mrvvillage.com/wp-content/uploads/2025/12/MRVChoraleHoliday2025-zr8Qhz.jpg
GEO:44.1926386;-72.7798479
X-APPLE-STRUCTURED-LOCATION;VALUE=URI;X-ADDRESS=Waitsfield United Church of Christ 4355 Main Street Waitsfield Vermont 05673 United States;X-APPLE-RADIUS=500;X-TITLE=4355 Main Street:geo:-72.7798479,44.1926386
END:VEVENT
BEGIN:VEVENT
DTSTART;TZID=America/New_York:20251213T190000
DTEND;TZID=America/New_York:20251213T210000
DTSTAMP:20260422T032754
CREATED:20251210T230853Z
LAST-MODIFIED:20251213T233839Z
UID:10009402-1765652400-1765659600@mrvvillage.com
SUMMARY:Broadway Rocks: Home for the Holidays
DESCRIPTION:Broadway Rocks: Home for the Holidays brings an intimate acoustic performance to the beautiful Waterbury Congregational Church on Saturday\, December 13\, 2025\, at 7:00 PM. This special evening will showcase real Broadway actors performing alongside piano in one of Vermont’s most resonant and picturesque spaces. \nTickets are available online\nat https://broadwayrocks.ticketspice.com/broadway-rocks-huhs-home-for-the-holidays-2025. \nThe Waterbury Congregational Church has arranged for Broadway Rocks to present a concert that highlights the warmth\, beauty\, and clarity of the church’s historic sanctuary. Guests will experience cherished holiday music and Broadway favorites performed with the simplicity and elegance of acoustic arrangements\, allowing the artists’ voices and stories to take center stage. \nThis performance continues the Broadway Rocks tradition of sharing world-class music with Vermont communities while supporting the importance of the performing arts in local schools and organizations. Community members are invited to enjoy a heartfelt and unforgettable evening of seasonal music inside one of Waterbury’s most beloved and inspiring venues. \nAbout Merritt David Janes \nOriginally from Colchester\, Vermont\, Janes is a graduate of the Circle in the Square Theatre School in New York City and is an alumnus of the University of Maine (Class of ’04; 2012 recipient of the Spirit of Maine Alumni Achievement Award). Janes’professional career began playing the title role in the first Broadway National Tour of the Wedding Singer as Robbie Hart. He then moved immediately into his second Broadway National Tour\, in his second consecutive title role\, as the youngest actor ever to tour the part of the murderous barber Sweeney Todd. He next played the magical French candelabra\, Lumiere\, as an original cast member of Disney’s newest creative version of the Beauty and the Beast Broadway National Tour. This role served as a great contrast to both of his previous productions\, as did the role of Lord Farquaad in the Broadway tour of Shrek\, which became an around-the-world adventure with an international run in Asia. He then played the role of Carl Hanratty chasing Frank Abagnale all over the country in the first Broadway Tour of Catch Me If You Can. He was an original cast member in the 25th Anniversary Broadway Tour of Phantom of the Opera and the first Broadway National Tour and Broadway run of School of Rock as Dewey Finn. He most recently performed in the Original Broadway Cast of SMASH and Back to the Future.
URL:https://mrvvillage.com/event/broadway-rocks-home-for-the-holidays/
LOCATION:Waterbury Congregational Church\, 8 N Main St\, Waterbury\, VT
CATEGORIES:Arts & Entertainment,Live Music
ATTACH;FMTTYPE=image/jpeg:https://mrvvillage.com/wp-content/uploads/2025/12/Broadway-Rocks-Waterbury-2025-low-xl16Mw.jpg
ORGANIZER;CN="Moose%20Meadow%20Lodge":MAILTO:relax@moosemeadowlodge.com
GEO:44.3378343;-72.756229
X-APPLE-STRUCTURED-LOCATION;VALUE=URI;X-ADDRESS=Waterbury Congregational Church 8 N Main St Waterbury VT;X-APPLE-RADIUS=500;X-TITLE=8 N Main St:geo:-72.756229,44.3378343
END:VEVENT
BEGIN:VEVENT
DTSTART;TZID=America/New_York:20251213T203000
DTEND;TZID=America/New_York:20251214T010000
DTSTAMP:20260422T032754
CREATED:20251213T163840Z
LAST-MODIFIED:20251213T233839Z
UID:10009410-1765657800-1765674000@mrvvillage.com
SUMMARY:HOUSE MUSIC NIGHT W/DJ CRAIG MITCHELL
DESCRIPTION:We could all benefit from a little dancing in our life right now. So\, DO NOT MISS this Saturday at Afterthoughts when DJ Craig Mitchell will be lighting fire to the dance floor with the hottest house hits and more. \nBehind the decks\, cRAIG mITCHELL\, reads the room with near-telepathic precision\, sculpting energy with seamless\, spellbinding mixes and impeccably timed drops. \nOpen at 5pm for Burgers\, beers and more. Music starts at 8:30PM. \nFree Entry.\n21+
URL:https://mrvvillage.com/event/house-music-night-w-dj-craig-mitchell/
LOCATION:afterthoughts\, 8 Vt Route 17 200\, Waitsfield\, Vermont\, 05673\, United States
CATEGORIES:Aprés,Food & Drink,Live Music
ATTACH;FMTTYPE=image/jpeg:https://mrvvillage.com/wp-content/uploads/2025/12/591126013_17885805324406922_8480718783259049695_n-QgXExf.jpg
ORGANIZER;CN="afterthoughts":MAILTO:hello@afterthoughtsvt.com
GEO:44.181648;-72.8405231
X-APPLE-STRUCTURED-LOCATION;VALUE=URI;X-ADDRESS=afterthoughts 8 Vt Route 17 200 Waitsfield Vermont 05673 United States;X-APPLE-RADIUS=500;X-TITLE=8 Vt Route 17 200:geo:-72.8405231,44.181648
END:VEVENT
BEGIN:VEVENT
DTSTART;TZID=America/New_York:20251214T193000
DTEND;TZID=America/New_York:20251214T220000
DTSTAMP:20260422T032754
CREATED:20251205T222502Z
LAST-MODIFIED:20251214T235332Z
UID:10009388-1765740600-1765749600@mrvvillage.com
SUMMARY:Mad River Chorale Holiday Concert
DESCRIPTION:Mad River ChoraleHoliday Concert \nHope Lights The Way\nMary jane Austin\, conductor \nAlison Cerutti\, pianist \nMucis of Charpentier\, Lauridsen\, Gjeilo\, Sweelinck & Victoria \nString Quintet\, Flutes & Piano \nSing Along- Holiday Charoles & The hallelujah Choras
URL:https://mrvvillage.com/event/mad-river-chorale-holiday-concert-2/
LOCATION:United Church of Christ/Waterbury Congregational Church\, 8 North Main Street 8 North Main Street\, Waterbury\, Vermont\, 05676\, United States
CATEGORIES:Community,Family Friendly,Live Music
ATTACH;FMTTYPE=image/jpeg:https://mrvvillage.com/wp-content/uploads/2025/12/MRVChoraleHoliday2025-zr8Qhz.jpg
GEO:44.337528;-72.756371
X-APPLE-STRUCTURED-LOCATION;VALUE=URI;X-ADDRESS=United Church of Christ/Waterbury Congregational Church 8 North Main Street 8 North Main Street Waterbury Vermont 05676 United States;X-APPLE-RADIUS=500;X-TITLE=8 North Main Street 8 North Main Street:geo:-72.756371,44.337528
END:VEVENT
END:VCALENDAR