BEGIN:VCALENDAR
VERSION:2.0
PRODID:-//The Mad River Valley Village - ECPv6.0.13//NONSGML v1.0//EN
CALSCALE:GREGORIAN
METHOD:PUBLISH
X-WR-CALNAME:The Mad River Valley Village
X-ORIGINAL-URL:https://mrvvillage.com
X-WR-CALDESC:Events for The Mad River Valley Village
REFRESH-INTERVAL;VALUE=DURATION:PT1H
X-Robots-Tag:noindex
X-PUBLISHED-TTL:PT1H
BEGIN:VTIMEZONE
TZID:America/New_York
BEGIN:DAYLIGHT
TZOFFSETFROM:-0500
TZOFFSETTO:-0400
TZNAME:EDT
DTSTART:20260308T070000
END:DAYLIGHT
BEGIN:STANDARD
TZOFFSETFROM:-0400
TZOFFSETTO:-0500
TZNAME:EST
DTSTART:20261101T060000
END:STANDARD
END:VTIMEZONE
BEGIN:VEVENT
DTSTART;TZID=America/New_York:20260225T170000
DTEND;TZID=America/New_York:20260225T210000
DTSTAMP:20260421T223754
CREATED:20260127T224209Z
LAST-MODIFIED:20260225T173838Z
UID:10009806-1772038800-1772053200@mrvvillage.com
SUMMARY:LIVE MUSIC & PUB NIGHT Featuring Al’s Pals!
DESCRIPTION:Join us in the pub for all your favorite Mad River Barn menu items with live music from Al’s Pals! Open 5 pm – 9 pm. Live music every Wednesday in the winter!
URL:https://mrvvillage.com/event/live-music-pub-night-featuring-als-pals-24/
LOCATION:Mad River Barn
CATEGORIES:Dining,Family Friendly,Live Music,Public Welcome
ATTACH;FMTTYPE=image/png:https://mrvvillage.com/wp-content/uploads/2025/12/AlsPals-17tjU1-8aSJF0.png
GEO:44.195472;-72.8915611
END:VEVENT
END:VCALENDAR