BEGIN:VCALENDAR
VERSION:2.0
PRODID:-//The Mad River Valley Village - ECPv6.0.13//NONSGML v1.0//EN
CALSCALE:GREGORIAN
METHOD:PUBLISH
X-ORIGINAL-URL:https://mrvvillage.com
X-WR-CALDESC:Events for The Mad River Valley Village
REFRESH-INTERVAL;VALUE=DURATION:PT1H
X-Robots-Tag:noindex
X-PUBLISHED-TTL:PT1H
BEGIN:VTIMEZONE
TZID:America/New_York
BEGIN:DAYLIGHT
TZOFFSETFROM:-0500
TZOFFSETTO:-0400
TZNAME:EDT
DTSTART:20230312T070000
END:DAYLIGHT
BEGIN:STANDARD
TZOFFSETFROM:-0400
TZOFFSETTO:-0500
TZNAME:EST
DTSTART:20231105T060000
END:STANDARD
BEGIN:DAYLIGHT
TZOFFSETFROM:-0500
TZOFFSETTO:-0400
TZNAME:EDT
DTSTART:20240310T070000
END:DAYLIGHT
BEGIN:STANDARD
TZOFFSETFROM:-0400
TZOFFSETTO:-0500
TZNAME:EST
DTSTART:20241103T060000
END:STANDARD
BEGIN:DAYLIGHT
TZOFFSETFROM:-0500
TZOFFSETTO:-0400
TZNAME:EDT
DTSTART:20250309T070000
END:DAYLIGHT
BEGIN:STANDARD
TZOFFSETFROM:-0400
TZOFFSETTO:-0500
TZNAME:EST
DTSTART:20251102T060000
END:STANDARD
END:VTIMEZONE
BEGIN:VEVENT
DTSTART;TZID=America/New_York:20250927T140000
DTEND;TZID=America/New_York:20250927T160000
DTSTAMP:20260422T231913
CREATED:20250629T081458Z
LAST-MODIFIED:20250701T084429Z
UID:10008519-1758981600-1758988800@mrvvillage.com
SUMMARY:Explore the Seasons with Naturalist-Led Hikes at Stark Mountain
DESCRIPTION:Waitsfield\, VT — The Stark Mountain Foundation is excited to announce a new series of free\, family-friendly naturalist hikes on Stark Mountain\, led by Vermont Master Naturalist Gene O. Desideraggio. These guided hikes offer a unique opportunity to explore the mountain’s diverse ecosystems throughout the changing seasons. \nFrom vibrant spring wildflowers to the brilliant colors of fall foliage\, participants will immerse themselves in the natural beauty of the Green Mountains. Along the way\, Gene will help hikers discover signs of wildlife\, listen for bird calls echoing through the forest\, spot animal tracks on the trail\, or even find a well-worn bear tree. \nThe hikes will take place from 2:00 PM to 4:00 PM on the last Saturday of every month:\nMay 31\, June 28\, July 26\, August 30\, September 27\, and October 25 \nAfter each hike\, participants are invited to unwind at the Mad River Glen Stark’s Pub\, where they can grab a bite or a drink and enjoy the stunning mountain views. \nThe hikes are free\, but registration is required and space is limited. \nTo register or learn more\, visit:\nbit.ly/NatureHikes2025
URL:https://mrvvillage.com/event/explore-the-seasons-with-naturalist-led-hikes-at-stark-mountain-5/
LOCATION:Mad River Glen\, 57 Schuss Pass Road\, Waitsfield\, 05673
CATEGORIES:Family Friendly,Mad River Glen,Special Events,Stark Mountain Foundation
ORGANIZER;CN="Stark%20Mountain%20Foundation":MAILTO:contact@starkmountain.org
GEO:44.2023162;-72.9182617
X-APPLE-STRUCTURED-LOCATION;VALUE=URI;X-ADDRESS=Mad River Glen 57 Schuss Pass Road Waitsfield 05673;X-APPLE-RADIUS=500;X-TITLE=57 Schuss Pass Road:geo:-72.9182617,44.2023162
END:VEVENT
BEGIN:VEVENT
DTSTART;TZID=America/New_York:20250830T140000
DTEND;TZID=America/New_York:20250830T160000
DTSTAMP:20260422T231913
CREATED:20250601T012646Z
LAST-MODIFIED:20250701T084334Z
UID:10008224-1756562400-1756569600@mrvvillage.com
SUMMARY:Explore the Seasons with Naturalist-Led Hikes at Stark Mountain
DESCRIPTION:Waitsfield\, VT — The Stark Mountain Foundation is excited to announce a new series of free\, family-friendly naturalist hikes on Stark Mountain\, led by Vermont Master Naturalist Gene O. Desideraggio. These guided hikes offer a unique opportunity to explore the mountain’s diverse ecosystems throughout the changing seasons. \nFrom vibrant spring wildflowers to the brilliant colors of fall foliage\, participants will immerse themselves in the natural beauty of the Green Mountains. Along the way\, Gene will help hikers discover signs of wildlife\, listen for bird calls echoing through the forest\, spot animal tracks on the trail\, or even find a well-worn bear tree. \nThe hikes will take place from 2:00 PM to 4:00 PM on the last Saturday of every month:\nMay 31\, June 28\, July 26\, August 30\, September 27\, and October 25 \nAfter each hike\, participants are invited to unwind at the Mad River Glen Stark’s Pub\, where they can grab a bite or a drink and enjoy the stunning mountain views. \nThe hikes are free\, but registration is required and space is limited. \nTo register or learn more\, visit:\nbit.ly/NatureHikes2025
URL:https://mrvvillage.com/event/explore-the-seasons-with-naturalist-led-hikes-at-stark-mountain-4/
LOCATION:Mad River Glen\, 57 Schuss Pass Road\, Waitsfield\, 05673
CATEGORIES:Family Friendly,Mad River Glen,Special Events,Stark Mountain Foundation
ORGANIZER;CN="Stark%20Mountain%20Foundation":MAILTO:contact@starkmountain.org
GEO:44.2023162;-72.9182617
X-APPLE-STRUCTURED-LOCATION;VALUE=URI;X-ADDRESS=Mad River Glen 57 Schuss Pass Road Waitsfield 05673;X-APPLE-RADIUS=500;X-TITLE=57 Schuss Pass Road:geo:-72.9182617,44.2023162
END:VEVENT
BEGIN:VEVENT
DTSTART;TZID=America/New_York:20250726T140000
DTEND;TZID=America/New_York:20250726T160000
DTSTAMP:20260422T231913
CREATED:20250514T192559Z
LAST-MODIFIED:20250701T084147Z
UID:10008113-1753538400-1753545600@mrvvillage.com
SUMMARY:Explore the Seasons with Naturalist-Led Hikes at Stark Mountain
DESCRIPTION:Waitsfield\, VT — The Stark Mountain Foundation is excited to announce a new series of free\, family-friendly naturalist hikes on Stark Mountain\, led by Vermont Master Naturalist Gene O. Desideraggio. These guided hikes offer a unique opportunity to explore the mountain’s diverse ecosystems throughout the changing seasons. \nFrom vibrant spring wildflowers to the brilliant colors of fall foliage\, participants will immerse themselves in the natural beauty of the Green Mountains. Along the way\, Gene will help hikers discover signs of wildlife\, listen for bird calls echoing through the forest\, spot animal tracks on the trail\, or even find a well-worn bear tree. \nThe hikes will take place from 2:00 PM to 4:00 PM on the last Saturday of every month:\nMay 31\, June 28\, July 26\, August 30\, September 27\, and October 25 \nAfter each hike\, participants are invited to unwind at the Mad River Glen Stark’s Pub\, where they can grab a bite or a drink and enjoy the stunning mountain views. \nThe hikes are free\, but registration is required and space is limited. \nTo register or learn more\, visit:\nbit.ly/NatureHikes2025
URL:https://mrvvillage.com/event/explore-the-seasons-with-naturalist-led-hikes-at-stark-mountain-3/
LOCATION:Mad River Glen\, 57 Schuss Pass Road\, Waitsfield\, 05673
CATEGORIES:Family Friendly,Mad River Glen,Special Events,Stark Mountain Foundation
ORGANIZER;CN="Stark%20Mountain%20Foundation":MAILTO:contact@starkmountain.org
GEO:44.2023162;-72.9182617
X-APPLE-STRUCTURED-LOCATION;VALUE=URI;X-ADDRESS=Mad River Glen 57 Schuss Pass Road Waitsfield 05673;X-APPLE-RADIUS=500;X-TITLE=57 Schuss Pass Road:geo:-72.9182617,44.2023162
END:VEVENT
BEGIN:VEVENT
DTSTART;TZID=America/New_York:20250628T140000
DTEND;TZID=America/New_York:20250628T160000
DTSTAMP:20260422T231913
CREATED:20250514T192527Z
LAST-MODIFIED:20250628T153823Z
UID:10008111-1751119200-1751126400@mrvvillage.com
SUMMARY:Explore the Seasons with Naturalist-Led Hikes at Stark Mountain
DESCRIPTION:Waitsfield\, VT — The Stark Mountain Foundation is excited to announce a new series of free\, family-friendly naturalist hikes on Stark Mountain\, led by Vermont Master Naturalist Gene O. Desideraggio. These guided hikes offer a unique opportunity to explore the mountain’s diverse ecosystems throughout the changing seasons. \nFrom vibrant spring wildflowers to the brilliant colors of fall foliage\, participants will immerse themselves in the natural beauty of the Green Mountains. Along the way\, Gene will help hikers discover signs of wildlife\, listen for bird calls echoing through the forest\, spot animal tracks on the trail\, or even find a well-worn bear tree. \nThe hikes will take place from 2:00 PM to 4:00 PM on the last Saturday of every month:\nMay 31\, June 28\, July 26\, August 30\, September 27\, and October 25 \nAfter each hike\, participants are invited to unwind at the Mad River Glen Stark’s Pub\, where they can grab a bite or a drink and enjoy the stunning mountain views. \nThe hikes are free\, but registration is required and space is limited. \nTo register or learn more\, visit:\nbit.ly/NatureHikes2025
URL:https://mrvvillage.com/event/explore-the-seasons-with-naturalist-led-hikes-at-stark-mountain-2/
LOCATION:Mad River Glen\, 57 Schuss Pass Road\, Waitsfield\, 05673
CATEGORIES:Family Friendly,Mad River Glen,Special Events,Stark Mountain Foundation
ORGANIZER;CN="Stark%20Mountain%20Foundation":MAILTO:contact@starkmountain.org
GEO:44.2023162;-72.9182617
X-APPLE-STRUCTURED-LOCATION;VALUE=URI;X-ADDRESS=Mad River Glen 57 Schuss Pass Road Waitsfield 05673;X-APPLE-RADIUS=500;X-TITLE=57 Schuss Pass Road:geo:-72.9182617,44.2023162
END:VEVENT
BEGIN:VEVENT
DTSTART;TZID=America/New_York:20250531T140000
DTEND;TZID=America/New_York:20250531T160000
DTSTAMP:20260422T231913
CREATED:20250514T192427Z
LAST-MODIFIED:20250531T205317Z
UID:10008100-1748700000-1748707200@mrvvillage.com
SUMMARY:Explore the Seasons with Naturalist-Led Hikes at Stark Mountain
DESCRIPTION:Waitsfield\, VT — The Stark Mountain Foundation is excited to announce a new series of free\, family-friendly naturalist hikes on Stark Mountain\, led by Vermont Master Naturalist Gene O. Desideraggio. These guided hikes offer a unique opportunity to explore the mountain’s diverse ecosystems throughout the changing seasons. \nFrom vibrant spring wildflowers to the brilliant colors of fall foliage\, participants will immerse themselves in the natural beauty of the Green Mountains. Along the way\, Gene will help hikers discover signs of wildlife\, listen for bird calls echoing through the forest\, spot animal tracks on the trail\, or even find a well-worn bear tree. \nThe hikes will take place from 2:00 PM to 4:00 PM on the last Saturday of every month:\nMay 31\, June 28\, July 26\, August 30\, September 27\, and October 25 \nAfter each hike\, participants are invited to unwind at the Mad River Glen Stark’s Pub\, where they can grab a bite or a drink and enjoy the stunning mountain views. \nThe hikes are free\, but registration is required and space is limited. \nTo register or learn more\, visit:\nbit.ly/NatureHikes2025
URL:https://mrvvillage.com/event/explore-the-seasons-with-naturalist-led-hikes-at-stark-mountain/
LOCATION:Mad River Glen\, 57 Schuss Pass Road\, Waitsfield\, 05673
CATEGORIES:Family Friendly,Mad River Glen,Special Events,Stark Mountain Foundation
ORGANIZER;CN="Stark%20Mountain%20Foundation":MAILTO:contact@starkmountain.org
GEO:44.2023162;-72.9182617
X-APPLE-STRUCTURED-LOCATION;VALUE=URI;X-ADDRESS=Mad River Glen 57 Schuss Pass Road Waitsfield 05673;X-APPLE-RADIUS=500;X-TITLE=57 Schuss Pass Road:geo:-72.9182617,44.2023162
END:VEVENT
BEGIN:VEVENT
DTSTART;TZID=America/New_York:20231007T080000
DTEND;TZID=America/New_York:20231007T160000
DTSTAMP:20260422T231913
CREATED:20230822T183111Z
LAST-MODIFIED:20231007T175318Z
UID:10005020-1696665600-1696694400@mrvvillage.com
SUMMARY:GRITUS 50/70 MILE GRAVEL BIKE RACES
DESCRIPTION:The race will start and finish at Mad River Glen Ski Resort. The course contains 70% dirt roads. Gritus features some tame double track sections that will feel adventurous and a couple of hefty climbs. The short course is 50 miles with 7\,000 feet of climbing and the long course is 75 miles with 10\,000 feet of climbing. There are some adventurous roads. Cyclists are responsible for navigating the course. There will be two water stops on the course. Entrants will receive Endurance Society swag and finishers will receive a pint glass. A unique award will be presented for the top 3 males and females.
URL:https://mrvvillage.com/event/gritus-50-70-mile-gravel-bike-races/
LOCATION:Mad River Glen\, 57 Schuss Pass Road\, Waitsfield\, 05673
CATEGORIES:Mad River Glen,Sports & Recreation
ATTACH;FMTTYPE=image/png:https://mrvvillage.com/wp-content/uploads/2023/08/Screen-Shot-2023-08-22-at-1.28.25-PM-TT5DXJ.tmp_.png
ORGANIZER;CN="The%20Endurance%20Society":MAILTO:andy@endurancesociety.org
GEO:44.2023162;-72.9182617
X-APPLE-STRUCTURED-LOCATION;VALUE=URI;X-ADDRESS=Mad River Glen 57 Schuss Pass Road Waitsfield 05673;X-APPLE-RADIUS=500;X-TITLE=57 Schuss Pass Road:geo:-72.9182617,44.2023162
END:VEVENT
END:VCALENDAR