BEGIN:VCALENDAR
VERSION:2.0
PRODID:-//The Mad River Valley Village - ECPv6.0.13//NONSGML v1.0//EN
CALSCALE:GREGORIAN
METHOD:PUBLISH
X-WR-CALNAME:The Mad River Valley Village
X-ORIGINAL-URL:https://mrvvillage.com
X-WR-CALDESC:Events for The Mad River Valley Village
REFRESH-INTERVAL;VALUE=DURATION:PT1H
X-Robots-Tag:noindex
X-PUBLISHED-TTL:PT1H
BEGIN:VTIMEZONE
TZID:UTC
BEGIN:STANDARD
TZOFFSETFROM:+0000
TZOFFSETTO:+0000
TZNAME:UTC
DTSTART:20240101T000000
END:STANDARD
END:VTIMEZONE
BEGIN:VEVENT
DTSTART;TZID=UTC:20240829T080000
DTEND;TZID=UTC:20240829T220000
DTSTAMP:20260422T175815
CREATED:20240819T173921Z
LAST-MODIFIED:20240829T190816Z
UID:10006808-1724918400-1724968800@mrvvillage.com
SUMMARY:Closed – PRIVATE EVENT
DESCRIPTION:We will be closed this Thursday for a private wedding event.
URL:https://mrvvillage.com/event/closed-private-event-4/
LOCATION:Mad River Barn
CATEGORIES:Private Event
GEO:44.195472;-72.8915611
END:VEVENT
END:VCALENDAR