BEGIN:VCALENDAR
VERSION:2.0
PRODID:-//The Mad River Valley Village - ECPv6.0.13//NONSGML v1.0//EN
CALSCALE:GREGORIAN
METHOD:PUBLISH
X-ORIGINAL-URL:https://mrvvillage.com
X-WR-CALDESC:Events for The Mad River Valley Village
REFRESH-INTERVAL;VALUE=DURATION:PT1H
X-Robots-Tag:noindex
X-PUBLISHED-TTL:PT1H
BEGIN:VTIMEZONE
TZID:America/New_York
BEGIN:DAYLIGHT
TZOFFSETFROM:-0500
TZOFFSETTO:-0400
TZNAME:EDT
DTSTART:20250309T070000
END:DAYLIGHT
BEGIN:STANDARD
TZOFFSETFROM:-0400
TZOFFSETTO:-0500
TZNAME:EST
DTSTART:20251102T060000
END:STANDARD
END:VTIMEZONE
BEGIN:VEVENT
DTSTART;TZID=America/New_York:20250624T130000
DTEND;TZID=America/New_York:20250624T170000
DTSTAMP:20260424T012539
CREATED:20250606T222510Z
LAST-MODIFIED:20250624T143826Z
UID:10008288-1750770000-1750784400@mrvvillage.com
SUMMARY:Build Your Own Adirondack Chair
DESCRIPTION:Build your own pine Adirondack chair to use in your backyard or on your porch! This course will cover how to cut your materials\, assemble\, and finish your chair. \nYou’ll cover the safety and use of the chop saw\, circular saws\, band saws\, jigsaws\, routers\, drills\, impact drivers\, and orbital sanders. \nThis course will meet on Tuesday and Thursday afternoons from 1-5pm. \nNo previous woodworking skills required.
URL:https://mrvvillage.com/event/build-your-own-adirondack-chair/
LOCATION:Yestermorrow Design/Build School\, 7865 Main Street\, Waitsfield\, 05673
CATEGORIES:Schools,Special Events
ATTACH;FMTTYPE=image/png:https://mrvvillage.com/wp-content/uploads/2025/06/untitled_design_2-kPvlfm.png
ORGANIZER;CN="Yestermorrow%20Design%2FBuild%20School":MAILTO:info@yestermorrow.org
GEO:44.1490529;-72.8380281
X-APPLE-STRUCTURED-LOCATION;VALUE=URI;X-ADDRESS=Yestermorrow Design/Build School 7865 Main Street Waitsfield 05673;X-APPLE-RADIUS=500;X-TITLE=7865 Main Street:geo:-72.8380281,44.1490529
END:VEVENT
BEGIN:VEVENT
DTSTART;TZID=America/New_York:20250626T130000
DTEND;TZID=America/New_York:20250626T170000
DTSTAMP:20260424T012539
CREATED:20250606T222513Z
LAST-MODIFIED:20250626T150824Z
UID:10008289-1750942800-1750957200@mrvvillage.com
SUMMARY:Build Your Own Adirondack Chair
DESCRIPTION:Build your own pine Adirondack chair to use in your backyard or on your porch! This course will cover how to cut your materials\, assemble\, and finish your chair. \nYou’ll cover the safety and use of the chop saw\, circular saws\, band saws\, jigsaws\, routers\, drills\, impact drivers\, and orbital sanders. \nThis course will meet on Tuesday and Thursday afternoons from 1-5pm. \nNo previous woodworking skills required.
URL:https://mrvvillage.com/event/build-your-own-adirondack-chair-2/
LOCATION:Yestermorrow Design/Build School\, 7865 Main Street\, Waitsfield\, 05673
CATEGORIES:Schools,Special Events
ATTACH;FMTTYPE=image/png:https://mrvvillage.com/wp-content/uploads/2025/06/untitled_design_2-kPvlfm.png
ORGANIZER;CN="Yestermorrow%20Design%2FBuild%20School":MAILTO:info@yestermorrow.org
GEO:44.1490529;-72.8380281
X-APPLE-STRUCTURED-LOCATION;VALUE=URI;X-ADDRESS=Yestermorrow Design/Build School 7865 Main Street Waitsfield 05673;X-APPLE-RADIUS=500;X-TITLE=7865 Main Street:geo:-72.8380281,44.1490529
END:VEVENT
END:VCALENDAR