BEGIN:VCALENDAR
VERSION:2.0
PRODID:-//The Mad River Valley Village - ECPv6.0.13//NONSGML v1.0//EN
CALSCALE:GREGORIAN
METHOD:PUBLISH
X-ORIGINAL-URL:https://mrvvillage.com
X-WR-CALDESC:Events for The Mad River Valley Village
REFRESH-INTERVAL;VALUE=DURATION:PT1H
X-Robots-Tag:noindex
X-PUBLISHED-TTL:PT1H
BEGIN:VTIMEZONE
TZID:America/New_York
BEGIN:DAYLIGHT
TZOFFSETFROM:-0500
TZOFFSETTO:-0400
TZNAME:EDT
DTSTART:20250309T070000
END:DAYLIGHT
BEGIN:STANDARD
TZOFFSETFROM:-0400
TZOFFSETTO:-0500
TZNAME:EST
DTSTART:20251102T060000
END:STANDARD
END:VTIMEZONE
BEGIN:VEVENT
DTSTART;TZID=America/New_York:20251114T173000
DTEND;TZID=America/New_York:20251114T203000
DTSTAMP:20260425T085539
CREATED:20251028T163935Z
LAST-MODIFIED:20251114T192323Z
UID:10009189-1763141400-1763152200@mrvvillage.com
SUMMARY:Kids NIght Out
DESCRIPTION:Hosted by the Harwood Union High School Volleyball Team. 5:30 -8:30 pm on Friday\, November 14th. \nWe are excited to host a second annual fun night out for kids! All funds raised will support the purchase of equipment and supplies for the Harwood Girls Volleyball Team\, comprised of 24 athletes slaying it on the volleyball court this Fall! The evening takes place in the Harwood gym\, kids can be dropped off at the Harwood main entrance. Cost is $30 per child ($20 for each additional sibling) and includes volleyball lessons and games\, arts and crafts\, snacks and a pizza dinner. \nEvery child who attend Kids’ Night Out will be entered into a drawing to receive a $50 gift card to The Collection. We are so grateful to The Collection for this wonderful donation. \n(Please note: There is also a CBMS and HUMS dance that night too!)
URL:https://mrvvillage.com/event/kids-night-out/
LOCATION:Hardwood Union\, 458 VT RTE 100\, Moretown\, VT
CATEGORIES:Community,Schools
ATTACH;FMTTYPE=image/png:https://mrvvillage.com/wp-content/uploads/2025/10/Screenshot-2025-10-28-at-7.59.49-AM-XvCVYN.png
GEO:44.254117;-72.7865684
X-APPLE-STRUCTURED-LOCATION;VALUE=URI;X-ADDRESS=Hardwood Union 458 VT RTE 100 Moretown VT;X-APPLE-RADIUS=500;X-TITLE=458 VT RTE 100:geo:-72.7865684,44.254117
END:VEVENT
END:VCALENDAR