BEGIN:VCALENDAR
VERSION:2.0
PRODID:-//The Mad River Valley Village - ECPv6.0.13//NONSGML v1.0//EN
CALSCALE:GREGORIAN
METHOD:PUBLISH
X-ORIGINAL-URL:https://mrvvillage.com
X-WR-CALDESC:Events for The Mad River Valley Village
REFRESH-INTERVAL;VALUE=DURATION:PT1H
X-Robots-Tag:noindex
X-PUBLISHED-TTL:PT1H
BEGIN:VTIMEZONE
TZID:America/New_York
BEGIN:DAYLIGHT
TZOFFSETFROM:-0500
TZOFFSETTO:-0400
TZNAME:EDT
DTSTART:20230312T070000
END:DAYLIGHT
BEGIN:STANDARD
TZOFFSETFROM:-0400
TZOFFSETTO:-0500
TZNAME:EST
DTSTART:20231105T060000
END:STANDARD
END:VTIMEZONE
BEGIN:VEVENT
DTSTART;TZID=America/New_York:20230824T000000
DTEND;TZID=America/New_York:20230824T235959
DTSTAMP:20260422T052710
CREATED:20230726T221156Z
LAST-MODIFIED:20230824T185324Z
UID:10004485-1692835200-1692921599@mrvvillage.com
SUMMARY:Addison West Floral Event
DESCRIPTION:Join us for an evening with Sandra Sigman\, award-winning floral designer and author of just-released French Blooms. Enjoy bubbles and bites while Sandra creates one of her extraordinary floral arrangements and shares her experience and guidance for creating your own inspired arrangements.\nWHEN: Thursday\, August 24\, 2023\, 5-7 pm\nWHERE: Addison West\, 5275 Main Street\, Waitsfield \nTickets include:\n– A signed copy of Sandra’s just-released book French Blooms\n– Bubbles and bites\n– Floral design lecture\, demonstration\, and Q & A with Sandra Sigman\n– A raffle to win Sandra’s incredible completed arrangement\n– 10% off any purchases at Addison West on the evening of the event\n– A portion of the event proceeds will help fund the Mad River Valley Arts Youth Education Program
URL:https://mrvvillage.com/event/addison-west-floral-event/
LOCATION:Addison West\, 5275 Main Street\, Waitsfield\, VT\, 05673\, United States
CATEGORIES:Arts & Entertainment,Community,Special Events
ATTACH;FMTTYPE=image/jpeg:https://mrvvillage.com/wp-content/uploads/2023/07/FrenchBlooms_cover-JDD4uL.tmp_.jpg
ORGANIZER;CN="Addison%20West":MAILTO:info@theaddisonwest.com
GEO:44.1926386;-72.7798479
X-APPLE-STRUCTURED-LOCATION;VALUE=URI;X-ADDRESS=Addison West 5275 Main Street Waitsfield VT 05673 United States;X-APPLE-RADIUS=500;X-TITLE=5275 Main Street:geo:-72.7798479,44.1926386
END:VEVENT
END:VCALENDAR