BEGIN:VCALENDAR
VERSION:2.0
PRODID:-//The Mad River Valley Village - ECPv6.0.13//NONSGML v1.0//EN
CALSCALE:GREGORIAN
METHOD:PUBLISH
X-WR-CALNAME:The Mad River Valley Village
X-ORIGINAL-URL:https://mrvvillage.com
X-WR-CALDESC:Events for The Mad River Valley Village
REFRESH-INTERVAL;VALUE=DURATION:PT1H
X-Robots-Tag:noindex
X-PUBLISHED-TTL:PT1H
BEGIN:VTIMEZONE
TZID:America/New_York
BEGIN:DAYLIGHT
TZOFFSETFROM:-0500
TZOFFSETTO:-0400
TZNAME:EDT
DTSTART:20230312T070000
END:DAYLIGHT
BEGIN:STANDARD
TZOFFSETFROM:-0400
TZOFFSETTO:-0500
TZNAME:EST
DTSTART:20231105T060000
END:STANDARD
END:VTIMEZONE
BEGIN:VEVENT
DTSTART;TZID=America/New_York:20231007T100000
DTEND;TZID=America/New_York:20231007T140000
DTSTAMP:20260422T083525
CREATED:20231002T170842Z
LAST-MODIFIED:20231007T175318Z
UID:10005284-1696672800-1696687200@mrvvillage.com
SUMMARY:Annual T-Shirt and Apparel Sale
DESCRIPTION:Shirt Happens\, a local screen printer and embroidered\, is selling leftovers\, overstocks\, and seconds! Great deals to be had on t-shirts (short- and long-sleeve)\, hoodies\, zip sweats\, hats\, beanies and more! Printed and blank items at bargain prices! Sale located at Shirt Happens (formerly Deerfield Designs)\, 151 Mad River Canoe Road\, Waitsfield (behind Shaw’s). \nCash\, Venmo and PayPal.
URL:https://mrvvillage.com/event/annual-t-shirt-and-apparel-sale/
LOCATION:Shirt Happens\, 151 Mad River Canoe Road\, Waitsfield\, Vermont\, 05673\, United States
CATEGORIES:Community,Special Events
ATTACH;FMTTYPE=image/png:https://mrvvillage.com/wp-content/uploads/2023/10/Shirt-Happens-Logo-Suite-COLOR-10-I5LZmm.tmp_.png
ORGANIZER;CN="Shirt%20Happens":MAILTO:info@deerfielddesigns.com
GEO:44.1867092;-72.8381579
X-APPLE-STRUCTURED-LOCATION;VALUE=URI;X-ADDRESS=Shirt Happens 151 Mad River Canoe Road Waitsfield Vermont 05673 United States;X-APPLE-RADIUS=500;X-TITLE=151 Mad River Canoe Road:geo:-72.8381579,44.1867092
END:VEVENT
BEGIN:VEVENT
DTSTART;TZID=America/New_York:20231011T180000
DTEND;TZID=America/New_York:20231011T210000
DTSTAMP:20260422T083525
CREATED:20231008T153907Z
LAST-MODIFIED:20231011T185316Z
UID:10005355-1697047200-1697058000@mrvvillage.com
SUMMARY:Singles Night at Emily
DESCRIPTION:A fun mixer to meet singles in the area.\n$6 Wines\, Drafts and Cosmos
URL:https://mrvvillage.com/event/singles-night-at-emily/
LOCATION:Emily’s Bar & Bistro\, 5081 Main Street\, Waitsfield\, VT\, 056673
CATEGORIES:Arts & Entertainment,Community,Special Events
ATTACH;FMTTYPE=image/jpeg:https://mrvvillage.com/wp-content/uploads/2023/10/Untitled-2-GmYPZg.tmp_.jpg
GEO:44.1926386;-72.7798479
X-APPLE-STRUCTURED-LOCATION;VALUE=URI;X-ADDRESS=Emily’s Bar & Bistro 5081 Main Street Waitsfield VT 056673;X-APPLE-RADIUS=500;X-TITLE=5081 Main Street:geo:-72.7798479,44.1926386
END:VEVENT
BEGIN:VEVENT
DTSTART;TZID=America/New_York:20231014T090000
DTEND;TZID=America/New_York:20231014T110000
DTSTAMP:20260422T083525
CREATED:20231014T160816Z
LAST-MODIFIED:20231014T193815Z
UID:10005377-1697274000-1697281200@mrvvillage.com
SUMMARY:Climate and Ecology Series: Foliage Hike
DESCRIPTION:The Friends of the Mad River is excited to launch its new series\, “Climate and Ecology”! Join us for a foliage hike while learning all about the ways that climate change is impacting our trees and forests. This is the first in a series of monthly outdoor adventures that focuses on how our watershed and ecosystem are changing as a result of our changing climate. \nBring shoes or boots for hiking moderate trails\, clothing appropriate for the weather\, water bottle and snacks. Contact luke@friendsofthemadriver.org to let us know if you plan to attend. \nNote: Some of our future climate and ecology events will be specifically designed for children and families. The content and style of this excursion may not be suitable for people of all ages and pets.
URL:https://mrvvillage.com/event/climate-and-ecology-series-foliage-hike/
LOCATION:The Sweet Spot\, 1178 Senor Road\, Warren\, Vermont\, 05674\, United States
CATEGORIES:Community,Special Events,Vermont
ATTACH;FMTTYPE=image/png:https://mrvvillage.com/wp-content/uploads/2023/10/Climate-Ecology-Series_with_logo-min-qVbuHa.tmp_.png
GEO:44.0916055;-72.8200258
X-APPLE-STRUCTURED-LOCATION;VALUE=URI;X-ADDRESS=The Sweet Spot 1178 Senor Road Warren Vermont 05674 United States;X-APPLE-RADIUS=500;X-TITLE=1178 Senor Road:geo:-72.8200258,44.0916055
END:VEVENT
BEGIN:VEVENT
DTSTART;TZID=America/New_York:20231018T183000
DTEND;TZID=America/New_York:20231018T200000
DTSTAMP:20260422T083525
CREATED:20231018T202330Z
LAST-MODIFIED:20231018T202330Z
UID:10005405-1697653800-1697659200@mrvvillage.com
SUMMARY:Yestermorrow Fall 2023 Speaker Series: Rain Gardens for Sustainable Hydrology with Holly Greenleaf
DESCRIPTION:Come learn how the simple green stormwater infrastructure of a rain garden can mimic pre-development hydrology to support sustainable sites. Rain gardens can offset the impacts of impervious surfaces (driveways\, roofs) and semi-impervious surfaces (lawns\, patios) that create large amounts of stormwater runoff\, causing erosion and pollution downstream. You will come away with an understanding of the benefits of a rain garden\, design considerations\, and ideas for siting\, sizing\, and planting a rain garden. \nJoin us in person in the Yestermorrow main studio or remotely via Zoom: https://us02web.zoom.us/j/84919951767\n___________________________________________________________________________________________________________________________________________________________ \nHolly Greenleaf is an ecological landscape designer and owner of Greenleaf Design\, LLC\, a small design\, research\, illustration\, and installation/planting business. She specializes in native plantings\, green stormwater infrastructure\, bioengineering and lakeshore and riparian restoration\, and planting for pollinators and people. Designs are inspired by local place\, patterns\, plant communities and the people that inhabit these spaces with a goal of functional\, regenerative\, and beautiful landscapes that benefit soils\, water\, wildlife\, and way of life. Education and outreach work supports land stewards to restore their landscapes\, embrace a naturalistic approach\, and work with the intelligence of nature to create conditions for all to thrive and be resilient in an uncertain future. \nHolly was born and raised as a farmer and gardener in Vermont’s Northeast Kingdom. She studied Ecological Landscape Design\, Sustainable Horticulture\, and Studio Art as an undergraduate and graduate student at the University of Vermont\, earning her Bachelor of Arts in Environmental Studies and Master of Science in Plant and Soil Science. She has been working in the landscape and horticulture industry and practicing landscape design for a decade. She loves to be involved in all aspects of the design process and delights in the ever-changing colors\, textures\, structures\, scents\, and vitality of a living landscape.
URL:https://mrvvillage.com/event/yestermorrow-fall-2023-speaker-series-rain-gardens-for-sustainable-hydrology-with-holly-greenleaf/
LOCATION:Yestermorrow Design/Build School\, 7865 Main Street\, Waitsfield\, 05673
CATEGORIES:Special Events
ATTACH;FMTTYPE=image/jpeg:https://mrvvillage.com/wp-content/uploads/2023/10/RAIN-GARDEN-DESIGN-BUILD-7-1-vQw1pk.tmp_.jpg
ORGANIZER;CN="Yestermorrow%20Design%2FBuild%20School":MAILTO:info@yestermorrow.org
GEO:44.1490529;-72.8380281
X-APPLE-STRUCTURED-LOCATION;VALUE=URI;X-ADDRESS=Yestermorrow Design/Build School 7865 Main Street Waitsfield 05673;X-APPLE-RADIUS=500;X-TITLE=7865 Main Street:geo:-72.8380281,44.1490529
END:VEVENT
BEGIN:VEVENT
DTSTART;TZID=America/New_York:20231019T180000
DTEND;TZID=America/New_York:20231019T210000
DTSTAMP:20260422T083525
CREATED:20231011T155353Z
LAST-MODIFIED:20231019T165424Z
UID:10005367-1697738400-1697749200@mrvvillage.com
SUMMARY:BHAKTA SPIRITS DINNER
DESCRIPTION:Join Raj Bhakta of Bhakta Spirits and Pitcher Inn executive chef Jacob Ennis on Thursday\, October 19\, 2023\, for a memorable evening of fine food and spirits. Chef Jacob and his team will present a seven-course dinner accompanied by seven vintage Bhakta Armagnacs and other rare spirits\, including a 100-year-old Old Fashioned with Bhakta 1928 Straight Rye\, Calvados and Armagnac\, and a taste of Bhakta 50-year-old Barrel No. 26 Pickerell. \nDinner will include Oysters with Caviar\, Foie Gras Torchon\, Lobster Pasta with Armagnac Roe Cream\, Local Duck Breast\, and Lemon Curd with Burnt Meringue Ice Cream for dessert. See the full menu. \nWe expect Raj Bhakta will join us at dinner in the Brook Room to talk about the Bhakta Spirits story. \nReservations are required and seats are limited to just 30. Prix fixe is $250 per person\, excluding tax and gratuity. Hurry. We expect seats will go quickly for this once-in-a-blue-moon dinner.
URL:https://mrvvillage.com/event/bhakta-spirits-dinner/
LOCATION:The Pitcher Inn\, 275 Main Street\, Warren\, 05674
CATEGORIES:Dining,Food & Drink,Special Events
ORGANIZER;CN="The%20Pitcher%20Inn":MAILTO:info@pitcherinn.com
GEO:44.118347;-72.8576681
X-APPLE-STRUCTURED-LOCATION;VALUE=URI;X-ADDRESS=The Pitcher Inn 275 Main Street Warren 05674;X-APPLE-RADIUS=500;X-TITLE=275 Main Street:geo:-72.8576681,44.118347
END:VEVENT
BEGIN:VEVENT
DTSTART;TZID=America/New_York:20231025T183000
DTEND;TZID=America/New_York:20231025T200000
DTSTAMP:20260422T083525
CREATED:20231018T202403Z
LAST-MODIFIED:20231025T220813Z
UID:10005407-1698258600-1698264000@mrvvillage.com
SUMMARY:Yestermorrow Fall 2023 Speaker Series: EXTREMOPHILE/ENVIRONMENTAL(ISM) with Ian Quate
DESCRIPTION:The Gowanus Canal of Brooklyn\, NY is considered a forsaken environment from a human perspective: the Superfund remediation plan is to dredge and cap with concrete. From 2013 until present our studies have shown the canal environment to be a thriving microbial ecosystem\, with lifeforms evolved to inhabit industrial ruins with embodied metabolic information relevant to future cleanups. At a time where human disturbance is a geological force\, our results further suggest we should redefine our relationships with lifeforms we live amongst\, with a responsibility for stewardship and reciprocity. These microscopic neighbors not only serve as a genetic catalog of bioremediation functions\, but open our imagination to new modes of what theorist Anna Tsing calls “collaborative survival” – of ways to live together on a planet modified by our civilization’s byproducts. \nJoin in person in the Yestermorrow main studio or remotely via Zoom: https://us02web.zoom.us/j/84227672054\n_______________________________________________________________________________________________________________________ \nIan is the director of Fruit Studio\, a design practice exploring the intentional ecology in constructed environments in far-fetched and longterm fashion. Ian earned his master of landscape architecture from RISD in 2011\, and has worked in design\, fabrication and horticulture in NYC\, PA\, NC and Australia.
URL:https://mrvvillage.com/event/yestermorrow-fall-2023-speaker-series-extremophile-environmentalism-with-ian-quate/
LOCATION:Yestermorrow Design/Build School\, 7865 Main Street\, Waitsfield\, 05673
CATEGORIES:Community,Special Events
ATTACH;FMTTYPE=image/jpeg:https://mrvvillage.com/wp-content/uploads/2023/10/151102_Geospatial-Map_Slide-02-ZdaXqb.tmp_.jpg
ORGANIZER;CN="Yestermorrow%20Design%2FBuild%20School":MAILTO:info@yestermorrow.org
GEO:44.1490529;-72.8380281
X-APPLE-STRUCTURED-LOCATION;VALUE=URI;X-ADDRESS=Yestermorrow Design/Build School 7865 Main Street Waitsfield 05673;X-APPLE-RADIUS=500;X-TITLE=7865 Main Street:geo:-72.8380281,44.1490529
END:VEVENT
END:VCALENDAR