BEGIN:VCALENDAR
VERSION:2.0
PRODID:-//The Mad River Valley Village - ECPv6.0.13//NONSGML v1.0//EN
CALSCALE:GREGORIAN
METHOD:PUBLISH
X-ORIGINAL-URL:https://mrvvillage.com
X-WR-CALDESC:Events for The Mad River Valley Village
REFRESH-INTERVAL;VALUE=DURATION:PT1H
X-Robots-Tag:noindex
X-PUBLISHED-TTL:PT1H
BEGIN:VTIMEZONE
TZID:America/New_York
BEGIN:DAYLIGHT
TZOFFSETFROM:-0500
TZOFFSETTO:-0400
TZNAME:EDT
DTSTART:20240310T070000
END:DAYLIGHT
BEGIN:STANDARD
TZOFFSETFROM:-0400
TZOFFSETTO:-0500
TZNAME:EST
DTSTART:20241103T060000
END:STANDARD
END:VTIMEZONE
BEGIN:VEVENT
DTSTART;TZID=America/New_York:20240308T180000
DTEND;TZID=America/New_York:20240308T210000
DTSTAMP:20260422T180614
CREATED:20240303T220845Z
LAST-MODIFIED:20240308T230814Z
UID:10005982-1709920800-1709931600@mrvvillage.com
SUMMARY:Portuguese Wine Dinner
DESCRIPTION:We’ll be “visiting” Portugal\, reveling in Chef Jacob’s take on classic Portuguese cuisine while enjoying Sommelier Tunney’s selections from Douro Valley in the this wine-rich country.
URL:https://mrvvillage.com/event/portuguese-wine-dinner/
LOCATION:The Pitcher Inn\, 275 Main Street\, Warren\, 05674
CATEGORIES:Food & Drink,Special Events
ORGANIZER;CN="The%20Pitcher%20Inn":MAILTO:info@pitcherinn.com
GEO:44.118347;-72.8576681
X-APPLE-STRUCTURED-LOCATION;VALUE=URI;X-ADDRESS=The Pitcher Inn 275 Main Street Warren 05674;X-APPLE-RADIUS=500;X-TITLE=275 Main Street:geo:-72.8576681,44.118347
END:VEVENT
BEGIN:VEVENT
DTSTART;TZID=America/New_York:20240312T183000
DTEND;TZID=America/New_York:20240312T200000
DTSTAMP:20260422T180614
CREATED:20240226T205436Z
LAST-MODIFIED:20240312T232314Z
UID:10005953-1710268200-1710273600@mrvvillage.com
SUMMARY:Climate and Ecology Book Discussion
DESCRIPTION:We will discuss the book\, The Bear\, by Andrew Krivak. A few copies of the book are available now at the Joslin Memorial Library. Please remember to register in advance if you plan on attending the lively discussion.
URL:https://mrvvillage.com/event/climate-and-ecology-book-discussion-3/
LOCATION:Joslin Memorial Library\, 4391 Main Street\, Waitsfield\, 05673
CATEGORIES:Community,Public Welcome,Special Events
ATTACH;FMTTYPE=image/png:https://mrvvillage.com/wp-content/uploads/2024/02/202403-Book-Discussion-Facebook-Post-1-xOQA0V.tmp_.png
GEO:44.1926386;-72.7798479
X-APPLE-STRUCTURED-LOCATION;VALUE=URI;X-ADDRESS=Joslin Memorial Library 4391 Main Street Waitsfield 05673;X-APPLE-RADIUS=500;X-TITLE=4391 Main Street:geo:-72.7798479,44.1926386
END:VEVENT
BEGIN:VEVENT
DTSTART;TZID=America/New_York:20240323T090000
DTEND;TZID=America/New_York:20240323T120000
DTSTAMP:20260422T180614
CREATED:20240226T205522Z
LAST-MODIFIED:20240323T132322Z
UID:10005955-1711184400-1711195200@mrvvillage.com
SUMMARY:Ski with a Naturalist
DESCRIPTION:Join Friends of the Mad River for a unique outdoor experience where you can enjoy cross-country skiing (or snowshoeing) alongside a knowledgeable naturalist! This family-friendly event combines the thrill of skiing with the opportunity to learn about the surrounding nature and wildlife. \nOur naturalist will guide you through the trails\, pointing out interesting flora and fauna along the way. It’s a great way to stay active\, connect with nature\, and learn about your surroundings. \nWhether you’re a seasoned skier or a beginner\, this event is suitable for all skill levels. We’ll offer an hour of equipment fitting and lessons at 9 am for those new to skiing before the main event starts at 10 am. We’ll also have a StorySki experience for the young at heart. \nTickets covering the entrance fee to Blueberry Lake and ski rentals ($30) are free for the first 15 people thanks to the MRV Recreation District\, so register early to guarantee your spot https://fmrski.eventbrite.com/
URL:https://mrvvillage.com/event/ski-with-a-naturalist/
LOCATION:Blueberry Lake\, Blueberry Lake\, Warren\, Vermont\, 05674\, United States
CATEGORIES:Community,Special Events,Ticketed Event
ATTACH;FMTTYPE=image/png:https://mrvvillage.com/wp-content/uploads/2024/02/March-Ski-Eventv2-4xUuH5.tmp_.png
GEO:44.118347;-72.8576681
X-APPLE-STRUCTURED-LOCATION;VALUE=URI;X-ADDRESS=Blueberry Lake Blueberry Lake Warren Vermont 05674 United States;X-APPLE-RADIUS=500;X-TITLE=Blueberry Lake:geo:-72.8576681,44.118347
END:VEVENT
BEGIN:VEVENT
DTSTART;TZID=America/New_York:20240323T100000
DTEND;TZID=America/New_York:20240323T130000
DTSTAMP:20260422T180614
CREATED:20240311T230902Z
LAST-MODIFIED:20240323T132322Z
UID:10006007-1711188000-1711198800@mrvvillage.com
SUMMARY:Seed Swap
DESCRIPTION:Join your friends and neighbors in getting ready for the upcoming growing season with a community seed swap hosted by the MRV Libraries and ShareMRV. We invite you to drop your seeds to swap off at Joslin\, Moretown or Warren libraries the week before the swap: March 16-22. Seeds should not be more than two years old and mark them clearly in packets. All remaining seeds after the swap will be donated to our Little Seed Libraries.
URL:https://mrvvillage.com/event/seed-swap/
LOCATION:Moretown Town Hall and Library\, 1147 Route 100B\, Moretown\, 05660
CATEGORIES:Community,Special Events
ATTACH;FMTTYPE=image/png:https://mrvvillage.com/wp-content/uploads/2024/03/4th-annual-seed-swap-Real-Estate-Flyer-1-pF3F93.tmp_.png
ORGANIZER;CN="ShareMRV":MAILTO:sharemrv@gmail.com
GEO:44.2476272;-72.7639304
X-APPLE-STRUCTURED-LOCATION;VALUE=URI;X-ADDRESS=Moretown Town Hall and Library 1147 Route 100B Moretown 05660;X-APPLE-RADIUS=500;X-TITLE=1147 Route 100B:geo:-72.7639304,44.2476272
END:VEVENT
BEGIN:VEVENT
DTSTART;TZID=America/New_York:20240327T183000
DTEND;TZID=America/New_York:20240327T200000
DTSTAMP:20260422T180614
CREATED:20240314T235417Z
LAST-MODIFIED:20240327T133811Z
UID:10006019-1711564200-1711569600@mrvvillage.com
SUMMARY:BUILDING AFFORDABILITY SPEAKER SERIES – YESTERMORROW LOOKS TOWARD TOMORROW: AFFORDABLE HOUSING AT THE CORE OF OUR STRATEGIC PLANNING GOALS WITH BRITTON ROGERS
DESCRIPTION:BUILDING AFFORDABILITY SPEAKER SERIES – YESTERMORROW LOOKS TOWARD TOMORROW: AFFORDABLE HOUSING AT THE CORE OF OUR STRATEGIC PLANNING GOALS WITH BRITTON ROGERS
URL:https://mrvvillage.com/event/building-affordability-speaker-series-yestermorrow-looks-toward-tomorrow-affordable-housing-at-the-core-of-our-strategic-planning-goals-with-britton-rogers/
LOCATION:Yestermorrow Design/Build School\, 7865 Main Street\, Waitsfield\, 05673
CATEGORIES:Community,Special Events
ATTACH;FMTTYPE=image/jpeg:https://mrvvillage.com/wp-content/uploads/2024/03/Yester-front-page1-hLDm2e.tmp_.jpg
ORGANIZER;CN="Yestermorrow%20Design%2FBuild%20School":MAILTO:info@yestermorrow.org
GEO:44.1490529;-72.8380281
X-APPLE-STRUCTURED-LOCATION;VALUE=URI;X-ADDRESS=Yestermorrow Design/Build School 7865 Main Street Waitsfield 05673;X-APPLE-RADIUS=500;X-TITLE=7865 Main Street:geo:-72.8380281,44.1490529
END:VEVENT
END:VCALENDAR