BEGIN:VCALENDAR
VERSION:2.0
PRODID:-//The Mad River Valley Village - ECPv6.0.13//NONSGML v1.0//EN
CALSCALE:GREGORIAN
METHOD:PUBLISH
X-ORIGINAL-URL:https://mrvvillage.com
X-WR-CALDESC:Events for The Mad River Valley Village
REFRESH-INTERVAL;VALUE=DURATION:PT1H
X-Robots-Tag:noindex
X-PUBLISHED-TTL:PT1H
BEGIN:VTIMEZONE
TZID:America/New_York
BEGIN:DAYLIGHT
TZOFFSETFROM:-0500
TZOFFSETTO:-0400
TZNAME:EDT
DTSTART:20240310T070000
END:DAYLIGHT
BEGIN:STANDARD
TZOFFSETFROM:-0400
TZOFFSETTO:-0500
TZNAME:EST
DTSTART:20241103T060000
END:STANDARD
END:VTIMEZONE
BEGIN:VEVENT
DTSTART;TZID=America/New_York:20240801T160000
DTEND;TZID=America/New_York:20240801T164500
DTSTAMP:20260423T192753
CREATED:20240605T173918Z
LAST-MODIFIED:20240714T123947Z
UID:10006200-1722528000-1722530700@mrvvillage.com
SUMMARY:Yestermorrow Walk-In Campus Tour
DESCRIPTION:If you are in the Mad River Valley and would like to tour the Yestermorrow campus\, please come say hello. We are offering recurring walk-in tours\, Thursdays at 4pm\, throughout the summer. We will explore campus\, do our best to answer your burning questions\, and talk about all things Yestermorrow. We hope to see you there.
URL:https://mrvvillage.com/event/yestermorrow-walk-in-campus-tour-9/
LOCATION:Yestermorrow Design/Build School\, 7865 Main Street\, Waitsfield\, 05673
CATEGORIES:Arts & Entertainment,Community,Special Events
ATTACH;FMTTYPE=image/png:https://mrvvillage.com/wp-content/uploads/2024/03/YESTERMORROW_5in2010-TRAP-sciHY6.tmp_.png
ORGANIZER;CN="Yestermorrow%20Design%2FBuild%20School":MAILTO:info@yestermorrow.org
GEO:44.1490529;-72.8380281
X-APPLE-STRUCTURED-LOCATION;VALUE=URI;X-ADDRESS=Yestermorrow Design/Build School 7865 Main Street Waitsfield 05673;X-APPLE-RADIUS=500;X-TITLE=7865 Main Street:geo:-72.8380281,44.1490529
END:VEVENT
BEGIN:VEVENT
DTSTART;TZID=America/New_York:20240801T193000
DTEND;TZID=America/New_York:20240801T213000
DTSTAMP:20260423T192753
CREATED:20240509T042437Z
LAST-MODIFIED:20240801T145314Z
UID:10006136-1722540600-1722547800@mrvvillage.com
SUMMARY:The Prom – the musical
DESCRIPTION:Eric Love is back to direct this award winning Spectacular! Taryn Noelle choreographs! Down-on-their-luck Broadway stars shake up a small Indiana town as they rally behind a teen who just wants to go to the prom with her girlfriend. Among others\, The Prom features Taryn Noelle\, Kathleen Keenan\, and a host of local triple-threat teens\, and stage veterans in their LNT debut. \n7:30pm Thu-Sat; 2pm Sun\nJuly 18 –August 4 \nCovid Safety Protocols: Masks are strongly encouraged. (LNT’s State of the Art Bio-Defense Air Purification “Synexis” System is also in service 24/7 keeping everyone as safe as possible.) \nThe Flood made LNT/City Hall’s elevator inoperable\, requiring climbing stairs to attend in person. The play will be available digitally to make the show accessible to those unable to physically join us. We appreciate your understanding during this emergency situation. Since we cannot provide wheelchair/walker access\, please call us (802-229-0492) or email info@lostnationtheater.org to discuss options for seeing the show. \nSPONSORS: Vermont Recovery & Resilience Fund of the Vermont Community Foundation\, Montpelier Strong Fund\, The City of Montpelier\, Vermont Mutual Insurance\, National Life Group\, The World\, Eternity\, Vermont Arts Council/NEA\, The Estate of Ted Richards\, The Mary Shriver Fund of the Alan Weiss Estate \nABOUT LNT: Lost Nation Theater winner “Theater of the Decade” – Broadway World (2020); “Best of New England”\, Yankee Magazine\, was named “One of the Best regional theaters in America” by the New York Drama League\, “Outstanding Achievement Award” from the New England Theatre Conference; and has won the People’s Choice awards from both Seven Days and The Times Argus for Best Theater.
URL:https://mrvvillage.com/event/the-prom-the-musical-9/
LOCATION:Lost Nation Theater\, 39 Main Street\, Montpelier\, 05602
CATEGORIES:Arts & Entertainment,Community,Family Friendly,Special Events,Ticketed Event
ATTACH;FMTTYPE=image/jpeg:https://mrvvillage.com/wp-content/uploads/2024/05/2024-PROM-Hallway-poster.eeb5f8e2.b09fa573-1-ClAmeM.tmp_.jpg
ORGANIZER;CN="Lost%20Nation%20Theater":MAILTO:boxoffice@lostnationtheater.org
GEO:44.2591817;-72.5755222
X-APPLE-STRUCTURED-LOCATION;VALUE=URI;X-ADDRESS=Lost Nation Theater 39 Main Street Montpelier 05602;X-APPLE-RADIUS=500;X-TITLE=39 Main Street:geo:-72.5755222,44.2591817
END:VEVENT
BEGIN:VEVENT
DTSTART;TZID=America/New_York:20240802T193000
DTEND;TZID=America/New_York:20240802T213000
DTSTAMP:20260423T192753
CREATED:20240509T042437Z
LAST-MODIFIED:20240802T150812Z
UID:10006137-1722627000-1722634200@mrvvillage.com
SUMMARY:The Prom – the musical
DESCRIPTION:Eric Love is back to direct this award winning Spectacular! Taryn Noelle choreographs! Down-on-their-luck Broadway stars shake up a small Indiana town as they rally behind a teen who just wants to go to the prom with her girlfriend. Among others\, The Prom features Taryn Noelle\, Kathleen Keenan\, and a host of local triple-threat teens\, and stage veterans in their LNT debut. \n7:30pm Thu-Sat; 2pm Sun\nJuly 18 –August 4 \nCovid Safety Protocols: Masks are strongly encouraged. (LNT’s State of the Art Bio-Defense Air Purification “Synexis” System is also in service 24/7 keeping everyone as safe as possible.) \nThe Flood made LNT/City Hall’s elevator inoperable\, requiring climbing stairs to attend in person. The play will be available digitally to make the show accessible to those unable to physically join us. We appreciate your understanding during this emergency situation. Since we cannot provide wheelchair/walker access\, please call us (802-229-0492) or email info@lostnationtheater.org to discuss options for seeing the show. \nSPONSORS: Vermont Recovery & Resilience Fund of the Vermont Community Foundation\, Montpelier Strong Fund\, The City of Montpelier\, Vermont Mutual Insurance\, National Life Group\, The World\, Eternity\, Vermont Arts Council/NEA\, The Estate of Ted Richards\, The Mary Shriver Fund of the Alan Weiss Estate \nABOUT LNT: Lost Nation Theater winner “Theater of the Decade” – Broadway World (2020); “Best of New England”\, Yankee Magazine\, was named “One of the Best regional theaters in America” by the New York Drama League\, “Outstanding Achievement Award” from the New England Theatre Conference; and has won the People’s Choice awards from both Seven Days and The Times Argus for Best Theater.
URL:https://mrvvillage.com/event/the-prom-the-musical-10/
LOCATION:Lost Nation Theater\, 39 Main Street\, Montpelier\, 05602
CATEGORIES:Arts & Entertainment,Community,Family Friendly,Special Events,Ticketed Event
ATTACH;FMTTYPE=image/jpeg:https://mrvvillage.com/wp-content/uploads/2024/05/2024-PROM-Hallway-poster.eeb5f8e2.b09fa573-1-ClAmeM.tmp_.jpg
ORGANIZER;CN="Lost%20Nation%20Theater":MAILTO:boxoffice@lostnationtheater.org
GEO:44.2591817;-72.5755222
X-APPLE-STRUCTURED-LOCATION;VALUE=URI;X-ADDRESS=Lost Nation Theater 39 Main Street Montpelier 05602;X-APPLE-RADIUS=500;X-TITLE=39 Main Street:geo:-72.5755222,44.2591817
END:VEVENT
BEGIN:VEVENT
DTSTART;TZID=America/New_York:20240803T193000
DTEND;TZID=America/New_York:20240803T213000
DTSTAMP:20260423T192753
CREATED:20240509T042437Z
LAST-MODIFIED:20240803T150811Z
UID:10006138-1722713400-1722720600@mrvvillage.com
SUMMARY:The Prom – the musical
DESCRIPTION:Eric Love is back to direct this award winning Spectacular! Taryn Noelle choreographs! Down-on-their-luck Broadway stars shake up a small Indiana town as they rally behind a teen who just wants to go to the prom with her girlfriend. Among others\, The Prom features Taryn Noelle\, Kathleen Keenan\, and a host of local triple-threat teens\, and stage veterans in their LNT debut. \n7:30pm Thu-Sat; 2pm Sun\nJuly 18 –August 4 \nCovid Safety Protocols: Masks are strongly encouraged. (LNT’s State of the Art Bio-Defense Air Purification “Synexis” System is also in service 24/7 keeping everyone as safe as possible.) \nThe Flood made LNT/City Hall’s elevator inoperable\, requiring climbing stairs to attend in person. The play will be available digitally to make the show accessible to those unable to physically join us. We appreciate your understanding during this emergency situation. Since we cannot provide wheelchair/walker access\, please call us (802-229-0492) or email info@lostnationtheater.org to discuss options for seeing the show. \nSPONSORS: Vermont Recovery & Resilience Fund of the Vermont Community Foundation\, Montpelier Strong Fund\, The City of Montpelier\, Vermont Mutual Insurance\, National Life Group\, The World\, Eternity\, Vermont Arts Council/NEA\, The Estate of Ted Richards\, The Mary Shriver Fund of the Alan Weiss Estate \nABOUT LNT: Lost Nation Theater winner “Theater of the Decade” – Broadway World (2020); “Best of New England”\, Yankee Magazine\, was named “One of the Best regional theaters in America” by the New York Drama League\, “Outstanding Achievement Award” from the New England Theatre Conference; and has won the People’s Choice awards from both Seven Days and The Times Argus for Best Theater.
URL:https://mrvvillage.com/event/the-prom-the-musical-11/
LOCATION:Lost Nation Theater\, 39 Main Street\, Montpelier\, 05602
CATEGORIES:Arts & Entertainment,Community,Family Friendly,Special Events,Ticketed Event
ATTACH;FMTTYPE=image/jpeg:https://mrvvillage.com/wp-content/uploads/2024/05/2024-PROM-Hallway-poster.eeb5f8e2.b09fa573-1-ClAmeM.tmp_.jpg
ORGANIZER;CN="Lost%20Nation%20Theater":MAILTO:boxoffice@lostnationtheater.org
GEO:44.2591817;-72.5755222
X-APPLE-STRUCTURED-LOCATION;VALUE=URI;X-ADDRESS=Lost Nation Theater 39 Main Street Montpelier 05602;X-APPLE-RADIUS=500;X-TITLE=39 Main Street:geo:-72.5755222,44.2591817
END:VEVENT
BEGIN:VEVENT
DTSTART;TZID=America/New_York:20240804T140000
DTEND;TZID=America/New_York:20240804T160000
DTSTAMP:20260423T192753
CREATED:20240509T042450Z
LAST-MODIFIED:20240804T150811Z
UID:10006139-1722780000-1722787200@mrvvillage.com
SUMMARY:The Prom – the musical
DESCRIPTION:Eric Love is back to direct this award winning Spectacular! Taryn Noelle choreographs! Down-on-their-luck Broadway stars shake up a small Indiana town as they rally behind a teen who just wants to go to the prom with her girlfriend. Among others\, The Prom features Taryn Noelle\, Kathleen Keenan\, and a host of local triple-threat teens\, and stage veterans in their LNT debut. \n7:30pm Thu-Sat; 2pm Sun\nJuly 18 –August 4 \nCovid Safety Protocols: Masks are strongly encouraged. (LNT’s State of the Art Bio-Defense Air Purification “Synexis” System is also in service 24/7 keeping everyone as safe as possible.) \nThe Flood made LNT/City Hall’s elevator inoperable\, requiring climbing stairs to attend in person. The play will be available digitally to make the show accessible to those unable to physically join us. We appreciate your understanding during this emergency situation. Since we cannot provide wheelchair/walker access\, please call us (802-229-0492) or email info@lostnationtheater.org to discuss options for seeing the show. \nSPONSORS: Vermont Recovery & Resilience Fund of the Vermont Community Foundation\, Montpelier Strong Fund\, The City of Montpelier\, Vermont Mutual Insurance\, National Life Group\, The World\, Eternity\, Vermont Arts Council/NEA\, The Estate of Ted Richards\, The Mary Shriver Fund of the Alan Weiss Estate \nABOUT LNT: Lost Nation Theater winner “Theater of the Decade” – Broadway World (2020); “Best of New England”\, Yankee Magazine\, was named “One of the Best regional theaters in America” by the New York Drama League\, “Outstanding Achievement Award” from the New England Theatre Conference; and has won the People’s Choice awards from both Seven Days and The Times Argus for Best Theater.
URL:https://mrvvillage.com/event/the-prom-the-musical-12/
LOCATION:Lost Nation Theater\, 39 Main Street\, Montpelier\, 05602
CATEGORIES:Arts & Entertainment,Community,Family Friendly,Special Events,Ticketed Event
ATTACH;FMTTYPE=image/jpeg:https://mrvvillage.com/wp-content/uploads/2024/05/2024-PROM-Hallway-poster.eeb5f8e2.b09fa573-1-ClAmeM.tmp_.jpg
ORGANIZER;CN="Lost%20Nation%20Theater":MAILTO:boxoffice@lostnationtheater.org
GEO:44.2591817;-72.5755222
X-APPLE-STRUCTURED-LOCATION;VALUE=URI;X-ADDRESS=Lost Nation Theater 39 Main Street Montpelier 05602;X-APPLE-RADIUS=500;X-TITLE=39 Main Street:geo:-72.5755222,44.2591817
END:VEVENT
BEGIN:VEVENT
DTSTART;TZID=America/New_York:20240807T160000
DTEND;TZID=America/New_York:20240807T200000
DTSTAMP:20260423T192753
CREATED:20240509T042450Z
LAST-MODIFIED:20240702T092525Z
UID:10006140-1723046400-1723060800@mrvvillage.com
SUMMARY:Family Nature Hunt
DESCRIPTION:Renowned naturalist and author of 15 books\, Clare Walker Leslie\, leads a fun and informative session that helps us see and record the wild world all around us. You’ll be amazed at how many critters and plants make their home near the beautifully renovated Corner School one-room schoolhouse and how their lives are connected to our own!
URL:https://mrvvillage.com/event/family-nature-hunt-2/
LOCATION:Corner School Resource Center of Granville Vermont\, 75 Post Office Hill 75 Post Office Hill\, Granville\, Vermont\, 05747\, United States
CATEGORIES:Arts & Entertainment,Community,Family Friendly,Special Events
ATTACH;FMTTYPE=image/jpeg:https://mrvvillage.com/wp-content/uploads/2024/05/IMG_0840-Ctf5DA.tmp_.jpg
ORGANIZER;CN="Corner%20School%20Resource%20Center":MAILTO:k8izwrite@gmail.com
GEO:43.9859901;-72.8465845
X-APPLE-STRUCTURED-LOCATION;VALUE=URI;X-ADDRESS=Corner School Resource Center of Granville Vermont 75 Post Office Hill 75 Post Office Hill Granville Vermont 05747 United States;X-APPLE-RADIUS=500;X-TITLE=75 Post Office Hill 75 Post Office Hill:geo:-72.8465845,43.9859901
END:VEVENT
BEGIN:VEVENT
DTSTART;TZID=America/New_York:20240808T160000
DTEND;TZID=America/New_York:20240808T164500
DTSTAMP:20260423T192753
CREATED:20240605T173930Z
LAST-MODIFIED:20240714T124014Z
UID:10006201-1723132800-1723135500@mrvvillage.com
SUMMARY:Yestermorrow Walk-In Campus Tour
DESCRIPTION:If you are in the Mad River Valley and would like to tour the Yestermorrow campus\, please come say hello. We are offering recurring walk-in tours\, Thursdays at 4pm\, throughout the summer. We will explore campus\, do our best to answer your burning questions\, and talk about all things Yestermorrow. We hope to see you there.
URL:https://mrvvillage.com/event/yestermorrow-walk-in-campus-tour-10/
LOCATION:Yestermorrow Design/Build School\, 7865 Main Street\, Waitsfield\, 05673
CATEGORIES:Arts & Entertainment,Community,Special Events
ATTACH;FMTTYPE=image/png:https://mrvvillage.com/wp-content/uploads/2024/03/YESTERMORROW_5in2010-TRAP-sciHY6.tmp_.png
ORGANIZER;CN="Yestermorrow%20Design%2FBuild%20School":MAILTO:info@yestermorrow.org
GEO:44.1490529;-72.8380281
X-APPLE-STRUCTURED-LOCATION;VALUE=URI;X-ADDRESS=Yestermorrow Design/Build School 7865 Main Street Waitsfield 05673;X-APPLE-RADIUS=500;X-TITLE=7865 Main Street:geo:-72.8380281,44.1490529
END:VEVENT
BEGIN:VEVENT
DTSTART;TZID=America/New_York:20240812T090000
DTEND;TZID=America/New_York:20240812T170000
DTSTAMP:20260423T192753
CREATED:20240514T043942Z
LAST-MODIFIED:20240812T160813Z
UID:10006161-1723453200-1723482000@mrvvillage.com
SUMMARY:Collaborative Design/Build Intensive
DESCRIPTION:Yestermorrow’s work is rooted in an integrated design/build philosophy. We believe that combining design and building offers numerous advantages and promotes the creation of intentional and inspired buildings and communities that enhance our world. Led by founding members of the legendary Jersey Devil Design/Build group and renowned architect Bill Bialosky\, this course is the embodiment of the design/build process. \nThis 2 week crash course teaches students critical skills in both facilitating consensus based design and fundamental carpentry skills. Students engage in a collaborative and interactive process of designing and building a full scale community project. Students will meet with the non-profit or community client\, establish the program\, work within a budget\, propose and develop the design all in just 3 days. Following design approval\, we’ll head to the job site to execute the design. \nThroughout the program students will experience the design/build feedback loop as they gain fundamental carpentry skills while also learning how to adapt existing plans to current conditions. Your creative thinking and problem solving skills will be put to the test! \nThis class is a great fit for people interested in community development\, change making\, architecture\, small scale building and collaborative design.\nThis course is open to architects and builders seeking to earn continuing education credit\, as well as to students\, non-professionals\, and anyone with enthusiasm about design/build and giving back to the public realm. Previous construction experience is not required. However\, a willingness to try is expected!
URL:https://mrvvillage.com/event/collaborative-design-build-intensive/
LOCATION:Yestermorrow Design/Build School\, 7865 Main Street\, Waitsfield\, 05673
CATEGORIES:Community,Special Events
ATTACH;FMTTYPE=image/png:https://mrvvillage.com/wp-content/uploads/2024/05/1-ZhWfcM.tmp_.png
ORGANIZER;CN="Yestermorrow%20Design%2FBuild%20School":MAILTO:info@yestermorrow.org
GEO:44.1490529;-72.8380281
X-APPLE-STRUCTURED-LOCATION;VALUE=URI;X-ADDRESS=Yestermorrow Design/Build School 7865 Main Street Waitsfield 05673;X-APPLE-RADIUS=500;X-TITLE=7865 Main Street:geo:-72.8380281,44.1490529
END:VEVENT
BEGIN:VEVENT
DTSTART;TZID=America/New_York:20240815T160000
DTEND;TZID=America/New_York:20240815T164500
DTSTAMP:20260423T192753
CREATED:20240605T173930Z
LAST-MODIFIED:20240714T124028Z
UID:10006202-1723737600-1723740300@mrvvillage.com
SUMMARY:Yestermorrow Walk-In Campus Tour
DESCRIPTION:If you are in the Mad River Valley and would like to tour the Yestermorrow campus\, please come say hello. We are offering recurring walk-in tours\, Thursdays at 4pm\, throughout the summer. We will explore campus\, do our best to answer your burning questions\, and talk about all things Yestermorrow. We hope to see you there.
URL:https://mrvvillage.com/event/yestermorrow-walk-in-campus-tour-11/
LOCATION:Yestermorrow Design/Build School\, 7865 Main Street\, Waitsfield\, 05673
CATEGORIES:Arts & Entertainment,Community,Special Events
ATTACH;FMTTYPE=image/png:https://mrvvillage.com/wp-content/uploads/2024/03/YESTERMORROW_5in2010-TRAP-sciHY6.tmp_.png
ORGANIZER;CN="Yestermorrow%20Design%2FBuild%20School":MAILTO:info@yestermorrow.org
GEO:44.1490529;-72.8380281
X-APPLE-STRUCTURED-LOCATION;VALUE=URI;X-ADDRESS=Yestermorrow Design/Build School 7865 Main Street Waitsfield 05673;X-APPLE-RADIUS=500;X-TITLE=7865 Main Street:geo:-72.8380281,44.1490529
END:VEVENT
BEGIN:VEVENT
DTSTART;TZID=America/New_York:20240822T160000
DTEND;TZID=America/New_York:20240822T164500
DTSTAMP:20260423T192753
CREATED:20240605T173930Z
LAST-MODIFIED:20240714T124055Z
UID:10006203-1724342400-1724345100@mrvvillage.com
SUMMARY:Yestermorrow Walk-In Campus Tour
DESCRIPTION:If you are in the Mad River Valley and would like to tour the Yestermorrow campus\, please come say hello. We are offering recurring walk-in tours\, Thursdays at 4pm\, throughout the summer. We will explore campus\, do our best to answer your burning questions\, and talk about all things Yestermorrow. We hope to see you there.
URL:https://mrvvillage.com/event/yestermorrow-walk-in-campus-tour-12/
LOCATION:Yestermorrow Design/Build School\, 7865 Main Street\, Waitsfield\, 05673
CATEGORIES:Arts & Entertainment,Community,Special Events
ATTACH;FMTTYPE=image/png:https://mrvvillage.com/wp-content/uploads/2024/03/YESTERMORROW_5in2010-TRAP-sciHY6.tmp_.png
ORGANIZER;CN="Yestermorrow%20Design%2FBuild%20School":MAILTO:info@yestermorrow.org
GEO:44.1490529;-72.8380281
X-APPLE-STRUCTURED-LOCATION;VALUE=URI;X-ADDRESS=Yestermorrow Design/Build School 7865 Main Street Waitsfield 05673;X-APPLE-RADIUS=500;X-TITLE=7865 Main Street:geo:-72.8380281,44.1490529
END:VEVENT
BEGIN:VEVENT
DTSTART;TZID=America/New_York:20240829T160000
DTEND;TZID=America/New_York:20240829T164500
DTSTAMP:20260423T192753
CREATED:20240605T173930Z
LAST-MODIFIED:20240714T124109Z
UID:10006204-1724947200-1724949900@mrvvillage.com
SUMMARY:Yestermorrow Walk-In Campus Tour
DESCRIPTION:If you are in the Mad River Valley and would like to tour the Yestermorrow campus\, please come say hello. We are offering recurring walk-in tours\, Thursdays at 4pm\, throughout the summer. We will explore campus\, do our best to answer your burning questions\, and talk about all things Yestermorrow. We hope to see you there.
URL:https://mrvvillage.com/event/yestermorrow-walk-in-campus-tour-13/
LOCATION:Yestermorrow Design/Build School\, 7865 Main Street\, Waitsfield\, 05673
CATEGORIES:Arts & Entertainment,Community,Special Events
ATTACH;FMTTYPE=image/png:https://mrvvillage.com/wp-content/uploads/2024/03/YESTERMORROW_5in2010-TRAP-sciHY6.tmp_.png
ORGANIZER;CN="Yestermorrow%20Design%2FBuild%20School":MAILTO:info@yestermorrow.org
GEO:44.1490529;-72.8380281
X-APPLE-STRUCTURED-LOCATION;VALUE=URI;X-ADDRESS=Yestermorrow Design/Build School 7865 Main Street Waitsfield 05673;X-APPLE-RADIUS=500;X-TITLE=7865 Main Street:geo:-72.8380281,44.1490529
END:VEVENT
END:VCALENDAR