BEGIN:VCALENDAR
VERSION:2.0
PRODID:-//The Mad River Valley Village - ECPv6.0.13//NONSGML v1.0//EN
CALSCALE:GREGORIAN
METHOD:PUBLISH
X-WR-CALNAME:The Mad River Valley Village
X-ORIGINAL-URL:https://mrvvillage.com
X-WR-CALDESC:Events for The Mad River Valley Village
REFRESH-INTERVAL;VALUE=DURATION:PT1H
X-Robots-Tag:noindex
X-PUBLISHED-TTL:PT1H
BEGIN:VTIMEZONE
TZID:America/New_York
BEGIN:DAYLIGHT
TZOFFSETFROM:-0500
TZOFFSETTO:-0400
TZNAME:EDT
DTSTART:20230312T070000
END:DAYLIGHT
BEGIN:STANDARD
TZOFFSETFROM:-0400
TZOFFSETTO:-0500
TZNAME:EST
DTSTART:20231105T060000
END:STANDARD
END:VTIMEZONE
BEGIN:VEVENT
DTSTART;TZID=America/New_York:20231104T110000
DTEND;TZID=America/New_York:20231104T160000
DTSTAMP:20260422T101824
CREATED:20231102T193813Z
LAST-MODIFIED:20231104T195327Z
UID:10005497-1699095600-1699113600@mrvvillage.com
SUMMARY:Neighborhood Toy Store Day Celebration
DESCRIPTION:Join us for our annual Neighborhood Toy Store Day Celebration\, a day of fun\, play and exploration! This is a FREE\, RAIN or SHINE event\, on SATURDAY 11/4 from 11-4pm! We look forward to playing with you! \nCome and :\n– Try New Games\n– Explore in the Toddler Play Area\n– Participate in fun Activities\n– Get Secret Discounts\n– & So Much More!! \n 
URL:https://mrvvillage.com/event/neighborhood-toy-store-day-celebration/
LOCATION:The Collection\, 110 Mad River Green Shopping Center\, Waitsfield\, VT\, 05673
CATEGORIES:Community,Family Friendly,Public Welcome,Special Events
ATTACH;FMTTYPE=image/png:https://mrvvillage.com/wp-content/uploads/2023/11/Screen-Shot-2023-11-02-at-9.05.25-AM-4oZ6lf.tmp_.png
ORGANIZER;CN="The%20Collection":MAILTO:collection@madriver.com
GEO:44.184354;-72.839175
X-APPLE-STRUCTURED-LOCATION;VALUE=URI;X-ADDRESS=The Collection 110 Mad River Green Shopping Center Waitsfield VT 05673;X-APPLE-RADIUS=500;X-TITLE=110 Mad River Green Shopping Center:geo:-72.839175,44.184354
END:VEVENT
END:VCALENDAR