BEGIN:VCALENDAR
VERSION:2.0
PRODID:-//The Mad River Valley Village - ECPv6.0.13//NONSGML v1.0//EN
CALSCALE:GREGORIAN
METHOD:PUBLISH
X-ORIGINAL-URL:https://mrvvillage.com
X-WR-CALDESC:Events for The Mad River Valley Village
REFRESH-INTERVAL;VALUE=DURATION:PT1H
X-Robots-Tag:noindex
X-PUBLISHED-TTL:PT1H
BEGIN:VTIMEZONE
TZID:America/New_York
BEGIN:DAYLIGHT
TZOFFSETFROM:-0500
TZOFFSETTO:-0400
TZNAME:EDT
DTSTART:20230312T070000
END:DAYLIGHT
BEGIN:STANDARD
TZOFFSETFROM:-0400
TZOFFSETTO:-0500
TZNAME:EST
DTSTART:20231105T060000
END:STANDARD
END:VTIMEZONE
BEGIN:VEVENT
DTSTART;TZID=America/New_York:20231201T100000
DTEND;TZID=America/New_York:20231201T170000
DTSTAMP:20260422T180954
CREATED:20231117T215356Z
LAST-MODIFIED:20231201T160819Z
UID:10005538-1701424800-1701450000@mrvvillage.com
SUMMARY:BAKED BEADS POP-UP JEWELRY & SCARF SALE • 3-for-$20!
DESCRIPTION:Everything priced at 3-for-$20 — 60-75% off previous seasons’ styles of earrings\, necklaces\, bracelets & scarves!\nFriday and Saturday December 1-2  from 10AM-5PM
URL:https://mrvvillage.com/event/baked-beads-pop-up-jewelry-scarf-sale-3-for-20/
LOCATION:Baked Beads\, 6973 Main Street\, Waitsfield\, Vermont\, 05673\, United States
CATEGORIES:Community,Special Events
ATTACH;FMTTYPE=image/jpeg:https://mrvvillage.com/wp-content/uploads/2023/11/Sale-December-2023-Event-Photo-lE3Crx.tmp_.jpg
ORGANIZER;CN="Baked%20Beads":MAILTO:clearance@bakedbeads
GEO:44.1598221;-72.8339319
X-APPLE-STRUCTURED-LOCATION;VALUE=URI;X-ADDRESS=Baked Beads 6973 Main Street Waitsfield Vermont 05673 United States;X-APPLE-RADIUS=500;X-TITLE=6973 Main Street:geo:-72.8339319,44.1598221
END:VEVENT
END:VCALENDAR