BEGIN:VCALENDAR
VERSION:2.0
PRODID:-//The Mad River Valley Village - ECPv6.0.13//NONSGML v1.0//EN
CALSCALE:GREGORIAN
METHOD:PUBLISH
X-ORIGINAL-URL:https://mrvvillage.com
X-WR-CALDESC:Events for The Mad River Valley Village
REFRESH-INTERVAL;VALUE=DURATION:PT1H
X-Robots-Tag:noindex
X-PUBLISHED-TTL:PT1H
BEGIN:VTIMEZONE
TZID:America/New_York
BEGIN:DAYLIGHT
TZOFFSETFROM:-0500
TZOFFSETTO:-0400
TZNAME:EDT
DTSTART:20240310T070000
END:DAYLIGHT
BEGIN:STANDARD
TZOFFSETFROM:-0400
TZOFFSETTO:-0500
TZNAME:EST
DTSTART:20241103T060000
END:STANDARD
END:VTIMEZONE
BEGIN:VEVENT
DTSTART;TZID=America/New_York:20240327T183000
DTEND;TZID=America/New_York:20240327T200000
DTSTAMP:20260422T194503
CREATED:20240314T235417Z
LAST-MODIFIED:20240327T133811Z
UID:10006019-1711564200-1711569600@mrvvillage.com
SUMMARY:BUILDING AFFORDABILITY SPEAKER SERIES – YESTERMORROW LOOKS TOWARD TOMORROW: AFFORDABLE HOUSING AT THE CORE OF OUR STRATEGIC PLANNING GOALS WITH BRITTON ROGERS
DESCRIPTION:BUILDING AFFORDABILITY SPEAKER SERIES – YESTERMORROW LOOKS TOWARD TOMORROW: AFFORDABLE HOUSING AT THE CORE OF OUR STRATEGIC PLANNING GOALS WITH BRITTON ROGERS
URL:https://mrvvillage.com/event/building-affordability-speaker-series-yestermorrow-looks-toward-tomorrow-affordable-housing-at-the-core-of-our-strategic-planning-goals-with-britton-rogers/
LOCATION:Yestermorrow Design/Build School\, 7865 Main Street\, Waitsfield\, 05673
CATEGORIES:Community,Special Events
ATTACH;FMTTYPE=image/jpeg:https://mrvvillage.com/wp-content/uploads/2024/03/Yester-front-page1-hLDm2e.tmp_.jpg
ORGANIZER;CN="Yestermorrow%20Design%2FBuild%20School":MAILTO:info@yestermorrow.org
GEO:44.1490529;-72.8380281
X-APPLE-STRUCTURED-LOCATION;VALUE=URI;X-ADDRESS=Yestermorrow Design/Build School 7865 Main Street Waitsfield 05673;X-APPLE-RADIUS=500;X-TITLE=7865 Main Street:geo:-72.8380281,44.1490529
END:VEVENT
END:VCALENDAR