BEGIN:VCALENDAR
VERSION:2.0
PRODID:-//The Mad River Valley Village - ECPv6.0.13//NONSGML v1.0//EN
CALSCALE:GREGORIAN
METHOD:PUBLISH
X-ORIGINAL-URL:https://mrvvillage.com
X-WR-CALDESC:Events for The Mad River Valley Village
REFRESH-INTERVAL;VALUE=DURATION:PT1H
X-Robots-Tag:noindex
X-PUBLISHED-TTL:PT1H
BEGIN:VTIMEZONE
TZID:America/New_York
BEGIN:DAYLIGHT
TZOFFSETFROM:-0500
TZOFFSETTO:-0400
TZNAME:EDT
DTSTART:20240310T070000
END:DAYLIGHT
BEGIN:STANDARD
TZOFFSETFROM:-0400
TZOFFSETTO:-0500
TZNAME:EST
DTSTART:20241103T060000
END:STANDARD
END:VTIMEZONE
BEGIN:VEVENT
DTSTART;TZID=America/New_York:20240405T183000
DTEND;TZID=America/New_York:20240405T200000
DTSTAMP:20260423T004515
CREATED:20240311T230944Z
LAST-MODIFIED:20240405T140813Z
UID:10006009-1712341800-1712347200@mrvvillage.com
SUMMARY:Poetry Slam
DESCRIPTION:The MRV Libraries and VT Slammaster Geof Hewitt hosts a Poetry Slam.
URL:https://mrvvillage.com/event/poetry-slam/
LOCATION:Mad River Barn
CATEGORIES:Arts & Entertainment,Community,Special Events
ATTACH;FMTTYPE=image/png:https://mrvvillage.com/wp-content/uploads/2024/03/New-poster-Poetry-slam-April-5-1-GceIfW.tmp_.png
ORGANIZER;CN="Mad%20River%20Libraries":MAILTO:programs@warrenlibrary.com
GEO:44.195472;-72.8915611
END:VEVENT
END:VCALENDAR