BEGIN:VCALENDAR
VERSION:2.0
PRODID:-//The Mad River Valley Village - ECPv6.0.13//NONSGML v1.0//EN
CALSCALE:GREGORIAN
METHOD:PUBLISH
X-ORIGINAL-URL:https://mrvvillage.com
X-WR-CALDESC:Events for The Mad River Valley Village
REFRESH-INTERVAL;VALUE=DURATION:PT1H
X-Robots-Tag:noindex
X-PUBLISHED-TTL:PT1H
BEGIN:VTIMEZONE
TZID:America/New_York
BEGIN:DAYLIGHT
TZOFFSETFROM:-0500
TZOFFSETTO:-0400
TZNAME:EDT
DTSTART:20240310T070000
END:DAYLIGHT
BEGIN:STANDARD
TZOFFSETFROM:-0400
TZOFFSETTO:-0500
TZNAME:EST
DTSTART:20241103T060000
END:STANDARD
END:VTIMEZONE
BEGIN:VEVENT
DTSTART;TZID=America/New_York:20240414T100000
DTEND;TZID=America/New_York:20240414T160000
DTSTAMP:20260423T004515
CREATED:20240115T135902Z
LAST-MODIFIED:20240414T142323Z
UID:10005868-1713088800-1713110400@mrvvillage.com
SUMMARY:Mad River Triathlon
DESCRIPTION:Mad River Triathlon is a four-sports event set in picturesque Mad River Valley\, VT. The running race starts at the Warren School and follows the Mad River Path and VT 100. Racers will follow footpaths along the River and the shoulder of the road for 5 miles to the start of the paddling leg at Lareau Swimming Hole in Waitsfield. \nTransitioning to canoes and kayaks (or anything else that floats)\, racers will paddle 6 miles of fast-moving water\, interspersed with class I and occasional II rapids to the takeout on Meadow Road and the beginning of the biking leg. \nA 10-mile-long bike leg consists of gravel roads\, single track\, unimproved forest roads\, and pavement. The bike leg brings racers to the base of Mount Ellen for the final AT ski event. \nThe ski event will consist of skinning up Mount Ellen and skiing down to the finish line.
URL:https://mrvvillage.com/event/mad-river-triathlon/
LOCATION:Around the Valley
CATEGORIES:Arts & Entertainment,Special Events,Sports & Recreation
ATTACH;FMTTYPE=image/jpeg:https://mrvvillage.com/wp-content/uploads/2024/01/MRP-Collage-Azevm9.tmp_.jpg
END:VEVENT
END:VCALENDAR