BEGIN:VCALENDAR
VERSION:2.0
PRODID:-//The Mad River Valley Village - ECPv6.0.13//NONSGML v1.0//EN
CALSCALE:GREGORIAN
METHOD:PUBLISH
X-ORIGINAL-URL:https://mrvvillage.com
X-WR-CALDESC:Events for The Mad River Valley Village
REFRESH-INTERVAL;VALUE=DURATION:PT1H
X-Robots-Tag:noindex
X-PUBLISHED-TTL:PT1H
BEGIN:VTIMEZONE
TZID:America/New_York
BEGIN:DAYLIGHT
TZOFFSETFROM:-0500
TZOFFSETTO:-0400
TZNAME:EDT
DTSTART:20240310T070000
END:DAYLIGHT
BEGIN:STANDARD
TZOFFSETFROM:-0400
TZOFFSETTO:-0500
TZNAME:EST
DTSTART:20241103T060000
END:STANDARD
END:VTIMEZONE
BEGIN:VEVENT
DTSTART;TZID=America/New_York:20240529T160000
DTEND;TZID=America/New_York:20240529T170000
DTSTAMP:20260423T075104
CREATED:20240522T170821Z
LAST-MODIFIED:20240529T173814Z
UID:10006175-1716998400-1717002000@mrvvillage.com
SUMMARY:Family tree planting and care workshop
DESCRIPTION:Join Brian Mohr (Ember Hill Farm) at Living Tree Alliance’s (LTA) community orchard to learn about planting and caring for fruit trees and berry bushes. Brian will model a few techniques\, and then folks will plant fruit trees and shrubs in the orchard. LTA educator Melanie Grubman will also lead families in some activities\, and kids will get a chance to explore the adventure playground and visit the animals. LTA’s own greens and eggs will be for sale\, and each participant will receive a gift certificate for trees and shrubs at Ember Hill Farm. All donations go towards LTA’s school to farm field trips with HUUSD. \nTo pre-order any plants or trees from Ember Hill Farm for Brian to deliver at the event or to pick up at the farm\, reach out to Brian directly at emberhillfarm@gmail.com or text/call him at 802-989-0570.\nFor more info about Ember Hill Farm:\nFB: www.facebook.com/emberhillfarm\nIG: www.instagram.com/emberhillfarm
URL:https://mrvvillage.com/event/family-tree-planting-and-care-workshop/
LOCATION:Living Tree Alliance\, 96 Living Tree Ln\, Moretown\, VT\, 05660\, United States
CATEGORIES:Community,Family Friendly,Special Events
ATTACH;FMTTYPE=image/png:https://mrvvillage.com/wp-content/uploads/2024/05/Screenshot_20240521-074916-1-ycqCuL.tmp_.png
ORGANIZER;CN="Living%20Tree%20Alliance":MAILTO:info@livingtreealliance.com
GEO:44.2472902;-72.7762636
X-APPLE-STRUCTURED-LOCATION;VALUE=URI;X-ADDRESS=Living Tree Alliance 96 Living Tree Ln Moretown VT 05660 United States;X-APPLE-RADIUS=500;X-TITLE=96 Living Tree Ln:geo:-72.7762636,44.2472902
END:VEVENT
END:VCALENDAR