BEGIN:VCALENDAR
VERSION:2.0
PRODID:-//The Mad River Valley Village - ECPv6.0.13//NONSGML v1.0//EN
CALSCALE:GREGORIAN
METHOD:PUBLISH
X-WR-CALNAME:The Mad River Valley Village
X-ORIGINAL-URL:https://mrvvillage.com
X-WR-CALDESC:Events for The Mad River Valley Village
REFRESH-INTERVAL;VALUE=DURATION:PT1H
X-Robots-Tag:noindex
X-PUBLISHED-TTL:PT1H
BEGIN:VTIMEZONE
TZID:America/New_York
BEGIN:DAYLIGHT
TZOFFSETFROM:-0500
TZOFFSETTO:-0400
TZNAME:EDT
DTSTART:20240310T070000
END:DAYLIGHT
BEGIN:STANDARD
TZOFFSETFROM:-0400
TZOFFSETTO:-0500
TZNAME:EST
DTSTART:20241103T060000
END:STANDARD
END:VTIMEZONE
BEGIN:VEVENT
DTSTART;TZID=America/New_York:20240601T150000
DTEND;TZID=America/New_York:20240602T163000
DTSTAMP:20260423T091818
CREATED:20240512T043900Z
LAST-MODIFIED:20240601T173809Z
UID:10006155-1717254000-1717345800@mrvvillage.com
SUMMARY:Birding By Ear Workshop
DESCRIPTION:Have you ever wondered which bird is making what sound in the overwhelming chorus of song this time of year?\nThen join the library and the Mad Birders as we delve into the exciting world of birding using our ears. We will meet indoors on Saturday afternoon to learn the basics\, then practice these skills on an outdoor walk Sunday morning. Both sessions are free\, and all ages are welcome. Visit our website for more information.
URL:https://mrvvillage.com/event/birding-by-ear-workshop/
LOCATION:Moretown Town Hall and Library\, 1147 Route 100B\, Moretown\, 05660
CATEGORIES:Community,Special Events,Sports & Recreation
ATTACH;FMTTYPE=image/png:https://mrvvillage.com/wp-content/uploads/2024/05/2024Birding-by-Ear-DhxUmh.tmp_.png
ORGANIZER;CN="Moretown%20Library":MAILTO:moretownlibrary@gmail.com
GEO:44.2476272;-72.7639304
X-APPLE-STRUCTURED-LOCATION;VALUE=URI;X-ADDRESS=Moretown Town Hall and Library 1147 Route 100B Moretown 05660;X-APPLE-RADIUS=500;X-TITLE=1147 Route 100B:geo:-72.7639304,44.2476272
END:VEVENT
BEGIN:VEVENT
DTSTART;TZID=America/New_York:20240602T140000
DTEND;TZID=America/New_York:20240602T170000
DTSTAMP:20260423T091818
CREATED:20240524T053836Z
LAST-MODIFIED:20240602T173810Z
UID:10006177-1717336800-1717347600@mrvvillage.com
SUMMARY:Bread and Puppet Museum Opening and The Whole Kit and Caboodle Show
DESCRIPTION:Bread & Puppet will host our traditional Museum Open House Sunday\, June 2nd at 2 p.m. As always\, this celebratory afternoon of performances\, bread\, and museum appreciation will mark the beginning of a bustling summer season at the Bread & Puppet farm. \nThe Open House will begin at the entrance of our Museum\, where local singers will gather to sing songs in the “Shape Note” tradition\, an early American sacred singing tradition with deep roots in Vermont\, in four-part harmony. Next\, the Museum will receive its ceremonial opening for the season: the museum guard will be woken up and reinstalled at his post for the summer. The public will be invited to peruse the museum.\nIn keeping with tradition\, the middle of the afternoon will feature performances by B&P friends and guests with original music and short puppet shows at locations around the B&P farm. \nThe afternoon will conclude with The Whole Kit and Caboodle Show! \n“We the Whole Kit & Caboodle bread bakers\, peace and harmony terrorists\, and criminal trespassers of the fascist empire offer anti-hospital bombing calisthenics in the face of the Freedom and Democracy Bullshitters\, and precise funeral rites for the collapsing Western Civilization and make our divine papermaché weaponry as retrieved from the cardboard industry’s available refuse to defeat the capitalist hegemony and celebrate a brand-new humanity with appropriate victory dances and demonstrate our birthright as children of the one and only Mother Dirt who makes us and unmakes us and now requires our full undivided attention.” -Peter Schumann \nAfter the show Bread & Puppet will serve its famous sourdough rye bread with aioli\, and Bread & Puppet’s “Cheap Art” – books\, posters\, postcards\, pamphlets and banners from the Bread & Puppet Press – will be for sale. \nTickets for the Summer 2024 shows are $10 each. Admission by donation for kids 6 and under. We ask that you purchase a ticket ahead of time if you’re able. However\, it’s central to our philosophy for our shows to be accessible and no one will be turned away for lack of funds. Please check our website to purchase tickets https://breadandpuppet.org/ \nDogs are discouraged\, though well behaved dogs on leash are allowed. If you bring your dog\, PLEASE SIT IN THE BACK of the audience\, AT THE TOP OF THE THEATER as far away as possible from the brass band and bring plenty of water (there is none onsite). \nWe look forward to seeing you this summer!
URL:https://mrvvillage.com/event/bread-and-puppet-museum-opening-and-the-whole-kit-and-caboodle-show/
LOCATION:Bread and Puppet Theater\, 753 Heights Rd\, Montreal\, Vermont\, Glover\, United States
CATEGORIES:Special Events
ATTACH;FMTTYPE=image/jpeg:https://mrvvillage.com/wp-content/uploads/2024/05/The-Whole-Kit-and-Caboodle-1-D4QNqA.tmp_.jpg
ORGANIZER;CN="Bread%20and%20Puppet":MAILTO:breadandpuppetreservations@gmail.com
GEO:44.7069038;-72.1869766
X-APPLE-STRUCTURED-LOCATION;VALUE=URI;X-ADDRESS=Bread and Puppet Theater 753 Heights Rd Montreal Vermont Glover United States;X-APPLE-RADIUS=500;X-TITLE=753 Heights Rd:geo:-72.1869766,44.7069038
END:VEVENT
BEGIN:VEVENT
DTSTART;TZID=America/New_York:20240602T160000
DTEND;TZID=America/New_York:20240602T180000
DTSTAMP:20260423T091818
CREATED:20240510T153836Z
LAST-MODIFIED:20240602T173810Z
UID:10006143-1717344000-1717351200@mrvvillage.com
SUMMARY:Spring Hill School presents The Modern Times Puppet Theater’s brand new show!
DESCRIPTION:To celebrate Spring Hill School’s 40th birthday\, Spring Hill School presents the Modern Times Puppet Theater’s brand new show\, “The Perils of Mr. Punch: Let’s Agree to Disagree” . We’re so pleased to welcome Modern Times back for a second year. This is an event for all! Co-founders Rose Friedman and Justin Lander are a husband and wife duo\, producers for Vermont Vaudeville and alumni of the Bread and Puppet Theater. As parents themselves\, they strive to present quality entertainment that the whole family can enjoy. Following the show\, flatbread\, salads and drinks will be available for dinner for purchase in the pavilion. We also plan to have a 40th Birthday treat surprise! Please dress for the weather and bring a blanket or camp chairs to sit on during the show. Everyone is invited!
URL:https://mrvvillage.com/event/spring-hill-school-presents-the-modern-times-puppet-theaters-brand-new-show/
LOCATION:Lareau Farm Inn\, 46 Lareau Rd.\, Waitsfield\, 05673
CATEGORIES:Arts & Entertainment,Family Friendly,Special Events
ATTACH;FMTTYPE=image/jpeg:https://mrvvillage.com/wp-content/uploads/2024/05/LogoSpringHill-3yX8jG.tmp_.jpg
ORGANIZER;CN="Spring%20Hill%20School":MAILTO:shkira@madriver.com
GEO:44.172559;-72.833919
X-APPLE-STRUCTURED-LOCATION;VALUE=URI;X-ADDRESS=Lareau Farm Inn 46 Lareau Rd. Waitsfield 05673;X-APPLE-RADIUS=500;X-TITLE=46 Lareau Rd.:geo:-72.833919,44.172559
END:VEVENT
END:VCALENDAR