BEGIN:VCALENDAR
VERSION:2.0
PRODID:-//The Mad River Valley Village - ECPv6.0.13//NONSGML v1.0//EN
CALSCALE:GREGORIAN
METHOD:PUBLISH
X-WR-CALNAME:The Mad River Valley Village
X-ORIGINAL-URL:https://mrvvillage.com
X-WR-CALDESC:Events for The Mad River Valley Village
REFRESH-INTERVAL;VALUE=DURATION:PT1H
X-Robots-Tag:noindex
X-PUBLISHED-TTL:PT1H
BEGIN:VTIMEZONE
TZID:America/New_York
BEGIN:DAYLIGHT
TZOFFSETFROM:-0500
TZOFFSETTO:-0400
TZNAME:EDT
DTSTART:20240310T070000
END:DAYLIGHT
BEGIN:STANDARD
TZOFFSETFROM:-0400
TZOFFSETTO:-0500
TZNAME:EST
DTSTART:20241103T060000
END:STANDARD
END:VTIMEZONE
BEGIN:VEVENT
DTSTART;TZID=America/New_York:20241011T100000
DTEND;TZID=America/New_York:20241013T150000
DTSTAMP:20260424T013241
CREATED:20241010T012315Z
LAST-MODIFIED:20241011T125314Z
UID:10007140-1728640800-1728831600@mrvvillage.com
SUMMARY:Addison West Tent Sale
DESCRIPTION:Addison West will be popping up several tents this weekend full of amazing deals! Holiday\, home decor\, pantry essentials\, clothing and free bins will be stuffed into the tents. Appalachian Gap Distillery will be on hand to sample out their fine spirits and selling bottles. Sale starts Friday and will continue Saturday and Sunday\, come Friday for the best bargains!
URL:https://mrvvillage.com/event/addison-west-tent-sale/
LOCATION:Addison West\, 5275 Main Street\, Waitsfield\, VT\, 05673\, United States
CATEGORIES:Community,Special Events
ATTACH;FMTTYPE=image/jpeg:https://mrvvillage.com/wp-content/uploads/2024/10/AW-5-PJbagB.tmp_.jpg
ORGANIZER;CN="Addison%20West":MAILTO:info@theaddisonwest.com
GEO:44.1926386;-72.7798479
X-APPLE-STRUCTURED-LOCATION;VALUE=URI;X-ADDRESS=Addison West 5275 Main Street Waitsfield VT 05673 United States;X-APPLE-RADIUS=500;X-TITLE=5275 Main Street:geo:-72.7798479,44.1926386
END:VEVENT
BEGIN:VEVENT
DTSTART;TZID=America/New_York:20241013T090000
DTEND;TZID=America/New_York:20241013T150000
DTSTAMP:20260424T013241
CREATED:20240926T232453Z
LAST-MODIFIED:20241013T132313Z
UID:10007080-1728810000-1728831600@mrvvillage.com
SUMMARY:MRVBC Fall Trail Work Day
DESCRIPTION:The new tools are here\, the new tools are here!\nJust in time for Trail Work Day – Sunday Oct 13 \nThe Mad River Valley is extremely fortunate to have access to one of the most incredible backcountry recreation opportunities in Vermont – the Phen Basin. As a chapter of the Catamount Trail Association\, MRVBC has committed to the care and management of access to this resource by adopting section 19S from the Battleground condominiums north to the Long Trail in Huntington Gap. This commitment includes organizing an annual Fall Trail Work day where volunteers have an opportunity to help ensure continued access by working to maintain the trail and its features. And just in time\, your membership dollars at work\, we have a suite of new tools to make light work (dare we say\, fun??!!) of clearing those ankle grabbers and pow line interrupters.\nWith several bridges\, a consistent slope\, unique natural features\, and beautiful views\, this section provides excellent access for non-motorized wintertime use. Come explore the trail while helping to keep it in good shape. This year work will focus on simple sight line clearing\, blazing\, and lopper work higher up the trail. If this is of interest – please bring your best yard-sale\, animal encounter\, or dawn patrol story and join us! You will hear great stories and intel from Trail Chief Alan Hammersmith and Board Secretary Kevin Russell (one of THE most knowledgeable folks in the Valley when it comes to our natural and trail spaces). There will no doubt be some post work trail side merriment as well!\nPlease visit the MRVBC.org event page for contact information. We ask that you register to let us know you are coming!\nAlso\, please consider other Catamount Trail Association trail work days! \n\n2024 Trail Work Schedule \n\nIf you enjoy working in the woods and have some time to spare\, please join the Valley’s Catamount Trail Assn Trail Chiefs in the their annual effort to clear the Catamount Trail of blow-downs\, branches\, and brush. \nThings You’ll Need\nYou’ll need lunch\, water\, long pants\, layers\, work gloves\, hiking boots\, an orange hunting vest or similar during hunting season\, and a pair of loppers or handsaw. Bring a friend\, give back to the trails you enjoy\, and help CTA provide trail users with great experiences this winter.
URL:https://mrvvillage.com/event/mrvbc-fall-trail-work-day/
LOCATION:Catamount Trail Section 19S Trail Head (Battleground Condos)\, 4606 Battleground Road\, Waitsfield\, Vermont\, 05673\, United States
CATEGORIES:Community,Public Welcome,Special Events,Sports & Recreation
ATTACH;FMTTYPE=image/jpeg:https://mrvvillage.com/wp-content/uploads/2024/09/Trail-work-day-Kevin-3HT99O.tmp_.jpg
ORGANIZER;CN="Mad%20River%20Valley%20Backcountry%20Coalition%20%28MRVBC%29":MAILTO:info@mrvbc.org
GEO:44.2002642;-72.8941291
X-APPLE-STRUCTURED-LOCATION;VALUE=URI;X-ADDRESS=Catamount Trail Section 19S Trail Head (Battleground Condos) 4606 Battleground Road Waitsfield Vermont 05673 United States;X-APPLE-RADIUS=500;X-TITLE=4606 Battleground Road:geo:-72.8941291,44.2002642
END:VEVENT
BEGIN:VEVENT
DTSTART;TZID=America/New_York:20241013T110000
DTEND;TZID=America/New_York:20241013T170000
DTSTAMP:20260424T013241
CREATED:20241009T012403Z
LAST-MODIFIED:20241013T132314Z
UID:10007127-1728817200-1728838800@mrvvillage.com
SUMMARY:Camp Meade Fall Family Festival
DESCRIPTION:Join us for our inaugural Fall Family Festival and Community Art Show! Free tickets available at our website. \n11-5 = Food (Peaceburger) + drinks (The Local) available (+ Red Hen 11-3) \n11-5 = Story Walk + cabin tours \n11-5 = Face painting + art projects \n11-2 = Instrument Petting Zoo \n11-12 = Lawn games \n12-1 = Story Time w/ George Leal (English) + Jessica Robles (Spanish) \n12-2 = World of Leaves walks with Gail Johnson \n1-3 = Pumpkin painting\, carving \n2:30 = Fire onion lighting (weather-permitting) + Carving contest prizes \n3-5 = Community Art Show Opening Reception \nOur shared experiences of making\, working and playing create connections that bridge our differences\, so the Planetary Art Institute offers opportunities for neighbors\, friends\, and families to experience delight\, surprise\, and togetherness through creativity and collaboration.
URL:https://mrvvillage.com/event/camp-meade-fall-family-festival/
LOCATION:Camp Meade\, 961 ROUTE 2\, middlesex\, 05602
CATEGORIES:Arts & Entertainment,Community,Special Events
ATTACH;FMTTYPE=image/png:https://mrvvillage.com/wp-content/uploads/2024/10/Fall-Family-Festival-CAMP-MEADE-Facebook-Post-zRXdsP.tmp_.png
ORGANIZER;CN="Camp%20Meade":MAILTO:info@campmeade.today
GEO:44.2412437;-72.5366148
X-APPLE-STRUCTURED-LOCATION;VALUE=URI;X-ADDRESS=Camp Meade 961 ROUTE 2 middlesex 05602;X-APPLE-RADIUS=500;X-TITLE=961 ROUTE 2:geo:-72.5366148,44.2412437
END:VEVENT
END:VCALENDAR