BEGIN:VCALENDAR
VERSION:2.0
PRODID:-//The Mad River Valley Village - ECPv6.0.13//NONSGML v1.0//EN
CALSCALE:GREGORIAN
METHOD:PUBLISH
X-ORIGINAL-URL:https://mrvvillage.com
X-WR-CALDESC:Events for The Mad River Valley Village
REFRESH-INTERVAL;VALUE=DURATION:PT1H
X-Robots-Tag:noindex
X-PUBLISHED-TTL:PT1H
BEGIN:VTIMEZONE
TZID:America/New_York
BEGIN:DAYLIGHT
TZOFFSETFROM:-0500
TZOFFSETTO:-0400
TZNAME:EDT
DTSTART:20240310T070000
END:DAYLIGHT
BEGIN:STANDARD
TZOFFSETFROM:-0400
TZOFFSETTO:-0500
TZNAME:EST
DTSTART:20241103T060000
END:STANDARD
END:VTIMEZONE
BEGIN:VEVENT
DTSTART;TZID=America/New_York:20241020T130000
DTEND;TZID=America/New_York:20241020T150000
DTSTAMP:20260424T013411
CREATED:20241001T235524Z
LAST-MODIFIED:20241020T142311Z
UID:10007099-1729429200-1729436400@mrvvillage.com
SUMMARY:Recreation Hub Grand Opening & MRV Recreation District 30th Anniversary 
DESCRIPTION:Join us for the grand opening of the new Mad River Valley Recreation Hub This exciting new center is designed to inspire adventure and connect locals and visitors to the Valley’s incredible outdoor opportunities and our business district. The celebration will also honor the 30th anniversary of the Mad River Valley Recreation District\, featuring family-friendly activities and outdoor exploration. With maps\, guides\, and info on all things hiking\, biking\, skiing\, and paddling\, the Rec Hub is the go-to resource for year-round fun. \nEvent Timeline\n\nNoon – Riparian Buffer planting begins (bring your own tools\, volunteers meet by the Mill Brook)\n1:00 Ribbon Cutting on Mill Brook Bridge\, thank you VOREC!\n1:10 Volunteer Thank You & Recruitment\n1:15 – 2:15 Tours & Events\nFriends of the Mad River: Riparian Buffer Planting Continues\nMad River Path: Off-Grid Bathroom Explained\nChamber of Commerce: Tours of the Welcome Center & Itinerary Builder\nMad River Riders Kids’ Bike Event\n2:15 Celebrate 30 years of MRVRD\n(Refreshments inside at the Welcome Center with MRVRD timeline on display)\nMRVRD Volunteer Awards Announced\n3:00 Wrap Up\n\nAttendees will enjoy refreshments\, giveaways\, and live demos of the Hub’s interactive displays. This is a great opportunity to meet the local recreation leaders and discover all the ways to get outside and play in the Valley. \nCome explore the future of outdoor recreation in the Mad River Valley! \nAbout the MRV Recreation Hub\nThe Mad River Valley Recreation Hub offers a one-stop resource center for residents and visitors alike to access trail maps\, travel information\, and guidance on outdoor activities throughout the Valley. It came about via a partnership with the MRV Chamber of Commerce\, Friends of the Mad River\, Mad River Path\, Mad River Riders\, MRV Recreation District and the Town of Waitsfield.
URL:https://mrvvillage.com/event/recreation-hub-grand-opening-mrv-recreation-district-30th-anniversary/
LOCATION:MRV Chamber Welcome Center\, 9 Route 17\, Waitsfield\, VT\, 05673\, United States
CATEGORIES:Chamber Events,Community,Public Welcome,Special Events,Sports & Recreation
ORGANIZER;CN="Mad%20River%20Valley%20Recreation%20District":MAILTO:laura@mrvrd.org
GEO:44.1808649;-72.8405908
X-APPLE-STRUCTURED-LOCATION;VALUE=URI;X-ADDRESS=MRV Chamber Welcome Center 9 Route 17 Waitsfield VT 05673 United States;X-APPLE-RADIUS=500;X-TITLE=9 Route 17:geo:-72.8405908,44.1808649
END:VEVENT
END:VCALENDAR