BEGIN:VCALENDAR
VERSION:2.0
PRODID:-//The Mad River Valley Village - ECPv6.0.13//NONSGML v1.0//EN
CALSCALE:GREGORIAN
METHOD:PUBLISH
X-WR-CALNAME:The Mad River Valley Village
X-ORIGINAL-URL:https://mrvvillage.com
X-WR-CALDESC:Events for The Mad River Valley Village
REFRESH-INTERVAL;VALUE=DURATION:PT1H
X-Robots-Tag:noindex
X-PUBLISHED-TTL:PT1H
BEGIN:VTIMEZONE
TZID:America/New_York
BEGIN:DAYLIGHT
TZOFFSETFROM:-0500
TZOFFSETTO:-0400
TZNAME:EDT
DTSTART:20240310T070000
END:DAYLIGHT
BEGIN:STANDARD
TZOFFSETFROM:-0400
TZOFFSETTO:-0500
TZNAME:EST
DTSTART:20241103T060000
END:STANDARD
END:VTIMEZONE
BEGIN:VEVENT
DTSTART;TZID=America/New_York:20241211T100000
DTEND;TZID=America/New_York:20241211T120000
DTSTAMP:20260425T002618
CREATED:20241209T182315Z
LAST-MODIFIED:20241211T185313Z
UID:10007235-1733911200-1733918400@mrvvillage.com
SUMMARY:MRV Chamber Offers Community Training on Gender-Based Violence Awareness and Prevention
DESCRIPTION:Mad River Valley\, VT – In the Mad River Valley\, we believe that safety is a fundamental right for all who live\, work\, and visit here. In alignment with our commitment to fostering a safe and welcoming community\, the Mad River Valley Chamber of Commerce is proud to continue our Stand Up For Safety campaign. This initiative began 3 years ago to provide vital resources\, signage\, and training to empower our community to address harm and create a culture of safety and support. \nAs part of this campaign\, we invite you to join us on Monday\, December 11th\, at Mt. Ellen for a special training session on recognizing and responding to gender-based violence. The training\, taking place from 10:00 a.m. to 12:00 p.m.\, will be led by international speaker Anna Nasset\, owner of Stand Up Resources. Anna will provide critical education and tools to enhance awareness and equip attendees to take actionable steps in preventing and addressing gender-based violence. Please RSVP if you plan on attending by emailing info@madrivervalley.com  \nThis training is open to all Chamber members and their staff. We encourage businesses to bring their teams to learn how they can contribute to the safety and well-being of our community and our guests. Participants will also receive collateral materials\, including posters and resources\, to display in business restrooms or bulletin boards\, reinforcing the campaign’s message throughout the Valley. \nEvent Details: \n\nWhat: Gender-Based Violence Awareness Training\nWhen: Wednesday\, December 11th\, 10:00 a.m. – 12:00 p.m.\nWhere: Sugarbush Mt. Ellen base Lodge\nPresenter: Anna Nasset\, Stand Up Resources\n\nTogether\, we can create a safer\, more inclusive Mad River Valley by standing up for one another and those who visit our beautiful community. \nFor questions or more information\, please contact Anna Nasset at anna@standupresources.com. \nAbout Stand Up Resources:\nStand Up Resources is dedicated to providing education\, training\, and advocacy to address gender-based violence and foster safe communities worldwide. Owner Anna Nasset is an international speaker with extensive experience in victim advocacy and prevention strategies. \nAbout the Mad River Valley Chamber of Commerce:\nThe Mad River Valley Chamber of Commerce is committed to supporting local businesses\, promoting sustainable tourism\, and fostering a vibrant\, connected community.
URL:https://mrvvillage.com/event/mrv-chamber-offers-community-training-on-gender-based-violence-awareness-and-prevention/
LOCATION:Sugarbush Resort – Mt. Ellen\, Fayston\, Vermont\, 05673
CATEGORIES:Chamber Events,Community,Special Events
ATTACH;FMTTYPE=image/jpeg:https://mrvvillage.com/wp-content/uploads/2024/12/mrvstandupposter-k9xCgz.tmp_.jpg
ORGANIZER;CN="Mad%20River%20Valley%20Chamber%20of%20Commerce":MAILTO:eric@madrivervalley.com
GEO:44.1926386;-72.7798479
END:VEVENT
END:VCALENDAR