BEGIN:VCALENDAR
VERSION:2.0
PRODID:-//The Mad River Valley Village - ECPv6.0.13//NONSGML v1.0//EN
CALSCALE:GREGORIAN
METHOD:PUBLISH
X-ORIGINAL-URL:https://mrvvillage.com
X-WR-CALDESC:Events for The Mad River Valley Village
REFRESH-INTERVAL;VALUE=DURATION:PT1H
X-Robots-Tag:noindex
X-PUBLISHED-TTL:PT1H
BEGIN:VTIMEZONE
TZID:America/New_York
BEGIN:DAYLIGHT
TZOFFSETFROM:-0500
TZOFFSETTO:-0400
TZNAME:EDT
DTSTART:20250309T070000
END:DAYLIGHT
BEGIN:STANDARD
TZOFFSETFROM:-0400
TZOFFSETTO:-0500
TZNAME:EST
DTSTART:20251102T060000
END:STANDARD
END:VTIMEZONE
BEGIN:VEVENT
DTSTART;TZID=America/New_York:20250409T000000
DTEND;TZID=America/New_York:20250409T235959
DTSTAMP:20260425T135013
CREATED:20250325T124019Z
LAST-MODIFIED:20250409T183817Z
UID:10007865-1744156800-1744243199@mrvvillage.com
SUMMARY:Bear Haiku Challenge
DESCRIPTION:Celebrate National Poetry Month with The MRV Libraries and MRV Bear Initiative! \nWe invite all in the community to contribute a bear-themed haiku for display at local businesses throughout April and May. People of all ages may submit their haiku about bears using this form: https://forms.gle/f17U5tWVMHtVqeoF7\nor by picking up a paper copy at any of the MRV Libraries. Submissions will be accepted until April 30. \nWhat are Haiku\, again?\nHaiku are a form of poetry originating in Japan. Each haiku contains seventeen syllables divided into three lines. The first and last line each contain five syllables while the second line contains seven syllables. Here’s a bear-themed haiku by Megan Sharkey of Alaska: \nGarbage on the porch\nis the best way to get a\nbear on short notice \nWe welcome submissions by children\, teens\, and adults. Everyone who submits a haiku may pick up a free MRV Bear Initiative magnet available at any MRV library. Let’s celebrate poetry\, community\, and bear awareness together! \nWhat is the Mad River Valley Bear Initiative?\nThe Mad River Valley Bear Initiative is a local volunteer group that raises awareness about the bears that live around us in the Valley. Members come from the 5 towns in our watershed: Warren\, Waitsfield\, Fayston\, Duxbury\, and Moretown. Find out more at https://mrvbears.org.
URL:https://mrvvillage.com/event/bear-haiku-challenge-16/
LOCATION:Moretown Town Hall and Library\, 1147 Route 100B\, Moretown\, 05660
CATEGORIES:Special Events
ATTACH;FMTTYPE=image/png:https://mrvvillage.com/wp-content/uploads/2025/03/Bear-Haiku-Template-and-poster-doV3ey.tmp_.png
ORGANIZER;CN="MRV%20LIbraries%2F%20Cory%20Stephenson":MAILTO:moretownlibrary@gmail.com
GEO:44.2476272;-72.7639304
X-APPLE-STRUCTURED-LOCATION;VALUE=URI;X-ADDRESS=Moretown Town Hall and Library 1147 Route 100B Moretown 05660;X-APPLE-RADIUS=500;X-TITLE=1147 Route 100B:geo:-72.7639304,44.2476272
END:VEVENT
END:VCALENDAR