BEGIN:VCALENDAR
VERSION:2.0
PRODID:-//The Mad River Valley Village - ECPv6.0.13//NONSGML v1.0//EN
CALSCALE:GREGORIAN
METHOD:PUBLISH
X-WR-CALNAME:The Mad River Valley Village
X-ORIGINAL-URL:https://mrvvillage.com
X-WR-CALDESC:Events for The Mad River Valley Village
REFRESH-INTERVAL;VALUE=DURATION:PT1H
X-Robots-Tag:noindex
X-PUBLISHED-TTL:PT1H
BEGIN:VTIMEZONE
TZID:America/New_York
BEGIN:DAYLIGHT
TZOFFSETFROM:-0500
TZOFFSETTO:-0400
TZNAME:EDT
DTSTART:20250309T070000
END:DAYLIGHT
BEGIN:STANDARD
TZOFFSETFROM:-0400
TZOFFSETTO:-0500
TZNAME:EST
DTSTART:20251102T060000
END:STANDARD
END:VTIMEZONE
BEGIN:VEVENT
DTSTART;TZID=America/New_York:20250511T110000
DTEND;TZID=America/New_York:20250511T123000
DTSTAMP:20260425T085844
CREATED:20250424T170926Z
LAST-MODIFIED:20250511T222314Z
UID:10008014-1746961200-1746966600@mrvvillage.com
SUMMARY:Mother’s Day on the Farm
DESCRIPTION:Families with young children are invited to honor our mothers and Mother Earth with a morning on the farm. We’ll share in song\, story\, and the joys of planting in the spring. \nWho: Young children (1–7 years old) and their families; older siblings welcome\nCost: Sliding-scale donation\, $18–$54 per family \nOur morning of fun includes:\n—Song and movement under the tent with Miss Andrea from Musical Munchkins\n—Decorating and planting flowerpots to give to moms and grandmothers\, remembering the value in honoring our parents\n—Planting veggies in the garden that will be harvested later for the local food shelf\n—Visiting farm animals \nWhile children are enjoying the farm with LTA’s farm educators\, parents are invited for a discussion about raising healthy children \nFamilies are invited to bring their own picnic lunch and stay to enjoy some more time on the land!
URL:https://mrvvillage.com/event/mothers-day-on-the-farm/
LOCATION:Living Tree Alliance\, 96 Living Tree Ln\, Moretown\, VT\, 05660\, United States
CATEGORIES:Family Friendly,Special Events
ATTACH;FMTTYPE=image/jpeg:https://mrvvillage.com/wp-content/uploads/2025/04/Mothers-Day-on-the-Farm-o8iarg.jpg
ORGANIZER;CN="Living%20Tree%20Alliance":MAILTO:info@livingtreealliance.com
GEO:44.2472902;-72.7762636
X-APPLE-STRUCTURED-LOCATION;VALUE=URI;X-ADDRESS=Living Tree Alliance 96 Living Tree Ln Moretown VT 05660 United States;X-APPLE-RADIUS=500;X-TITLE=96 Living Tree Ln:geo:-72.7762636,44.2472902
END:VEVENT
BEGIN:VEVENT
DTSTART;TZID=America/New_York:20250511T123000
DTEND;TZID=America/New_York:20250511T163000
DTSTAMP:20260425T085844
CREATED:20250418T163951Z
LAST-MODIFIED:20250511T222314Z
UID:10008005-1746966600-1746981000@mrvvillage.com
SUMMARY:Mother’s Day Tea
DESCRIPTION:Treat Mom to a Very Vermon-Tea Afternoon! Saturday May 10th or Sunday May 11th\, 12:30-4:30pm. \nThe very best of a proper British Tea with a Vermont twist. You’ll be presented with savories\, scones\, and sweets\, all made in-house with an endless pot of tea of British and Vermont Artisan teas to choose from. \nHonor the mothers in your life with this delightful experience. \n$49pp/ kids $19 advance tickets\, multiple seatings
URL:https://mrvvillage.com/event/mothers-day-tea-2/
LOCATION:The Inn at Round Barn Farm\, 1661 East Warren Road\, Waitsfield\, VT\, 05673\, United States
CATEGORIES:Dining,Food & Drink,Special Events
ATTACH;FMTTYPE=image/png:https://mrvvillage.com/wp-content/uploads/2025/04/Teapot-Graphic-Basic-Copy-Gvv9l4.png
ORGANIZER;CN="Inn%20at%20the%20Round%20Barn%20Farm":MAILTO:alexandra@theroundbarn.com
GEO:44.1676984;-72.8112143
X-APPLE-STRUCTURED-LOCATION;VALUE=URI;X-ADDRESS=The Inn at Round Barn Farm 1661 East Warren Road Waitsfield VT 05673 United States;X-APPLE-RADIUS=500;X-TITLE=1661 East Warren Road:geo:-72.8112143,44.1676984
END:VEVENT
END:VCALENDAR