BEGIN:VCALENDAR
VERSION:2.0
PRODID:-//The Mad River Valley Village - ECPv6.0.13//NONSGML v1.0//EN
CALSCALE:GREGORIAN
METHOD:PUBLISH
X-WR-CALNAME:The Mad River Valley Village
X-ORIGINAL-URL:https://mrvvillage.com
X-WR-CALDESC:Events for The Mad River Valley Village
REFRESH-INTERVAL;VALUE=DURATION:PT1H
X-Robots-Tag:noindex
X-PUBLISHED-TTL:PT1H
BEGIN:VTIMEZONE
TZID:America/New_York
BEGIN:DAYLIGHT
TZOFFSETFROM:-0500
TZOFFSETTO:-0400
TZNAME:EDT
DTSTART:20250309T070000
END:DAYLIGHT
BEGIN:STANDARD
TZOFFSETFROM:-0400
TZOFFSETTO:-0500
TZNAME:EST
DTSTART:20251102T060000
END:STANDARD
END:VTIMEZONE
BEGIN:VEVENT
DTSTART;TZID=America/New_York:20250512T180000
DTEND;TZID=America/New_York:20250512T193000
DTSTAMP:20260425T085844
CREATED:20250424T170928Z
LAST-MODIFIED:20250512T222317Z
UID:10008015-1747072800-1747078200@mrvvillage.com
SUMMARY:May Climate & Ecology Book Club
DESCRIPTION:Join Friends of the Mad River and Joslin Library for the May meeting of the Climate & Ecology Book Club to discuss “Birding to Change the World” by Trish O’Kane. In this uplifting memoir\, professor and activist Trish O’Kane shares the lessons that birds teach us about life\, social change\, and environmental protection. \nA limited number of copies will be available for checkout at Joslin Library. Please reach out to marcy@friendsofthemadriver.org with questions. Sign up for the discussion at the link included!
URL:https://mrvvillage.com/event/may-climate-ecology-book-club/
LOCATION:Joslin Memorial Library\, 4391 Main Street\, Waitsfield\, 05673
CATEGORIES:Special Events
ATTACH;FMTTYPE=image/png:https://mrvvillage.com/wp-content/uploads/2025/04/Copy-of-March-Climate-Ecology-Book-Club-Insta-RHcjF2.png
GEO:44.1926386;-72.7798479
X-APPLE-STRUCTURED-LOCATION;VALUE=URI;X-ADDRESS=Joslin Memorial Library 4391 Main Street Waitsfield 05673;X-APPLE-RADIUS=500;X-TITLE=4391 Main Street:geo:-72.7798479,44.1926386
END:VEVENT
END:VCALENDAR