BEGIN:VCALENDAR
VERSION:2.0
PRODID:-//The Mad River Valley Village - ECPv6.0.13//NONSGML v1.0//EN
CALSCALE:GREGORIAN
METHOD:PUBLISH
X-WR-CALNAME:The Mad River Valley Village
X-ORIGINAL-URL:https://mrvvillage.com
X-WR-CALDESC:Events for The Mad River Valley Village
REFRESH-INTERVAL;VALUE=DURATION:PT1H
X-Robots-Tag:noindex
X-PUBLISHED-TTL:PT1H
BEGIN:VTIMEZONE
TZID:America/New_York
BEGIN:DAYLIGHT
TZOFFSETFROM:-0500
TZOFFSETTO:-0400
TZNAME:EDT
DTSTART:20250309T070000
END:DAYLIGHT
BEGIN:STANDARD
TZOFFSETFROM:-0400
TZOFFSETTO:-0500
TZNAME:EST
DTSTART:20251102T060000
END:STANDARD
END:VTIMEZONE
BEGIN:VEVENT
DTSTART;TZID=America/New_York:20250513T180000
DTEND;TZID=America/New_York:20250513T210000
DTSTAMP:20260425T134417
CREATED:20250430T173925Z
LAST-MODIFIED:20250513T223812Z
UID:10008042-1747159200-1747170000@mrvvillage.com
SUMMARY:In-Person Playtesting with Break My Game
DESCRIPTION:Join us for our inaugural monthly in-person playtesting! \nHave you ever had an idea for how to make a game better or want to see what games are like before they reach your shelf? If you’ve ever played a game and thought “This would be better if . . .” then you would love playtesting with Break My Game! \nWe are looking to help designers make their games better by providing Constructive Feedback during their design process. Your voice helps a good game become great! \nDesigners\, please use our Eventbrite to register your game for playtesting! https://www.eventbrite.com/e/break-my-game-playtesting-middlesex-vt-camp-meade-registration-1326116994629 \nIf you wish to attend as a player and won’t be registering a game to playtest\, there is no need to request a ticket. Simply join us on the day of the event to join the fun! \nThere is no cost for these events\, but if you wish to make a donation to support the Break My Game community\, you can also do so through Eventbrite!
URL:https://mrvvillage.com/event/in-person-playtesting-with-break-my-game/
LOCATION:Camp Meade\, 961 ROUTE 2\, middlesex\, 05602
CATEGORIES:Special Events,Sports & Recreation
ATTACH;FMTTYPE=image/jpeg:https://mrvvillage.com/wp-content/uploads/2025/04/Break-My-Game-CM-csT2YB.jpg
ORGANIZER;CN="Camp%20Meade":MAILTO:info@campmeade.today
GEO:44.2412437;-72.5366148
X-APPLE-STRUCTURED-LOCATION;VALUE=URI;X-ADDRESS=Camp Meade 961 ROUTE 2 middlesex 05602;X-APPLE-RADIUS=500;X-TITLE=961 ROUTE 2:geo:-72.5366148,44.2412437
END:VEVENT
END:VCALENDAR