BEGIN:VCALENDAR
VERSION:2.0
PRODID:-//The Mad River Valley Village - ECPv6.0.13//NONSGML v1.0//EN
CALSCALE:GREGORIAN
METHOD:PUBLISH
X-WR-CALNAME:The Mad River Valley Village
X-ORIGINAL-URL:https://mrvvillage.com
X-WR-CALDESC:Events for The Mad River Valley Village
REFRESH-INTERVAL;VALUE=DURATION:PT1H
X-Robots-Tag:noindex
X-PUBLISHED-TTL:PT1H
BEGIN:VTIMEZONE
TZID:America/New_York
BEGIN:DAYLIGHT
TZOFFSETFROM:-0500
TZOFFSETTO:-0400
TZNAME:EDT
DTSTART:20250309T070000
END:DAYLIGHT
BEGIN:STANDARD
TZOFFSETFROM:-0400
TZOFFSETTO:-0500
TZNAME:EST
DTSTART:20251102T060000
END:STANDARD
END:VTIMEZONE
BEGIN:VEVENT
DTSTART;TZID=America/New_York:20250515T170000
DTEND;TZID=America/New_York:20250515T190000
DTSTAMP:20260425T090025
CREATED:20250512T190818Z
LAST-MODIFIED:20250515T225315Z
UID:10008087-1747328400-1747335600@mrvvillage.com
SUMMARY:Lag Ba’omer Backyard Campfire with Chabad of Stowe
DESCRIPTION:Join us in our backyard next Thursday evening to celebrate the special holiday of Lag Ba’Omer. \nWe’ll gather around a fire and roast food and treats- smores\, hotdogs\, potatoes\, and more. With music\, food\, games\, fun for the kids\, and maybe a couple of surprises- this will be an evening you don’t want to miss. \nThursday\, May 15th at 5:00 PM \nLocation:\nChabad of Stowe \nNo RSVP is necessary\, but if you know you’ll be there\, please let us know to help us plan better. You can email sara@chabadofstowe.com \n***In case of rain\, we’ll be moving the party indoors. Games\, food\, and fun will continue no matter what.
URL:https://mrvvillage.com/event/lag-baomer-backyard-campfire-with-chabad-of-stowe/
LOCATION:Chabad of Stowe\, 1357 Maple Street\, Waterbury Center\, Vermont\, 05677\, United States
CATEGORIES:Special Events
ATTACH;FMTTYPE=image/png:https://mrvvillage.com/wp-content/uploads/2025/05/Lag-BaOmer-2-mN3Mhn.png
ORGANIZER;CN="Chabad%20of%20Stowe":MAILTO:chabadofstowe@gmail.com
GEO:44.392566;-72.706473
X-APPLE-STRUCTURED-LOCATION;VALUE=URI;X-ADDRESS=Chabad of Stowe 1357 Maple Street Waterbury Center Vermont 05677 United States;X-APPLE-RADIUS=500;X-TITLE=1357 Maple Street:geo:-72.706473,44.392566
END:VEVENT
END:VCALENDAR