BEGIN:VCALENDAR
VERSION:2.0
PRODID:-//The Mad River Valley Village - ECPv6.0.13//NONSGML v1.0//EN
CALSCALE:GREGORIAN
METHOD:PUBLISH
X-WR-CALNAME:The Mad River Valley Village
X-ORIGINAL-URL:https://mrvvillage.com
X-WR-CALDESC:Events for The Mad River Valley Village
REFRESH-INTERVAL;VALUE=DURATION:PT1H
X-Robots-Tag:noindex
X-PUBLISHED-TTL:PT1H
BEGIN:VTIMEZONE
TZID:America/New_York
BEGIN:DAYLIGHT
TZOFFSETFROM:-0500
TZOFFSETTO:-0400
TZNAME:EDT
DTSTART:20250309T070000
END:DAYLIGHT
BEGIN:STANDARD
TZOFFSETFROM:-0400
TZOFFSETTO:-0500
TZNAME:EST
DTSTART:20251102T060000
END:STANDARD
END:VTIMEZONE
BEGIN:VEVENT
DTSTART;TZID=America/New_York:20250525T180000
DTEND;TZID=America/New_York:20250525T200000
DTSTAMP:20260425T085845
CREATED:20250514T192406Z
LAST-MODIFIED:20250525T202317Z
UID:10008098-1748196000-1748203200@mrvvillage.com
SUMMARY:NOT YOUR GRANDMA’S BINGO NIGHT W/DJ T.RAD
DESCRIPTION:DJ T.RAD is back with another fun-filled evening of Bingo\, Burgers and Bodacious prizes! \n$5 to play.
URL:https://mrvvillage.com/event/not-your-grandmas-bingo-night-w-dj-t-rad/
LOCATION:afterthoughts\, 8 Vt Route 17 200\, Waitsfield\, Vermont\, 05673\, United States
CATEGORIES:Food & Drink,Special Events
ATTACH;FMTTYPE=image/png:https://mrvvillage.com/wp-content/uploads/2025/05/NOT-YOUR-GRANDMAS-BINGO-nAaNH2.png
ORGANIZER;CN="afterthoughts":MAILTO:hello@afterthoughtsvt.com
GEO:44.181648;-72.8405231
X-APPLE-STRUCTURED-LOCATION;VALUE=URI;X-ADDRESS=afterthoughts 8 Vt Route 17 200 Waitsfield Vermont 05673 United States;X-APPLE-RADIUS=500;X-TITLE=8 Vt Route 17 200:geo:-72.8405231,44.181648
END:VEVENT
END:VCALENDAR