BEGIN:VCALENDAR
VERSION:2.0
PRODID:-//The Mad River Valley Village - ECPv6.0.13//NONSGML v1.0//EN
CALSCALE:GREGORIAN
METHOD:PUBLISH
X-WR-CALNAME:The Mad River Valley Village
X-ORIGINAL-URL:https://mrvvillage.com
X-WR-CALDESC:Events for The Mad River Valley Village
REFRESH-INTERVAL;VALUE=DURATION:PT1H
X-Robots-Tag:noindex
X-PUBLISHED-TTL:PT1H
BEGIN:VTIMEZONE
TZID:America/New_York
BEGIN:DAYLIGHT
TZOFFSETFROM:-0500
TZOFFSETTO:-0400
TZNAME:EDT
DTSTART:20250309T070000
END:DAYLIGHT
BEGIN:STANDARD
TZOFFSETFROM:-0400
TZOFFSETTO:-0500
TZNAME:EST
DTSTART:20251102T060000
END:STANDARD
END:VTIMEZONE
BEGIN:VEVENT
DTSTART;TZID=America/New_York:20250529T180000
DTEND;TZID=America/New_York:20250529T193000
DTSTAMP:20260425T102935
CREATED:20250528T202319Z
LAST-MODIFIED:20250529T202316Z
UID:10008198-1748541600-1748547000@mrvvillage.com
SUMMARY:LIVE @ MRVTV with The Tsunamibots this Thursday!
DESCRIPTION:This Thursday! Join Mad River Valley TV for *LIVE @ MRVTV* with local robotic surf punk band The Tsunamibots! 🤖🎸 \nThursday\, May 29th at 6PM\n5033 Main St. in Waitsfield \nWe will be broadcasting LIVE to local Channel 44! Tune in\, stop by\, and rock out! \nThis event is BYOB and free to the public! Donations welcome! \nCome check out the Mad River Valley’s local Community Media Center and nonprofit Public Access TV studio!
URL:https://mrvvillage.com/event/live-mrvtv-with-the-tsunamibots-this-thursday/
LOCATION:Mad River Valley Television\, 5031 Main St\, Waitsfield\, VT\, 05673\, United States
CATEGORIES:Special Events
ATTACH;FMTTYPE=image/png:https://mrvvillage.com/wp-content/uploads/2025/05/MAY-MRVTV-LIVE-1-JNNTi0.png
GEO:44.1852267;-72.834515
X-APPLE-STRUCTURED-LOCATION;VALUE=URI;X-ADDRESS=Mad River Valley Television 5031 Main St Waitsfield VT 05673 United States;X-APPLE-RADIUS=500;X-TITLE=5031 Main St:geo:-72.834515,44.1852267
END:VEVENT
END:VCALENDAR