BEGIN:VCALENDAR
VERSION:2.0
PRODID:-//The Mad River Valley Village - ECPv6.0.13//NONSGML v1.0//EN
CALSCALE:GREGORIAN
METHOD:PUBLISH
X-WR-CALNAME:The Mad River Valley Village
X-ORIGINAL-URL:https://mrvvillage.com
X-WR-CALDESC:Events for The Mad River Valley Village
REFRESH-INTERVAL;VALUE=DURATION:PT1H
X-Robots-Tag:noindex
X-PUBLISHED-TTL:PT1H
BEGIN:VTIMEZONE
TZID:America/New_York
BEGIN:DAYLIGHT
TZOFFSETFROM:-0500
TZOFFSETTO:-0400
TZNAME:EDT
DTSTART:20250309T070000
END:DAYLIGHT
BEGIN:STANDARD
TZOFFSETFROM:-0400
TZOFFSETTO:-0500
TZNAME:EST
DTSTART:20251102T060000
END:STANDARD
END:VTIMEZONE
BEGIN:VEVENT
DTSTART;TZID=America/New_York:20250601T073000
DTEND;TZID=America/New_York:20250601T073000
DTSTAMP:20260425T102938
CREATED:20250512T190921Z
LAST-MODIFIED:20250601T210816Z
UID:10008090-1748763000-1748763000@mrvvillage.com
SUMMARY:Birding by Ear
DESCRIPTION:Have you ever wondered which bird is making what sound in the overwhelming chorus of song this time of year? \nThen join the Moretown Library and the Mad Birders for our 9th annual Birding By Ear workshops. \nWe will meet indoors on Saturday afternoon to learn the basics of identifying bird song\, then practice these skills on an outdoor walk Sunday morning. \nBoth sessions are free\, and all ages are welcome.
URL:https://mrvvillage.com/event/birding-by-ear-2/
LOCATION:Moretown Town Hall and Library\, 1147 Route 100B\, Moretown\, 05660
CATEGORIES:Special Events
ATTACH;FMTTYPE=image/png:https://mrvvillage.com/wp-content/uploads/2025/05/2025-Birding-by-Ear1-N92nBD.png
ORGANIZER;CN="Moretown%20Library":MAILTO:moretownlibrary@gmail.com
GEO:44.2476272;-72.7639304
X-APPLE-STRUCTURED-LOCATION;VALUE=URI;X-ADDRESS=Moretown Town Hall and Library 1147 Route 100B Moretown 05660;X-APPLE-RADIUS=500;X-TITLE=1147 Route 100B:geo:-72.7639304,44.2476272
END:VEVENT
BEGIN:VEVENT
DTSTART;TZID=America/New_York:20250601T140000
DTEND;TZID=America/New_York:20250601T180000
DTSTAMP:20260425T102938
CREATED:20250522T195358Z
LAST-MODIFIED:20250601T210816Z
UID:10008160-1748786400-1748800800@mrvvillage.com
SUMMARY:Bread and Puppet Museum Opening
DESCRIPTION:Join us for a celebratory afternoon of performances\, bread\, and museum appreciation to mark the beginning of the summer season at the Bread & Puppet farm. The Open House will begin at the Museum’s entrance where local singers will gather to sing songs in the “Shape Note” tradition\, an early American sacred singing tradition with deep roots in Vermont\, in four-part harmony. Next\, the Museum will receive its ceremonial opening for the season: the museum guard will be woken up and reinstalled at his post for the summer\, ready to greet the public. Guest performances will feature throughout the afternoon\, concluding with a brand new Bread & Puppet show! \nTickets: $15\, no one turned away for lack of funds. \n*Capacity is limited at our indoor shows* \n\nMuseum Opening 06.01.25 2 p.m.
URL:https://mrvvillage.com/event/bread-and-puppet-museum-opening/
LOCATION:Bread and Puppet Theater\, 753 Heights Rd\, Montreal\, Vermont\, Glover\, United States
CATEGORIES:Special Events
ATTACH;FMTTYPE=image/png:https://mrvvillage.com/wp-content/uploads/2025/05/museum-opening-banner-ThEzUC.png
ORGANIZER;CN="Bread%20and%20Puppet":MAILTO:breadandpuppetreservations@gmail.com
GEO:44.7069038;-72.1869766
X-APPLE-STRUCTURED-LOCATION;VALUE=URI;X-ADDRESS=Bread and Puppet Theater 753 Heights Rd Montreal Vermont Glover United States;X-APPLE-RADIUS=500;X-TITLE=753 Heights Rd:geo:-72.1869766,44.7069038
END:VEVENT
END:VCALENDAR