BEGIN:VCALENDAR
VERSION:2.0
PRODID:-//The Mad River Valley Village - ECPv6.0.13//NONSGML v1.0//EN
CALSCALE:GREGORIAN
METHOD:PUBLISH
X-WR-CALNAME:The Mad River Valley Village
X-ORIGINAL-URL:https://mrvvillage.com
X-WR-CALDESC:Events for The Mad River Valley Village
REFRESH-INTERVAL;VALUE=DURATION:PT1H
X-Robots-Tag:noindex
X-PUBLISHED-TTL:PT1H
BEGIN:VTIMEZONE
TZID:America/New_York
BEGIN:DAYLIGHT
TZOFFSETFROM:-0500
TZOFFSETTO:-0400
TZNAME:EDT
DTSTART:20250309T070000
END:DAYLIGHT
BEGIN:STANDARD
TZOFFSETFROM:-0400
TZOFFSETTO:-0500
TZNAME:EST
DTSTART:20251102T060000
END:STANDARD
END:VTIMEZONE
BEGIN:VEVENT
DTSTART;TZID=America/New_York:20250605T000000
DTEND;TZID=America/New_York:20250606T235959
DTSTAMP:20260425T134158
CREATED:20250529T202345Z
LAST-MODIFIED:20250605T220832Z
UID:10008207-1749081600-1749254399@mrvvillage.com
SUMMARY:Peerpolooza
DESCRIPTION:Celebrate Peer Power at Peerapolooza 2025! Washington County Mental Health Services (WCMHS) is thrilled to announce a two-day conference dedicated to celebrating and advancing the vital work of Peer Specialists across Vermont. \nRecognized leader in the peer movement nationally and throughout Vermont\, Will Eberle\, the keynote will offer powerful insights into the future of peer services. His career has included providing executive leadership\, legislative testimony\, international training\, and consultations on topics ranging from mental health peer support to substance use recovery and homelessness.\nPeerapolooza Highlights Include:\n• Workshops on innovative practices\n• Guest speakers from across the state\n• Ted-style talks to spark new ideas\n• Poster presentations showcasing important peer-led projects\n• Exhibit hall featuring organizations and resources\n• Special gifts for the first 150 registered guests \nMission and Vision: Peerapolooza is committed to showcasing the essential work of Peer Specialists\, educating agencies on the value of employing peers\, and offering a place for Peer Specialists to collaborate\, grow\, and inspire one another. Register now!
URL:https://mrvvillage.com/event/peerpolooza/
LOCATION:Barre Auditorium\, 16 Auditorium Hil\, Barre\, VT\, 05660
CATEGORIES:Special Events
ATTACH;FMTTYPE=image/jpeg:https://mrvvillage.com/wp-content/uploads/2025/05/PEERPALOOZA-2-LzjDdM.jpg
ORGANIZER;CN="Washington%20County%20Mental%20Health%20Services":MAILTO:penny.martin@wcmhs.org
GEO:44.2030961;-72.5039195
X-APPLE-STRUCTURED-LOCATION;VALUE=URI;X-ADDRESS=Barre Auditorium 16 Auditorium Hil Barre VT 05660;X-APPLE-RADIUS=500;X-TITLE=16 Auditorium Hil:geo:-72.5039195,44.2030961
END:VEVENT
BEGIN:VEVENT
DTSTART;TZID=America/New_York:20250605T190000
DTEND;TZID=America/New_York:20250605T203000
DTSTAMP:20260425T134158
CREATED:20250529T202347Z
LAST-MODIFIED:20250605T220833Z
UID:10008208-1749150000-1749155400@mrvvillage.com
SUMMARY:Pub Trivia
DESCRIPTION:​The MRV Libraries return for their monthly session of pub trivia. Bring a team to the restaurant and compete for prizes with four rounds of trivia questions. \nIn recognition of the libraries’ 2025 Summer Learning Program theme “Color Our World” questions this month will be about art\, artists\, and all the things that color our world! \nIt is strongly suggested to call the restaurant at 802-496-9222 to reserve a table for your team.
URL:https://mrvvillage.com/event/pub-trivia-2/
LOCATION:Hostel Tevere\, 203 Powderhound Rd\, Warren\, VT\, 05674\, United States
CATEGORIES:Food & Drink,Special Events
ATTACH;FMTTYPE=image/jpeg:https://mrvvillage.com/wp-content/uploads/2025/05/June-2025-color-our-world-pub-trivia-xd3788.jpg
GEO:44.1341751;-72.8481846
X-APPLE-STRUCTURED-LOCATION;VALUE=URI;X-ADDRESS=Hostel Tevere 203 Powderhound Rd Warren VT 05674 United States;X-APPLE-RADIUS=500;X-TITLE=203 Powderhound Rd:geo:-72.8481846,44.1341751
END:VEVENT
END:VCALENDAR