BEGIN:VCALENDAR
VERSION:2.0
PRODID:-//The Mad River Valley Village - ECPv6.0.13//NONSGML v1.0//EN
CALSCALE:GREGORIAN
METHOD:PUBLISH
X-WR-CALNAME:The Mad River Valley Village
X-ORIGINAL-URL:https://mrvvillage.com
X-WR-CALDESC:Events for The Mad River Valley Village
REFRESH-INTERVAL;VALUE=DURATION:PT1H
X-Robots-Tag:noindex
X-PUBLISHED-TTL:PT1H
BEGIN:VTIMEZONE
TZID:America/New_York
BEGIN:DAYLIGHT
TZOFFSETFROM:-0500
TZOFFSETTO:-0400
TZNAME:EDT
DTSTART:20250309T070000
END:DAYLIGHT
BEGIN:STANDARD
TZOFFSETFROM:-0400
TZOFFSETTO:-0500
TZNAME:EST
DTSTART:20251102T060000
END:STANDARD
END:VTIMEZONE
BEGIN:VEVENT
DTSTART;TZID=America/New_York:20250618T163000
DTEND;TZID=America/New_York:20250618T180000
DTSTAMP:20260425T134153
CREATED:20250617T050818Z
LAST-MODIFIED:20250618T130821Z
UID:10008332-1750264200-1750269600@mrvvillage.com
SUMMARY:Fayston Wednesday Knot Work Party
DESCRIPTION:Join us at some of this summer’s Fayston Wednesday Knot Work Parties alongside this season’s UVM interns to help steward our beautiful waterways and minimize the spread of Knotweed throughout our Valley. \nWe’ll cut and pull Japanese Knotweed from existing management sites at these community events. See the restoration work already underway\, with native tree species thriving in an area formerly a monoculture of Knotweed. \nPlease wear sturdy footwear and gloves\, and contact Andrea Henderson at andreahenderson@gmavt.net or mobile 617-699-8132 with any questions. \nCheck out our Summer 2025 Fayston Conservation Commission Newsletter with more info at https://faystonvt.com/departments-documents/conservation-commission/ and the MadRiverKnotweed Instagram posts at https://www.instagram.com/madriverknotweed/
URL:https://mrvvillage.com/event/fayston-wednesday-knot-work-party/
LOCATION:Intersection of Mt Ellen and Barton Roads\, Fayston\, Intersection of Mt. Ellen and Barton Roads\, Fayston\, Vermont\, 05673\, United States
CATEGORIES:Community,Special Events
ATTACH;FMTTYPE=image/png:https://mrvvillage.com/wp-content/uploads/2025/06/IMG_9423-Barton-2-n8774e.png
ORGANIZER;CN="Fayston%20Conservation%20Commission":MAILTO:faystonconservation@madriver.com
GEO:44.1779457;-72.8927307
X-APPLE-STRUCTURED-LOCATION;VALUE=URI;X-ADDRESS=Intersection of Mt Ellen and Barton Roads Fayston Intersection of Mt. Ellen and Barton Roads Fayston Vermont 05673 United States;X-APPLE-RADIUS=500;X-TITLE=Intersection of Mt. Ellen and Barton Roads:geo:-72.8927307,44.1779457
END:VEVENT
END:VCALENDAR