BEGIN:VCALENDAR
VERSION:2.0
PRODID:-//The Mad River Valley Village - ECPv6.0.13//NONSGML v1.0//EN
CALSCALE:GREGORIAN
METHOD:PUBLISH
X-ORIGINAL-URL:https://mrvvillage.com
X-WR-CALDESC:Events for The Mad River Valley Village
REFRESH-INTERVAL;VALUE=DURATION:PT1H
X-Robots-Tag:noindex
X-PUBLISHED-TTL:PT1H
BEGIN:VTIMEZONE
TZID:America/New_York
BEGIN:DAYLIGHT
TZOFFSETFROM:-0500
TZOFFSETTO:-0400
TZNAME:EDT
DTSTART:20250309T070000
END:DAYLIGHT
BEGIN:STANDARD
TZOFFSETFROM:-0400
TZOFFSETTO:-0500
TZNAME:EST
DTSTART:20251102T060000
END:STANDARD
END:VTIMEZONE
BEGIN:VEVENT
DTSTART;TZID=America/New_York:20250622T180000
DTEND;TZID=America/New_York:20250622T200000
DTSTAMP:20260425T135017
CREATED:20250618T052347Z
LAST-MODIFIED:20250622T140824Z
UID:10008341-1750615200-1750622400@mrvvillage.com
SUMMARY:NOT YOUR GRANDMA’S BINGO WITH DJ TRAD at AFTERTHOUGHTS
DESCRIPTION:Don’t miss this month’s installment of #NotYourGrandmasBingo with DJ TRAD on Sunday\, June 22. 6-8pm \nAnd since it’s pride month\, the theme can only be “Big Gay Bingo!” \nSo come on out and play! \n$5/card\, Crazy Prizes! \nBurlington Beer Co. specials and swag!
URL:https://mrvvillage.com/event/not-your-grandmas-bingo-with-dj-trad-at-afterthoughts/
LOCATION:afterthoughts\, 8 Vt Route 17 200\, Waitsfield\, Vermont\, 05673\, United States
CATEGORIES:Special Events
ATTACH;FMTTYPE=image/jpeg:https://mrvvillage.com/wp-content/uploads/2025/06/afterthoughtsvt.com-8-VT-RT-17-waitsfield-VT-05673-HivDfN.jpg
ORGANIZER;CN="afterthoughts":MAILTO:hello@afterthoughtsvt.com
GEO:44.181648;-72.8405231
X-APPLE-STRUCTURED-LOCATION;VALUE=URI;X-ADDRESS=afterthoughts 8 Vt Route 17 200 Waitsfield Vermont 05673 United States;X-APPLE-RADIUS=500;X-TITLE=8 Vt Route 17 200:geo:-72.8405231,44.181648
END:VEVENT
END:VCALENDAR