BEGIN:VCALENDAR
VERSION:2.0
PRODID:-//The Mad River Valley Village - ECPv6.0.13//NONSGML v1.0//EN
CALSCALE:GREGORIAN
METHOD:PUBLISH
X-ORIGINAL-URL:https://mrvvillage.com
X-WR-CALDESC:Events for The Mad River Valley Village
REFRESH-INTERVAL;VALUE=DURATION:PT1H
X-Robots-Tag:noindex
X-PUBLISHED-TTL:PT1H
BEGIN:VTIMEZONE
TZID:America/New_York
BEGIN:DAYLIGHT
TZOFFSETFROM:-0500
TZOFFSETTO:-0400
TZNAME:EDT
DTSTART:20250309T070000
END:DAYLIGHT
BEGIN:STANDARD
TZOFFSETFROM:-0400
TZOFFSETTO:-0500
TZNAME:EST
DTSTART:20251102T060000
END:STANDARD
END:VTIMEZONE
BEGIN:VEVENT
DTSTART;TZID=America/New_York:20250719T090000
DTEND;TZID=America/New_York:20250719T130000
DTSTAMP:20260425T135012
CREATED:20250509T185554Z
LAST-MODIFIED:20250618T131055Z
UID:10008082-1752915600-1752930000@mrvvillage.com
SUMMARY:Waitsfield Farmer’s Market
DESCRIPTION:Rain or Shine\, May 17th to October 18th. 9AM to 1PM. \nEnjoy local food\, live music\, and support local Vermont small businesses. \nOur vendors consist of 57+ small family farms\, handmade artisans\, and unique culinary producers.
URL:https://mrvvillage.com/event/waitsfield-farmers-market-33/
LOCATION:Mad River Green Shops\, 107 M\, waitsfield\, VT\, 05673\, United States
CATEGORIES:Family Friendly,Food & Drink,Live Music,Public Welcome,Special Events
ATTACH;FMTTYPE=image/png:https://mrvvillage.com/wp-content/uploads/2025/05/Untitled-design-15-QqCNuT.png
ORGANIZER;CN="Waitsfield%20Farmers%20Market":MAILTO:waitsfieldmarketmanager@gmail.com
GEO:44.1926386;-72.7798479
X-APPLE-STRUCTURED-LOCATION;VALUE=URI;X-ADDRESS=Mad River Green Shops 107 M waitsfield VT 05673 United States;X-APPLE-RADIUS=500;X-TITLE=107 M:geo:-72.7798479,44.1926386
END:VEVENT
BEGIN:VEVENT
DTSTART;TZID=America/New_York:20250719T103000
DTEND;TZID=America/New_York:20250719T123000
DTSTAMP:20260425T135012
CREATED:20250619T054123Z
LAST-MODIFIED:20250719T205321Z
UID:10008355-1752921000-1752928200@mrvvillage.com
SUMMARY:Madam Cutler & Co at Addison West
DESCRIPTION:Bring your clean knives\, scissors\, and hand pruners for on-site sharpening by the pros at Madam Cutler & Co. \nWalk away with tools that cut like new.
URL:https://mrvvillage.com/event/madam-cutler-co-at-addison-west/
LOCATION:Addison West\, 5275 Main Street\, Waitsfield\, VT\, 05673\, United States
CATEGORIES:Special Events
ATTACH;FMTTYPE=image/png:https://mrvvillage.com/wp-content/uploads/2025/06/IMG_9034-5U2WjN.png
ORGANIZER;CN="Addison%20West":MAILTO:info@theaddisonwest.com
GEO:44.1926386;-72.7798479
X-APPLE-STRUCTURED-LOCATION;VALUE=URI;X-ADDRESS=Addison West 5275 Main Street Waitsfield VT 05673 United States;X-APPLE-RADIUS=500;X-TITLE=5275 Main Street:geo:-72.7798479,44.1926386
END:VEVENT
BEGIN:VEVENT
DTSTART;TZID=America/New_York:20250719T140000
DTEND;TZID=America/New_York:20250719T163000
DTSTAMP:20260425T135012
CREATED:20250626T151217Z
LAST-MODIFIED:20250719T205333Z
UID:10008483-1752933600-1752942600@mrvvillage.com
SUMMARY:Birds & Your Buffer Landowner Workshop
DESCRIPTION:Are you curious how you could improve the health and quality of your land? Join Friends of the Mad River and Audubon Vermont for a landowner workshop\, designed for those interested in learning more about land stewardship\, especially in the context of bird habitat and river systems. \nDuring this workshop\, we will explore a landowner’s property that was planted with 1\,200 native trees and shrubs last year as part of ongoing riparian restoration efforts. As we walk and talk\, we will explore the connection between river dynamics\, land management\, bird habitat\, and restoration work. We will learn more about how riparian buffers and upland forests provide valuable habitat for birds as well as protect water quality and river health. \nWe will hear expertise and insights from:\n– Ira Shadis\, Executive Director\, Friends of the Mad River\n– Mark LaBarr\, Conservation Program Manager\, Audubon Vermont\n– Macie Broussard\, Senior Conservation Associate\, Audubon Vermont \nThe event will go on rain or shine\, so we suggest wearing appropriate weather clothing. In the event of rain\, there will be a gathering place out of the elements provided. \nThere is a limited number of spots available for this workshop\, so please register ahead of time. Find registration at https://tinyurl.com/birdsbuffer. To respect the privacy of the landowner\, we will contact you with specifics about the location of the workshop at the email you use to register.
URL:https://mrvvillage.com/event/birds-your-buffer-landowner-workshop-2/
LOCATION:Multiple Locations\, Sugarbush Resort
CATEGORIES:Special Events
ATTACH;FMTTYPE=image/png:https://mrvvillage.com/wp-content/uploads/2025/06/SocialsPost_AudubonFMR_LandownerWorkshop-86kn1q.png
GEO:44.1361621;-72.9078617
X-APPLE-STRUCTURED-LOCATION;VALUE=URI;X-ADDRESS=Multiple Locations Sugarbush Resort;X-APPLE-RADIUS=500;X-TITLE=Sugarbush Resort:geo:-72.9078617,44.1361621
END:VEVENT
BEGIN:VEVENT
DTSTART;TZID=America/New_York:20250719T190000
DTEND;TZID=America/New_York:20250719T214500
DTSTAMP:20260425T135012
CREATED:20250612T235651Z
LAST-MODIFIED:20250719T205334Z
UID:10008322-1752951600-1752961500@mrvvillage.com
SUMMARY:46th Annual Middlebury Summer Festival on-the-Green
DESCRIPTION:Join us for a delightful week of free\, family-friendly performances at the 46th Annual Middlebury Summer Festival on-the-Green. \nThe Festival offers a unique blend of music and community spirit under the big white tent on the Middlebury\, Vermont\, Village Green. Enjoy “Brown Bag” programs weekdays from 12:00–1:00 PM\, perfect for families and lunch-break entertainment. \nIn the evenings\, live musical performances light up the night from 7:00–9:45 PM\, Sunday through Saturday culminating in a Street Dance with the Vermont Jazz Ensemble. \nFree admission; donations welcomed. Events take place rain or shine. In the event of severe weather\, performances move to Town Hall Theater\, 72-76 Merchants Row\, Middlebury\, VT 05753.
URL:https://mrvvillage.com/event/46th-annual-middlebury-summer-festival-on-the-green-7/
LOCATION:Middlebury Village Green\, 3 Main Street\, Middlebury\, Vermont\, 005753\, United States
CATEGORIES:Family Friendly,Food & Drink,Live Music,Special Events
ATTACH;FMTTYPE=image/png:https://mrvvillage.com/wp-content/uploads/2025/06/FOGTentTopperLogo-Artboard-FromSara-fC0Bux.png
ORGANIZER;CN="Festival%20on%20the%20Green":MAILTO:scottdarling56@gmail.com
GEO:44.014235;-73.1676695
X-APPLE-STRUCTURED-LOCATION;VALUE=URI;X-ADDRESS=Middlebury Village Green 3 Main Street Middlebury Vermont 005753 United States;X-APPLE-RADIUS=500;X-TITLE=3 Main Street:geo:-73.1676695,44.014235
END:VEVENT
END:VCALENDAR