BEGIN:VCALENDAR
VERSION:2.0
PRODID:-//The Mad River Valley Village - ECPv6.0.13//NONSGML v1.0//EN
CALSCALE:GREGORIAN
METHOD:PUBLISH
X-ORIGINAL-URL:https://mrvvillage.com
X-WR-CALDESC:Events for The Mad River Valley Village
REFRESH-INTERVAL;VALUE=DURATION:PT1H
X-Robots-Tag:noindex
X-PUBLISHED-TTL:PT1H
BEGIN:VTIMEZONE
TZID:America/New_York
BEGIN:DAYLIGHT
TZOFFSETFROM:-0500
TZOFFSETTO:-0400
TZNAME:EDT
DTSTART:20230312T070000
END:DAYLIGHT
BEGIN:STANDARD
TZOFFSETFROM:-0400
TZOFFSETTO:-0500
TZNAME:EST
DTSTART:20231105T060000
END:STANDARD
END:VTIMEZONE
BEGIN:VEVENT
DTSTART;TZID=America/New_York:20230603T090000
DTEND;TZID=America/New_York:20230603T130000
DTSTAMP:20260421T215627
CREATED:20230403T211309Z
LAST-MODIFIED:20230603T233813Z
UID:10003440-1685782800-1685797200@mrvvillage.com
SUMMARY:Mountain Gardeners’ Plant Sale
DESCRIPTION:One of the highlights of our year is the Plant Sale. The sale helps to fund a Harwood Union Scholarship. This year the plant sale will be held on June 3rd from 9:00 am to 1:00 pm in Waitsfield across from Shaw’s Market. This is a great opportunity to purchase locally grown plants for your garden. So\, mark your calendars\, rain or shine to come down on June 3rd. \nThe Mountain Gardeners are located in the Mad River Valley of Vermont with members from the towns of Waitsfield\, Warren\, Fayston\, Moretown and Duxbury. \nObjectives\nThe Mountain Gardeners support educational and civic projects for both members and the community.
URL:https://mrvvillage.com/event/mountain-gardeners-plant-sale/
LOCATION:In Green Space along Slow Road in front of Shaws\, 27 Mad River Canoe Rd\, Waitsfield\, VT 05673 27 Mad River Canoe Rd\, Waitsfield\, Vermont\, 05673\, United States
CATEGORIES:Community,Special Events
ATTACH;FMTTYPE=image/jpeg:https://mrvvillage.com/wp-content/uploads/2023/04/2023-Mountain-Gardners-Plant-Sale-6.3.2023-mr7z9u.tmp_.jpg
GEO:44.118347;-72.8576681
X-APPLE-STRUCTURED-LOCATION;VALUE=URI;X-ADDRESS=In Green Space along Slow Road in front of Shaws 27 Mad River Canoe Rd Waitsfield VT 05673 27 Mad River Canoe Rd Waitsfield Vermont 05673 United States;X-APPLE-RADIUS=500;X-TITLE=27 Mad River Canoe Rd\, Waitsfield\, VT 05673 27 Mad River Canoe Rd:geo:-72.8576681,44.118347
END:VEVENT
END:VCALENDAR