BEGIN:VCALENDAR
VERSION:2.0
PRODID:-//The Mad River Valley Village - ECPv6.0.13//NONSGML v1.0//EN
CALSCALE:GREGORIAN
METHOD:PUBLISH
X-ORIGINAL-URL:https://mrvvillage.com
X-WR-CALDESC:Events for The Mad River Valley Village
REFRESH-INTERVAL;VALUE=DURATION:PT1H
X-Robots-Tag:noindex
X-PUBLISHED-TTL:PT1H
BEGIN:VTIMEZONE
TZID:America/New_York
BEGIN:DAYLIGHT
TZOFFSETFROM:-0500
TZOFFSETTO:-0400
TZNAME:EDT
DTSTART:20230312T070000
END:DAYLIGHT
BEGIN:STANDARD
TZOFFSETFROM:-0400
TZOFFSETTO:-0500
TZNAME:EST
DTSTART:20231105T060000
END:STANDARD
END:VTIMEZONE
BEGIN:VEVENT
DTSTART;TZID=America/New_York:20231011T180000
DTEND;TZID=America/New_York:20231011T210000
DTSTAMP:20260422T192018
CREATED:20231008T153907Z
LAST-MODIFIED:20231011T185316Z
UID:10005355-1697047200-1697058000@mrvvillage.com
SUMMARY:Singles Night at Emily
DESCRIPTION:A fun mixer to meet singles in the area.\n$6 Wines\, Drafts and Cosmos
URL:https://mrvvillage.com/event/singles-night-at-emily/
LOCATION:Emily’s Bar & Bistro\, 5081 Main Street\, Waitsfield\, VT\, 056673
CATEGORIES:Arts & Entertainment,Community,Special Events
ATTACH;FMTTYPE=image/jpeg:https://mrvvillage.com/wp-content/uploads/2023/10/Untitled-2-GmYPZg.tmp_.jpg
GEO:44.1926386;-72.7798479
X-APPLE-STRUCTURED-LOCATION;VALUE=URI;X-ADDRESS=Emily’s Bar & Bistro 5081 Main Street Waitsfield VT 056673;X-APPLE-RADIUS=500;X-TITLE=5081 Main Street:geo:-72.7798479,44.1926386
END:VEVENT
BEGIN:VEVENT
DTSTART;TZID=America/New_York:20231014T090000
DTEND;TZID=America/New_York:20231014T110000
DTSTAMP:20260422T192018
CREATED:20231014T160816Z
LAST-MODIFIED:20231014T193815Z
UID:10005377-1697274000-1697281200@mrvvillage.com
SUMMARY:Climate and Ecology Series: Foliage Hike
DESCRIPTION:The Friends of the Mad River is excited to launch its new series\, “Climate and Ecology”! Join us for a foliage hike while learning all about the ways that climate change is impacting our trees and forests. This is the first in a series of monthly outdoor adventures that focuses on how our watershed and ecosystem are changing as a result of our changing climate. \nBring shoes or boots for hiking moderate trails\, clothing appropriate for the weather\, water bottle and snacks. Contact luke@friendsofthemadriver.org to let us know if you plan to attend. \nNote: Some of our future climate and ecology events will be specifically designed for children and families. The content and style of this excursion may not be suitable for people of all ages and pets.
URL:https://mrvvillage.com/event/climate-and-ecology-series-foliage-hike/
LOCATION:The Sweet Spot\, 1178 Senor Road\, Warren\, Vermont\, 05674\, United States
CATEGORIES:Community,Special Events,Vermont
ATTACH;FMTTYPE=image/png:https://mrvvillage.com/wp-content/uploads/2023/10/Climate-Ecology-Series_with_logo-min-qVbuHa.tmp_.png
GEO:44.0916055;-72.8200258
X-APPLE-STRUCTURED-LOCATION;VALUE=URI;X-ADDRESS=The Sweet Spot 1178 Senor Road Warren Vermont 05674 United States;X-APPLE-RADIUS=500;X-TITLE=1178 Senor Road:geo:-72.8200258,44.0916055
END:VEVENT
END:VCALENDAR