BEGIN:VCALENDAR
VERSION:2.0
PRODID:-//The Mad River Valley Village - ECPv6.0.13//NONSGML v1.0//EN
CALSCALE:GREGORIAN
METHOD:PUBLISH
X-ORIGINAL-URL:https://mrvvillage.com
X-WR-CALDESC:Events for The Mad River Valley Village
REFRESH-INTERVAL;VALUE=DURATION:PT1H
X-Robots-Tag:noindex
X-PUBLISHED-TTL:PT1H
BEGIN:VTIMEZONE
TZID:America/New_York
BEGIN:DAYLIGHT
TZOFFSETFROM:-0500
TZOFFSETTO:-0400
TZNAME:EDT
DTSTART:20240310T070000
END:DAYLIGHT
BEGIN:STANDARD
TZOFFSETFROM:-0400
TZOFFSETTO:-0500
TZNAME:EST
DTSTART:20241103T060000
END:STANDARD
END:VTIMEZONE
BEGIN:VEVENT
DTSTART;TZID=America/New_York:20240420T130000
DTEND;TZID=America/New_York:20240420T150000
DTSTAMP:20260423T053524
CREATED:20240402T133931Z
LAST-MODIFIED:20240420T142307Z
UID:10006058-1713618000-1713625200@mrvvillage.com
SUMMARY:Sorrows + Sunshine- Grief Writing Workshop with Rachel Wylie at Firefolk Arts
DESCRIPTION:Open to All: Ages 13+\nApril 20th\n1 – 3 pm @ Firefolk Arts: 4424 Main St. Waitsfield\nPlease Register by Email:  firefolkarts@gmail.com \nFacilitator\, Rachel Wylie believes that story is a powerful tool for connection\, meaning-seeking\, healing\, and integrating the most beautiful and challenging parts of life. Grief can often feel very solitary\, but sharing our stories of sorrow with others helps bring light to the darkness. In the Sorrows & Sunshine workshop\, Rachel will guide participants through an explorative writing exercise designed to shine a warm light on our sorrows\, followed by optional story-telling. \nAbout Rachel\nRachel’s own apprenticeship to grief began in Feb 2020 when her father was diagnosed with ALS. During his dying process\, she started talking – and writing – about her experience navigating his disease and death (Where The Love Lies). Writing helped her make sense of the senseless\, helped her process the loss\, and begin to figure out how to hold her sorrow with the same honor as her love. \nWhat to expect:\nCreation of a communal grief altar\nWriting exercise\nOpportunity to tell your story to the group \nPlease bring:\nAn item\, picture\, or special offering for the altar. This can be something related to the sorrow you want to work with\, or something that supports/strengthens/inspires you.\nItems for comfort (snacks\, layers\, water\, etc) \nFacilitated by Rachel Wylie – Where The Love Lies — https://wherethelovelies.com/\nCost / Sliding Scale: $10 – $20
URL:https://mrvvillage.com/event/sorrows-sunshine-grief-writing-workshop-with-rachel-wylie-at-firefolk-arts/
LOCATION:Firefolk Arts\, 4424 Main Street\, Waitsfield\, Vermont\, 05673\, United States
CATEGORIES:Community,Public Welcome,Special Events,Wellness
ATTACH;FMTTYPE=image/jpeg:https://mrvvillage.com/wp-content/uploads/2024/04/11-KhiPup.tmp_.jpg
ORGANIZER;CN="Tina%20Picz":MAILTO:tinapicz@gmail.com
GEO:44.1897106;-72.825057
X-APPLE-STRUCTURED-LOCATION;VALUE=URI;X-ADDRESS=Firefolk Arts 4424 Main Street Waitsfield Vermont 05673 United States;X-APPLE-RADIUS=500;X-TITLE=4424 Main Street:geo:-72.825057,44.1897106
END:VEVENT
END:VCALENDAR