BEGIN:VCALENDAR
VERSION:2.0
PRODID:-//The Mad River Valley Village - ECPv6.0.13//NONSGML v1.0//EN
CALSCALE:GREGORIAN
METHOD:PUBLISH
X-ORIGINAL-URL:https://mrvvillage.com
X-WR-CALDESC:Events for The Mad River Valley Village
REFRESH-INTERVAL;VALUE=DURATION:PT1H
X-Robots-Tag:noindex
X-PUBLISHED-TTL:PT1H
BEGIN:VTIMEZONE
TZID:America/New_York
BEGIN:DAYLIGHT
TZOFFSETFROM:-0500
TZOFFSETTO:-0400
TZNAME:EDT
DTSTART:20240310T070000
END:DAYLIGHT
BEGIN:STANDARD
TZOFFSETFROM:-0400
TZOFFSETTO:-0500
TZNAME:EST
DTSTART:20241103T060000
END:STANDARD
END:VTIMEZONE
BEGIN:VEVENT
DTSTART;TZID=America/New_York:20240501T183000
DTEND;TZID=America/New_York:20240501T200000
DTSTAMP:20260423T053523
CREATED:20240403T020931Z
LAST-MODIFIED:20240501T145310Z
UID:10006059-1714588200-1714593600@mrvvillage.com
SUMMARY:BUILDING AFFORDABILITY SPEAKER SERIES – AFFORDABLE HOUSING: UNDERSTANDING LOCAL AND GLOBAL APPROACHES WITH ANYA BRICKMAN RAREDON
DESCRIPTION:Affordable Housing: Understanding Local and Global Approaches with Anya Brickman Raredon \nDrawing from her experience in over 20 countries\, Anya Brickman Raredon will share examples of housing ecosystem analyses that have led to the development of programs\, policies\, and projects to increase access and affordability of housing around the world. Whether in the US\, an emerging economy\, or a post-disaster environment\, successful housing markets arise when the underlying value chains of supply and demand are synchronized to respectively produce houses (supply) and finance (demand) at compatible price points. Anya will describe how the Affordable Housing Institute uses a practical\, rigorous\, and comprehensive methodology to understand and evaluate a local housing market\, identify key levers for change\, and to design and implement new paradigm solutions for urgent affordable housing and urban development challenges.
URL:https://mrvvillage.com/event/building-affordability-speaker-series-affordable-housing-understanding-local-and-global-approaches-with-anya-brickman-raredon-2/
LOCATION:Yestermorrow Design/Build School\, 7865 Main Street\, Waitsfield\, 05673
CATEGORIES:Community,Special Events
ATTACH;FMTTYPE=image/png:https://mrvvillage.com/wp-content/uploads/2024/03/YESTERMORROW_5in2010-TRAP-sciHY6.tmp_.png
ORGANIZER;CN="Yestermorrow%20Design%2FBuild%20School":MAILTO:info@yestermorrow.org
GEO:44.1490529;-72.8380281
X-APPLE-STRUCTURED-LOCATION;VALUE=URI;X-ADDRESS=Yestermorrow Design/Build School 7865 Main Street Waitsfield 05673;X-APPLE-RADIUS=500;X-TITLE=7865 Main Street:geo:-72.8380281,44.1490529
END:VEVENT
BEGIN:VEVENT
DTSTART;TZID=America/New_York:20240505T090000
DTEND;TZID=America/New_York:20240505T120000
DTSTAMP:20260423T053523
CREATED:20240430T035320Z
LAST-MODIFIED:20240505T150806Z
UID:10006094-1714899600-1714910400@mrvvillage.com
SUMMARY:Playful Minds Workshops
DESCRIPTION:Calling all young artists\, storytellers\, movers\, groovers\, and explorers – Playful Minds Workshops are made for kids! In this series of five workshops\, early childhood educators Raya and McKinley will lead kids through fun-filled and enriching themed experiences that support creative expression through exploration. These workshops are not just educational and entertaining\, but are a celebration of curiosity\, creativity\, and friendship. From arts and crafts to interactive storytelling\, from music and movement to cooking\, there will be something for every child to enjoy and learn from.
URL:https://mrvvillage.com/event/playful-minds-workshops/
LOCATION:Camp Meade\, 961 ROUTE 2\, middlesex\, 05602
CATEGORIES:Community,Dining,Public Welcome,Special Events
ATTACH;FMTTYPE=image/png:https://mrvvillage.com/wp-content/uploads/2024/04/Playful-Minds-poster-update-vuSMbF.tmp_.png
ORGANIZER;CN="Camp%20Meade":MAILTO:info@campmeade.today
GEO:44.2412437;-72.5366148
X-APPLE-STRUCTURED-LOCATION;VALUE=URI;X-ADDRESS=Camp Meade 961 ROUTE 2 middlesex 05602;X-APPLE-RADIUS=500;X-TITLE=961 ROUTE 2:geo:-72.5366148,44.2412437
END:VEVENT
END:VCALENDAR