BEGIN:VCALENDAR
VERSION:2.0
PRODID:-//The Mad River Valley Village - ECPv6.0.13//NONSGML v1.0//EN
CALSCALE:GREGORIAN
METHOD:PUBLISH
X-WR-CALNAME:The Mad River Valley Village
X-ORIGINAL-URL:https://mrvvillage.com
X-WR-CALDESC:Events for The Mad River Valley Village
REFRESH-INTERVAL;VALUE=DURATION:PT1H
X-Robots-Tag:noindex
X-PUBLISHED-TTL:PT1H
BEGIN:VTIMEZONE
TZID:America/New_York
BEGIN:DAYLIGHT
TZOFFSETFROM:-0500
TZOFFSETTO:-0400
TZNAME:EDT
DTSTART:20240310T070000
END:DAYLIGHT
BEGIN:STANDARD
TZOFFSETFROM:-0400
TZOFFSETTO:-0500
TZNAME:EST
DTSTART:20241103T060000
END:STANDARD
END:VTIMEZONE
BEGIN:VEVENT
DTSTART;TZID=America/New_York:20240529T160000
DTEND;TZID=America/New_York:20240529T170000
DTSTAMP:20260423T185059
CREATED:20240522T170821Z
LAST-MODIFIED:20240529T173814Z
UID:10006175-1716998400-1717002000@mrvvillage.com
SUMMARY:Family tree planting and care workshop
DESCRIPTION:Join Brian Mohr (Ember Hill Farm) at Living Tree Alliance’s (LTA) community orchard to learn about planting and caring for fruit trees and berry bushes. Brian will model a few techniques\, and then folks will plant fruit trees and shrubs in the orchard. LTA educator Melanie Grubman will also lead families in some activities\, and kids will get a chance to explore the adventure playground and visit the animals. LTA’s own greens and eggs will be for sale\, and each participant will receive a gift certificate for trees and shrubs at Ember Hill Farm. All donations go towards LTA’s school to farm field trips with HUUSD. \nTo pre-order any plants or trees from Ember Hill Farm for Brian to deliver at the event or to pick up at the farm\, reach out to Brian directly at emberhillfarm@gmail.com or text/call him at 802-989-0570.\nFor more info about Ember Hill Farm:\nFB: www.facebook.com/emberhillfarm\nIG: www.instagram.com/emberhillfarm
URL:https://mrvvillage.com/event/family-tree-planting-and-care-workshop/
LOCATION:Living Tree Alliance\, 96 Living Tree Ln\, Moretown\, VT\, 05660\, United States
CATEGORIES:Community,Family Friendly,Special Events
ATTACH;FMTTYPE=image/png:https://mrvvillage.com/wp-content/uploads/2024/05/Screenshot_20240521-074916-1-ycqCuL.tmp_.png
ORGANIZER;CN="Living%20Tree%20Alliance":MAILTO:info@livingtreealliance.com
GEO:44.2472902;-72.7762636
X-APPLE-STRUCTURED-LOCATION;VALUE=URI;X-ADDRESS=Living Tree Alliance 96 Living Tree Ln Moretown VT 05660 United States;X-APPLE-RADIUS=500;X-TITLE=96 Living Tree Ln:geo:-72.7762636,44.2472902
END:VEVENT
BEGIN:VEVENT
DTSTART;TZID=America/New_York:20240530T000000
DTEND;TZID=America/New_York:20240530T235959
DTSTAMP:20260423T185059
CREATED:20240525T172326Z
LAST-MODIFIED:20240530T173809Z
UID:10006178-1717027200-1717113599@mrvvillage.com
SUMMARY:Harwood students show documentary film made in  northern India  in partnership with  Himalayan students!
DESCRIPTION:Please join the seven HUHS students and two faculty who traveled to Chakouri\, Northern India in March as they share their documentary film made in conjunction with students from the Himalayan Intercollege. The film is entitled “Himalayan Conservation” and will be shown at the Big Picture Theater from 5:00- 6:30 on Thursday\, May 30. Admission is free and open to the publ
URL:https://mrvvillage.com/event/harwood-students-show-documentary-film-made-in-northern-india-in-partnership-with-himalayan-students/
LOCATION:Big Picture Theater\, 44 Carroll Road\, Waitsfield\, 05673
CATEGORIES:Arts & Entertainment,Community,Food & Drink,Special Events
ATTACH;FMTTYPE=image/png:https://mrvvillage.com/wp-content/uploads/2024/05/unnamed-2QI4PU.tmp_.png
GEO:44.1874779;-72.8335286
X-APPLE-STRUCTURED-LOCATION;VALUE=URI;X-ADDRESS=Big Picture Theater 44 Carroll Road Waitsfield 05673;X-APPLE-RADIUS=500;X-TITLE=44 Carroll Road:geo:-72.8335286,44.1874779
END:VEVENT
BEGIN:VEVENT
DTSTART;TZID=America/New_York:20240530T180000
DTEND;TZID=America/New_York:20240530T190000
DTSTAMP:20260423T185059
CREATED:20240512T043858Z
LAST-MODIFIED:20240530T173809Z
UID:10006154-1717092000-1717095600@mrvvillage.com
SUMMARY:VT Kindness Project: Returning Home to Ourselves
DESCRIPTION:Come to the Moretown Library for a free wellness event with trauma educator and local PA Kimberly Pierce\, and view her short film followed by a discussion on the impacts of stress and childhood trauma\, and what we can do to help heal ourselves. Light refreshments provided. RSVP here: https://forms.gle/FYnJg154TGewD1hw5 \nThe Vermont Kindness Project believes that all life is sacred and that our world would be a better place if we all had universal education about the medical science of Adverse Childhood Experiences (ACEs). This research proves what we already know to be true\, that stress leaves physical\, emotional\, and spiritual wounds in our bodies. Dr. Robert Anda\, the author of the ACE study tells us that “what is predictable is preventable;” yet how do we prevent that which we cannot even speak? The ACEs framework is the language\, and by bearing witness\, we remove shame and empower ourselves and each other. The Vermont Kindness Project believes that the time is now to create a brighter and more loving world\, and that kindness to ourselves\, our fellow humans\, and the earth can and should save the world.
URL:https://mrvvillage.com/event/vt-kindness-project-returning-home-to-ourselves/
LOCATION:Moretown Town Hall and Library\, 1147 Route 100B\, Moretown\, 05660
CATEGORIES:Arts & Entertainment,Community,Public Welcome,Special Events
ATTACH;FMTTYPE=image/jpeg:https://mrvvillage.com/wp-content/uploads/2024/05/VTKINDESSWORKSHOP-23gd0B.tmp_.jpg
ORGANIZER;CN="Moretown%20Library":MAILTO:moretownlibrary@gmail.com
GEO:44.2476272;-72.7639304
X-APPLE-STRUCTURED-LOCATION;VALUE=URI;X-ADDRESS=Moretown Town Hall and Library 1147 Route 100B Moretown 05660;X-APPLE-RADIUS=500;X-TITLE=1147 Route 100B:geo:-72.7639304,44.2476272
END:VEVENT
BEGIN:VEVENT
DTSTART;TZID=America/New_York:20240531T150000
DTEND;TZID=America/New_York:20240531T170000
DTSTAMP:20260423T185059
CREATED:20240522T170835Z
LAST-MODIFIED:20240531T173808Z
UID:10006176-1717167600-1717174800@mrvvillage.com
SUMMARY:Meet the Artist\, Ashley H Mohrman
DESCRIPTION:Please join us for a reception to Meet the Artist\, Ashley H Mohrman at Stephanie Grace Ceramics at Mad River Green Shopping Center on Friday\, May 31\, 3-5. \nThe exhibit includes Ashley’s joyful and exuberant botanical compositions that reflect Ashley’s celebration of nature and beauty. Each image and every flower pressed captures a meaningful story and little pice of natural history. Many of the flowers in Ashley’s prints come from local Vermont greenhouses\, including von Trapp Flowers and Frazier’s Greenhouse\, as well as her own garden and roadsides of Vermont.
URL:https://mrvvillage.com/event/meet-the-artist-ashley-h-mohrman/
LOCATION:Stephanie Grace Ceramics\, Mad River Green Shopping Center\, Waitsfield\, VT\, 05673\, United States
CATEGORIES:Arts & Entertainment,Community,Public Welcome,Special Events
ATTACH;FMTTYPE=image/jpeg:https://mrvvillage.com/wp-content/uploads/2024/05/Stephanie-Grace-Hibiscus-2yw7wX.tmp_.jpg
ORGANIZER;CN="Stephanie%20Grace%20Ceramics":MAILTO:stephanie@stephaniegraceceramics.com
GEO:42.4072107;-71.3824374
X-APPLE-STRUCTURED-LOCATION;VALUE=URI;X-ADDRESS=Stephanie Grace Ceramics Mad River Green Shopping Center Waitsfield VT 05673 United States;X-APPLE-RADIUS=500;X-TITLE=Mad River Green Shopping Center:geo:-71.3824374,42.4072107
END:VEVENT
BEGIN:VEVENT
DTSTART;TZID=America/New_York:20240601T090000
DTEND;TZID=America/New_York:20240601T120000
DTSTAMP:20260423T185059
CREATED:20240430T035348Z
LAST-MODIFIED:20240601T173809Z
UID:10006098-1717232400-1717243200@mrvvillage.com
SUMMARY:Playful Minds Workshops
DESCRIPTION:Calling all young artists\, storytellers\, movers\, groovers\, and explorers – Playful Minds Workshops are made for kids! In this series of five workshops\, early childhood educators Raya and McKinley will lead kids through fun-filled and enriching themed experiences that support creative expression through exploration. These workshops are not just educational and entertaining\, but are a celebration of curiosity\, creativity\, and friendship. From arts and crafts to interactive storytelling\, from music and movement to cooking\, there will be something for every child to enjoy and learn from.
URL:https://mrvvillage.com/event/playful-minds-workshops-4/
LOCATION:Camp Meade\, 961 ROUTE 2\, middlesex\, 05602
CATEGORIES:Community,Dining,Public Welcome,Special Events
ATTACH;FMTTYPE=image/png:https://mrvvillage.com/wp-content/uploads/2024/04/Playful-Minds-poster-update-vuSMbF.tmp_.png
ORGANIZER;CN="Camp%20Meade":MAILTO:info@campmeade.today
GEO:44.2412437;-72.5366148
X-APPLE-STRUCTURED-LOCATION;VALUE=URI;X-ADDRESS=Camp Meade 961 ROUTE 2 middlesex 05602;X-APPLE-RADIUS=500;X-TITLE=961 ROUTE 2:geo:-72.5366148,44.2412437
END:VEVENT
BEGIN:VEVENT
DTSTART;TZID=America/New_York:20240601T150000
DTEND;TZID=America/New_York:20240602T163000
DTSTAMP:20260423T185059
CREATED:20240512T043900Z
LAST-MODIFIED:20240601T173809Z
UID:10006155-1717254000-1717345800@mrvvillage.com
SUMMARY:Birding By Ear Workshop
DESCRIPTION:Have you ever wondered which bird is making what sound in the overwhelming chorus of song this time of year?\nThen join the library and the Mad Birders as we delve into the exciting world of birding using our ears. We will meet indoors on Saturday afternoon to learn the basics\, then practice these skills on an outdoor walk Sunday morning. Both sessions are free\, and all ages are welcome. Visit our website for more information.
URL:https://mrvvillage.com/event/birding-by-ear-workshop/
LOCATION:Moretown Town Hall and Library\, 1147 Route 100B\, Moretown\, 05660
CATEGORIES:Community,Special Events,Sports & Recreation
ATTACH;FMTTYPE=image/png:https://mrvvillage.com/wp-content/uploads/2024/05/2024Birding-by-Ear-DhxUmh.tmp_.png
ORGANIZER;CN="Moretown%20Library":MAILTO:moretownlibrary@gmail.com
GEO:44.2476272;-72.7639304
X-APPLE-STRUCTURED-LOCATION;VALUE=URI;X-ADDRESS=Moretown Town Hall and Library 1147 Route 100B Moretown 05660;X-APPLE-RADIUS=500;X-TITLE=1147 Route 100B:geo:-72.7639304,44.2476272
END:VEVENT
BEGIN:VEVENT
DTSTART;TZID=America/New_York:20240601T180000
DTEND;TZID=America/New_York:20240601T220000
DTSTAMP:20260423T185059
CREATED:20240514T155409Z
LAST-MODIFIED:20240601T173809Z
UID:10006162-1717264800-1717279200@mrvvillage.com
SUMMARY:Spring Hill School’s Bid & Boogie
DESCRIPTION:Help Spring Hill School celebrate 40 years of helping children (and grown ups) grow! \nComing up Saturday\, June 1st is the second part of our annual fundraiser “The Bid & Boogie”. We checked off the “Bid” last fall with a very successful online auction and now it’s time to party! Please plan to join us for “The Boogie”\, Saturday\, June 1st 6:00pm -10:00pm at beautiful Bliss Ridge Farm in Moretown. We’re going all out with two bands (Al’s Pals and The Grift)\, Woodbelly pizza for purchase\, cash bar and more. We really hope everyone will attend and bring your friends. This event is open to our entire community (adults only). Tickets are $40 and are on sale now online
URL:https://mrvvillage.com/event/spring-hill-schools-bid-boogie/
LOCATION:Bliss Ridge Farm\, 216 Gove Road\, Moretown\, Vermont\, 05660\, United States
CATEGORIES:Arts & Entertainment,Community,Schools,Special Events,Ticketed Event
ATTACH;FMTTYPE=image/jpeg:https://mrvvillage.com/wp-content/uploads/2024/05/LogoSpringHill-3yX8jG.tmp_.jpg
ORGANIZER;CN="Spring%20Hill%20School":MAILTO:shkira@madriver.com
GEO:44.2329909;-72.7485898
X-APPLE-STRUCTURED-LOCATION;VALUE=URI;X-ADDRESS=Bliss Ridge Farm 216 Gove Road Moretown Vermont 05660 United States;X-APPLE-RADIUS=500;X-TITLE=216 Gove Road:geo:-72.7485898,44.2329909
END:VEVENT
BEGIN:VEVENT
DTSTART;TZID=America/New_York:20240602T140000
DTEND;TZID=America/New_York:20240602T170000
DTSTAMP:20260423T185059
CREATED:20240524T053836Z
LAST-MODIFIED:20240602T173810Z
UID:10006177-1717336800-1717347600@mrvvillage.com
SUMMARY:Bread and Puppet Museum Opening and The Whole Kit and Caboodle Show
DESCRIPTION:Bread & Puppet will host our traditional Museum Open House Sunday\, June 2nd at 2 p.m. As always\, this celebratory afternoon of performances\, bread\, and museum appreciation will mark the beginning of a bustling summer season at the Bread & Puppet farm. \nThe Open House will begin at the entrance of our Museum\, where local singers will gather to sing songs in the “Shape Note” tradition\, an early American sacred singing tradition with deep roots in Vermont\, in four-part harmony. Next\, the Museum will receive its ceremonial opening for the season: the museum guard will be woken up and reinstalled at his post for the summer. The public will be invited to peruse the museum.\nIn keeping with tradition\, the middle of the afternoon will feature performances by B&P friends and guests with original music and short puppet shows at locations around the B&P farm. \nThe afternoon will conclude with The Whole Kit and Caboodle Show! \n“We the Whole Kit & Caboodle bread bakers\, peace and harmony terrorists\, and criminal trespassers of the fascist empire offer anti-hospital bombing calisthenics in the face of the Freedom and Democracy Bullshitters\, and precise funeral rites for the collapsing Western Civilization and make our divine papermaché weaponry as retrieved from the cardboard industry’s available refuse to defeat the capitalist hegemony and celebrate a brand-new humanity with appropriate victory dances and demonstrate our birthright as children of the one and only Mother Dirt who makes us and unmakes us and now requires our full undivided attention.” -Peter Schumann \nAfter the show Bread & Puppet will serve its famous sourdough rye bread with aioli\, and Bread & Puppet’s “Cheap Art” – books\, posters\, postcards\, pamphlets and banners from the Bread & Puppet Press – will be for sale. \nTickets for the Summer 2024 shows are $10 each. Admission by donation for kids 6 and under. We ask that you purchase a ticket ahead of time if you’re able. However\, it’s central to our philosophy for our shows to be accessible and no one will be turned away for lack of funds. Please check our website to purchase tickets https://breadandpuppet.org/ \nDogs are discouraged\, though well behaved dogs on leash are allowed. If you bring your dog\, PLEASE SIT IN THE BACK of the audience\, AT THE TOP OF THE THEATER as far away as possible from the brass band and bring plenty of water (there is none onsite). \nWe look forward to seeing you this summer!
URL:https://mrvvillage.com/event/bread-and-puppet-museum-opening-and-the-whole-kit-and-caboodle-show/
LOCATION:Bread and Puppet Theater\, 753 Heights Rd\, Montreal\, Vermont\, Glover\, United States
CATEGORIES:Special Events
ATTACH;FMTTYPE=image/jpeg:https://mrvvillage.com/wp-content/uploads/2024/05/The-Whole-Kit-and-Caboodle-1-D4QNqA.tmp_.jpg
ORGANIZER;CN="Bread%20and%20Puppet":MAILTO:breadandpuppetreservations@gmail.com
GEO:44.7069038;-72.1869766
X-APPLE-STRUCTURED-LOCATION;VALUE=URI;X-ADDRESS=Bread and Puppet Theater 753 Heights Rd Montreal Vermont Glover United States;X-APPLE-RADIUS=500;X-TITLE=753 Heights Rd:geo:-72.1869766,44.7069038
END:VEVENT
BEGIN:VEVENT
DTSTART;TZID=America/New_York:20240602T160000
DTEND;TZID=America/New_York:20240602T180000
DTSTAMP:20260423T185059
CREATED:20240510T153836Z
LAST-MODIFIED:20240602T173810Z
UID:10006143-1717344000-1717351200@mrvvillage.com
SUMMARY:Spring Hill School presents The Modern Times Puppet Theater’s brand new show!
DESCRIPTION:To celebrate Spring Hill School’s 40th birthday\, Spring Hill School presents the Modern Times Puppet Theater’s brand new show\, “The Perils of Mr. Punch: Let’s Agree to Disagree” . We’re so pleased to welcome Modern Times back for a second year. This is an event for all! Co-founders Rose Friedman and Justin Lander are a husband and wife duo\, producers for Vermont Vaudeville and alumni of the Bread and Puppet Theater. As parents themselves\, they strive to present quality entertainment that the whole family can enjoy. Following the show\, flatbread\, salads and drinks will be available for dinner for purchase in the pavilion. We also plan to have a 40th Birthday treat surprise! Please dress for the weather and bring a blanket or camp chairs to sit on during the show. Everyone is invited!
URL:https://mrvvillage.com/event/spring-hill-school-presents-the-modern-times-puppet-theaters-brand-new-show/
LOCATION:Lareau Farm Inn\, 46 Lareau Rd.\, Waitsfield\, 05673
CATEGORIES:Arts & Entertainment,Family Friendly,Special Events
ATTACH;FMTTYPE=image/jpeg:https://mrvvillage.com/wp-content/uploads/2024/05/LogoSpringHill-3yX8jG.tmp_.jpg
ORGANIZER;CN="Spring%20Hill%20School":MAILTO:shkira@madriver.com
GEO:44.172559;-72.833919
X-APPLE-STRUCTURED-LOCATION;VALUE=URI;X-ADDRESS=Lareau Farm Inn 46 Lareau Rd. Waitsfield 05673;X-APPLE-RADIUS=500;X-TITLE=46 Lareau Rd.:geo:-72.833919,44.172559
END:VEVENT
END:VCALENDAR