BEGIN:VCALENDAR
VERSION:2.0
PRODID:-//The Mad River Valley Village - ECPv6.0.13//NONSGML v1.0//EN
CALSCALE:GREGORIAN
METHOD:PUBLISH
X-WR-CALNAME:The Mad River Valley Village
X-ORIGINAL-URL:https://mrvvillage.com
X-WR-CALDESC:Events for The Mad River Valley Village
REFRESH-INTERVAL;VALUE=DURATION:PT1H
X-Robots-Tag:noindex
X-PUBLISHED-TTL:PT1H
BEGIN:VTIMEZONE
TZID:America/New_York
BEGIN:DAYLIGHT
TZOFFSETFROM:-0500
TZOFFSETTO:-0400
TZNAME:EDT
DTSTART:20240310T070000
END:DAYLIGHT
BEGIN:STANDARD
TZOFFSETFROM:-0400
TZOFFSETTO:-0500
TZNAME:EST
DTSTART:20241103T060000
END:STANDARD
END:VTIMEZONE
BEGIN:VEVENT
DTSTART;TZID=America/New_York:20240613T160000
DTEND;TZID=America/New_York:20240613T164500
DTSTAMP:20260423T155656
CREATED:20240605T173824Z
LAST-MODIFIED:20240613T182313Z
UID:10006192-1718294400-1718297100@mrvvillage.com
SUMMARY:Yestermorrow Walk-In Campus Tour
DESCRIPTION:If you are in the Mad River Valley and would like to tour the Yestermorrow campus\, please come say hello. We are offering recurring walk-in tours\, Thursdays at 4pm\, throughout the summer. We will explore campus\, do our best to answer your burning questions\, and talk about all things Yestermorrow. We hope to see you there.
URL:https://mrvvillage.com/event/yestermorrow-walk-in-campus-tour/
LOCATION:Yestermorrow Design/Build School\, 7865 Main Street\, Waitsfield\, 05673
CATEGORIES:Arts & Entertainment,Community,Special Events
ATTACH;FMTTYPE=image/png:https://mrvvillage.com/wp-content/uploads/2024/03/YESTERMORROW_5in2010-TRAP-sciHY6.tmp_.png
ORGANIZER;CN="Yestermorrow%20Design%2FBuild%20School":MAILTO:info@yestermorrow.org
GEO:44.1490529;-72.8380281
X-APPLE-STRUCTURED-LOCATION;VALUE=URI;X-ADDRESS=Yestermorrow Design/Build School 7865 Main Street Waitsfield 05673;X-APPLE-RADIUS=500;X-TITLE=7865 Main Street:geo:-72.8380281,44.1490529
END:VEVENT
BEGIN:VEVENT
DTSTART;TZID=America/New_York:20240615T150000
DTEND;TZID=America/New_York:20240615T160000
DTSTAMP:20260423T155656
CREATED:20240514T155422Z
LAST-MODIFIED:20240615T183811Z
UID:10006164-1718463600-1718467200@mrvvillage.com
SUMMARY:Studio 100 Dance and Fitness 1st Annual Dance Recital
DESCRIPTION:Studio 100 Dance and Fitness invite you to our 1st Annual dance recital “A Night at the Movies” featuring over 80 local dancers!
URL:https://mrvvillage.com/event/studio-100-dance-and-fitness-1st-annual-dance-recital/
LOCATION:Harwood Union High School\, 458 VT RTE 100\, Moretown\, VT\, 05660\, United States
CATEGORIES:Arts & Entertainment,Community,Family Friendly,Special Events
ATTACH;FMTTYPE=image/jpeg:https://mrvvillage.com/wp-content/uploads/2024/05/1st-annual-recital-poster-2-FVhyAz.tmp_.jpg
ORGANIZER;CN="Studio%20100%20Dance%20and%20Fitness":MAILTO:info@studio100vt.com
GEO:44.2540115;-72.7864532
X-APPLE-STRUCTURED-LOCATION;VALUE=URI;X-ADDRESS=Harwood Union High School 458 VT RTE 100 Moretown VT 05660 United States;X-APPLE-RADIUS=500;X-TITLE=458 VT RTE 100:geo:-72.7864532,44.2540115
END:VEVENT
END:VCALENDAR