BEGIN:VCALENDAR
VERSION:2.0
PRODID:-//The Mad River Valley Village - ECPv6.0.13//NONSGML v1.0//EN
CALSCALE:GREGORIAN
METHOD:PUBLISH
X-ORIGINAL-URL:https://mrvvillage.com
X-WR-CALDESC:Events for The Mad River Valley Village
REFRESH-INTERVAL;VALUE=DURATION:PT1H
X-Robots-Tag:noindex
X-PUBLISHED-TTL:PT1H
BEGIN:VTIMEZONE
TZID:America/New_York
BEGIN:DAYLIGHT
TZOFFSETFROM:-0500
TZOFFSETTO:-0400
TZNAME:EDT
DTSTART:20240310T070000
END:DAYLIGHT
BEGIN:STANDARD
TZOFFSETFROM:-0400
TZOFFSETTO:-0500
TZNAME:EST
DTSTART:20241103T060000
END:STANDARD
END:VTIMEZONE
BEGIN:VEVENT
DTSTART;TZID=America/New_York:20240617T090000
DTEND;TZID=America/New_York:20240621T120000
DTSTAMP:20260423T131300
CREATED:20240508T042353Z
LAST-MODIFIED:20240617T190822Z
UID:10006109-1718614800-1718971200@mrvvillage.com
SUMMARY:The Magic Toy Box
DESCRIPTION:A week-long half-day camp for kids ages 4 – 6 (pre-K through Gr. 1) in our beautifully renovated one-room schoolhouse. Beloved teaching artist at The Flynn and schools across Vermont\, Tracy Martin takes children on a joyful journey of movement\, crafts\, storytelling and performance made for and by kids. Siblings welcome! Scholarships available\, supported in part by Vermont Humanities. For more information or to register\, email vtcornerschool@gmail.com
URL:https://mrvvillage.com/event/the-magic-toy-box/
LOCATION:Corner School Resource Center of Granville Vermont\, 75 Post Office Hill 75 Post Office Hill\, Granville\, Vermont\, 05747\, United States
CATEGORIES:Arts & Entertainment,Family Friendly,Special Events
ATTACH;FMTTYPE=image/jpeg:https://mrvvillage.com/wp-content/uploads/2024/05/Corner-School-Resource-Center2021-icxUb6.tmp_.jpg
ORGANIZER;CN="Corner%20School%20Resource%20Center":MAILTO:k8izwrite@gmail.com
GEO:43.9859901;-72.8465845
X-APPLE-STRUCTURED-LOCATION;VALUE=URI;X-ADDRESS=Corner School Resource Center of Granville Vermont 75 Post Office Hill 75 Post Office Hill Granville Vermont 05747 United States;X-APPLE-RADIUS=500;X-TITLE=75 Post Office Hill 75 Post Office Hill:geo:-72.8465845,43.9859901
END:VEVENT
BEGIN:VEVENT
DTSTART;TZID=America/New_York:20240620T093000
DTEND;TZID=America/New_York:20240620T104500
DTSTAMP:20260423T131300
CREATED:20240604T055334Z
LAST-MODIFIED:20240620T195314Z
UID:10006189-1718875800-1718880300@mrvvillage.com
SUMMARY:Solstice Yoga with Anjali Budreski
DESCRIPTION:Join Anjali at the Moretown Library at the Moretown Town Hall for a gentle and inclusive yoga class to celebrate the APEX point on the wheel of the year. Celebrate the start of summer with movement\, breath\, joy\, flow and an open heart. What is in full bloom inside of your own heart? What are you creating with the vibrant summer energy? \nThis is a community class geared for all levels. Donations of $5-15 are  appreciated but no one will be turned away for lack of funds. Bring your own yoga mat and water bottle\, as well as any props you like to have with you. \nVisit the library’s website to sign up\, or register here: https://forms.gle/v4qdCKaaPXohbmQH6
URL:https://mrvvillage.com/event/solstice-yoga-with-anjali-budreski/
LOCATION:Moretown Town Hall and Library\, 1147 Route 100B\, Moretown\, 05660
CATEGORIES:Community,Special Events
ATTACH;FMTTYPE=image/png:https://mrvvillage.com/wp-content/uploads/2024/06/Yoga-Y7sy7P.tmp_.png
ORGANIZER;CN="Moretown%20Library":MAILTO:moretownlibrary@gmail.com
GEO:44.2476272;-72.7639304
X-APPLE-STRUCTURED-LOCATION;VALUE=URI;X-ADDRESS=Moretown Town Hall and Library 1147 Route 100B Moretown 05660;X-APPLE-RADIUS=500;X-TITLE=1147 Route 100B:geo:-72.7639304,44.2476272
END:VEVENT
BEGIN:VEVENT
DTSTART;TZID=America/New_York:20240620T160000
DTEND;TZID=America/New_York:20240620T164500
DTSTAMP:20260423T131300
CREATED:20240605T173836Z
LAST-MODIFIED:20240620T195314Z
UID:10006194-1718899200-1718901900@mrvvillage.com
SUMMARY:Yestermorrow Walk-In Campus Tour
DESCRIPTION:If you are in the Mad River Valley and would like to tour the Yestermorrow campus\, please come say hello. We are offering recurring walk-in tours\, Thursdays at 4pm\, throughout the summer. We will explore campus\, do our best to answer your burning questions\, and talk about all things Yestermorrow. We hope to see you there.
URL:https://mrvvillage.com/event/yestermorrow-walk-in-campus-tour-3/
LOCATION:Yestermorrow Design/Build School\, 7865 Main Street\, Waitsfield\, 05673
CATEGORIES:Arts & Entertainment,Community,Special Events
ATTACH;FMTTYPE=image/png:https://mrvvillage.com/wp-content/uploads/2024/03/YESTERMORROW_5in2010-TRAP-sciHY6.tmp_.png
ORGANIZER;CN="Yestermorrow%20Design%2FBuild%20School":MAILTO:info@yestermorrow.org
GEO:44.1490529;-72.8380281
X-APPLE-STRUCTURED-LOCATION;VALUE=URI;X-ADDRESS=Yestermorrow Design/Build School 7865 Main Street Waitsfield 05673;X-APPLE-RADIUS=500;X-TITLE=7865 Main Street:geo:-72.8380281,44.1490529
END:VEVENT
BEGIN:VEVENT
DTSTART;TZID=America/New_York:20240620T183000
DTEND;TZID=America/New_York:20240620T200000
DTSTAMP:20260423T131300
CREATED:20240509T042358Z
LAST-MODIFIED:20240620T195315Z
UID:10006117-1718908200-1718913600@mrvvillage.com
SUMMARY:Meet the Winemaker: Michele D’Aprix
DESCRIPTION:Michele D’Aprix is back in The Tasting Room. She’s the only American woman making her own wine in France’ Boardeaux region\, and we’re excited she’s returning to share her wines and their stories with us. Throughout the evening\, Michele will guide us through five of her wines – from white to rosé to red – and give us the inside scoop about her winemaking methodologies. Last year’s tasting event with Michele was fantastic fun\, so you won’t want to miss this one!
URL:https://mrvvillage.com/event/meet-the-winemaker-michele-daprix/
LOCATION:The Local: Wine & Beer\, 961 US Route 2\, Middlesex\, VT\, 05602\, United States
CATEGORIES:Community,Food & Drink,Public Welcome,Special Events
ATTACH;FMTTYPE=image/png:https://mrvvillage.com/wp-content/uploads/2024/05/240620-Michele-DAprix-xrny7p.tmp_.png
ORGANIZER;CN="The%20Local%3A%20Wine%20%26%23038%3B%20Beer":MAILTO:info@thelocalvt.com
GEO:44.2943225;-72.6828326
X-APPLE-STRUCTURED-LOCATION;VALUE=URI;X-ADDRESS=The Local: Wine & Beer 961 US Route 2 Middlesex VT 05602 United States;X-APPLE-RADIUS=500;X-TITLE=961 US Route 2:geo:-72.6828326,44.2943225
END:VEVENT
END:VCALENDAR