BEGIN:VCALENDAR
VERSION:2.0
PRODID:-//The Mad River Valley Village - ECPv6.0.13//NONSGML v1.0//EN
CALSCALE:GREGORIAN
METHOD:PUBLISH
X-ORIGINAL-URL:https://mrvvillage.com
X-WR-CALDESC:Events for The Mad River Valley Village
REFRESH-INTERVAL;VALUE=DURATION:PT1H
X-Robots-Tag:noindex
X-PUBLISHED-TTL:PT1H
BEGIN:VTIMEZONE
TZID:America/New_York
BEGIN:DAYLIGHT
TZOFFSETFROM:-0500
TZOFFSETTO:-0400
TZNAME:EDT
DTSTART:20240310T070000
END:DAYLIGHT
BEGIN:STANDARD
TZOFFSETFROM:-0400
TZOFFSETTO:-0500
TZNAME:EST
DTSTART:20241103T060000
END:STANDARD
END:VTIMEZONE
BEGIN:VEVENT
DTSTART;TZID=America/New_York:20240812T090000
DTEND;TZID=America/New_York:20240812T170000
DTSTAMP:20260423T192931
CREATED:20240514T043942Z
LAST-MODIFIED:20240812T160813Z
UID:10006161-1723453200-1723482000@mrvvillage.com
SUMMARY:Collaborative Design/Build Intensive
DESCRIPTION:Yestermorrow’s work is rooted in an integrated design/build philosophy. We believe that combining design and building offers numerous advantages and promotes the creation of intentional and inspired buildings and communities that enhance our world. Led by founding members of the legendary Jersey Devil Design/Build group and renowned architect Bill Bialosky\, this course is the embodiment of the design/build process. \nThis 2 week crash course teaches students critical skills in both facilitating consensus based design and fundamental carpentry skills. Students engage in a collaborative and interactive process of designing and building a full scale community project. Students will meet with the non-profit or community client\, establish the program\, work within a budget\, propose and develop the design all in just 3 days. Following design approval\, we’ll head to the job site to execute the design. \nThroughout the program students will experience the design/build feedback loop as they gain fundamental carpentry skills while also learning how to adapt existing plans to current conditions. Your creative thinking and problem solving skills will be put to the test! \nThis class is a great fit for people interested in community development\, change making\, architecture\, small scale building and collaborative design.\nThis course is open to architects and builders seeking to earn continuing education credit\, as well as to students\, non-professionals\, and anyone with enthusiasm about design/build and giving back to the public realm. Previous construction experience is not required. However\, a willingness to try is expected!
URL:https://mrvvillage.com/event/collaborative-design-build-intensive/
LOCATION:Yestermorrow Design/Build School\, 7865 Main Street\, Waitsfield\, 05673
CATEGORIES:Community,Special Events
ATTACH;FMTTYPE=image/png:https://mrvvillage.com/wp-content/uploads/2024/05/1-ZhWfcM.tmp_.png
ORGANIZER;CN="Yestermorrow%20Design%2FBuild%20School":MAILTO:info@yestermorrow.org
GEO:44.1490529;-72.8380281
X-APPLE-STRUCTURED-LOCATION;VALUE=URI;X-ADDRESS=Yestermorrow Design/Build School 7865 Main Street Waitsfield 05673;X-APPLE-RADIUS=500;X-TITLE=7865 Main Street:geo:-72.8380281,44.1490529
END:VEVENT
BEGIN:VEVENT
DTSTART;TZID=America/New_York:20240815T160000
DTEND;TZID=America/New_York:20240815T164500
DTSTAMP:20260423T192931
CREATED:20240605T173930Z
LAST-MODIFIED:20240714T124028Z
UID:10006202-1723737600-1723740300@mrvvillage.com
SUMMARY:Yestermorrow Walk-In Campus Tour
DESCRIPTION:If you are in the Mad River Valley and would like to tour the Yestermorrow campus\, please come say hello. We are offering recurring walk-in tours\, Thursdays at 4pm\, throughout the summer. We will explore campus\, do our best to answer your burning questions\, and talk about all things Yestermorrow. We hope to see you there.
URL:https://mrvvillage.com/event/yestermorrow-walk-in-campus-tour-11/
LOCATION:Yestermorrow Design/Build School\, 7865 Main Street\, Waitsfield\, 05673
CATEGORIES:Arts & Entertainment,Community,Special Events
ATTACH;FMTTYPE=image/png:https://mrvvillage.com/wp-content/uploads/2024/03/YESTERMORROW_5in2010-TRAP-sciHY6.tmp_.png
ORGANIZER;CN="Yestermorrow%20Design%2FBuild%20School":MAILTO:info@yestermorrow.org
GEO:44.1490529;-72.8380281
X-APPLE-STRUCTURED-LOCATION;VALUE=URI;X-ADDRESS=Yestermorrow Design/Build School 7865 Main Street Waitsfield 05673;X-APPLE-RADIUS=500;X-TITLE=7865 Main Street:geo:-72.8380281,44.1490529
END:VEVENT
END:VCALENDAR