BEGIN:VCALENDAR
VERSION:2.0
PRODID:-//The Mad River Valley Village - ECPv6.0.13//NONSGML v1.0//EN
CALSCALE:GREGORIAN
METHOD:PUBLISH
X-ORIGINAL-URL:https://mrvvillage.com
X-WR-CALDESC:Events for The Mad River Valley Village
REFRESH-INTERVAL;VALUE=DURATION:PT1H
X-Robots-Tag:noindex
X-PUBLISHED-TTL:PT1H
BEGIN:VTIMEZONE
TZID:America/New_York
BEGIN:DAYLIGHT
TZOFFSETFROM:-0500
TZOFFSETTO:-0400
TZNAME:EDT
DTSTART:20240310T070000
END:DAYLIGHT
BEGIN:STANDARD
TZOFFSETFROM:-0400
TZOFFSETTO:-0500
TZNAME:EST
DTSTART:20241103T060000
END:STANDARD
END:VTIMEZONE
BEGIN:VEVENT
DTSTART;TZID=America/New_York:20240902T093000
DTEND;TZID=America/New_York:20240902T110000
DTSTAMP:20260424T041745
CREATED:20240827T172342Z
LAST-MODIFIED:20240902T193816Z
UID:10006906-1725269400-1725274800@mrvvillage.com
SUMMARY:Yoga on the Farm
DESCRIPTION:Join Certified Yoga Teacher & Life Coach\, Anjali Budreski for a beautiful\, gentle and slow outdoor yoga practice at the Living Tree Pavilion.
URL:https://mrvvillage.com/event/yoga-on-the-farm/
LOCATION:Living Tree Alliance\, 96 Living Tree Ln\, Moretown\, VT\, 05660\, United States
CATEGORIES:Public Welcome,Special Events,Sports & Recreation
ATTACH;FMTTYPE=image/png:https://mrvvillage.com/wp-content/uploads/2024/08/outdoor-yoga-flyer-and-newsletter-image-nfrSs6.tmp_.png
ORGANIZER;CN="Living%20Tree%20Alliance":MAILTO:info@livingtreealliance.com
GEO:44.2472902;-72.7762636
X-APPLE-STRUCTURED-LOCATION;VALUE=URI;X-ADDRESS=Living Tree Alliance 96 Living Tree Ln Moretown VT 05660 United States;X-APPLE-RADIUS=500;X-TITLE=96 Living Tree Ln:geo:-72.7762636,44.2472902
END:VEVENT
BEGIN:VEVENT
DTSTART;TZID=America/New_York:20240905T160000
DTEND;TZID=America/New_York:20240905T164500
DTSTAMP:20260424T041745
CREATED:20240607T055445Z
LAST-MODIFIED:20240714T124123Z
UID:10006208-1725552000-1725554700@mrvvillage.com
SUMMARY:Yestermorrow Walk-In Campus Tour
DESCRIPTION:If you are in the Mad River Valley and would like to tour the Yestermorrow campus\, please come say hello. We are offering recurring walk-in tours\, Thursdays at 4pm\, throughout the summer. We will explore campus\, do our best to answer your burning questions\, and talk about all things Yestermorrow. We hope to see you there.
URL:https://mrvvillage.com/event/yestermorrow-walk-in-campus-tour-14/
LOCATION:Yestermorrow Design/Build School\, 7865 Main Street\, Waitsfield\, 05673
CATEGORIES:Arts & Entertainment,Community,Special Events
ATTACH;FMTTYPE=image/png:https://mrvvillage.com/wp-content/uploads/2024/03/YESTERMORROW_5in2010-TRAP-sciHY6.tmp_.png
ORGANIZER;CN="Yestermorrow%20Design%2FBuild%20School":MAILTO:info@yestermorrow.org
GEO:44.1490529;-72.8380281
X-APPLE-STRUCTURED-LOCATION;VALUE=URI;X-ADDRESS=Yestermorrow Design/Build School 7865 Main Street Waitsfield 05673;X-APPLE-RADIUS=500;X-TITLE=7865 Main Street:geo:-72.8380281,44.1490529
END:VEVENT
BEGIN:VEVENT
DTSTART;TZID=America/New_York:20240907T000000
DTEND;TZID=America/New_York:20240907T235959
DTSTAMP:20260424T041745
CREATED:20240827T172400Z
LAST-MODIFIED:20240907T205318Z
UID:10006909-1725667200-1725753599@mrvvillage.com
SUMMARY:OUTPOUR ‘24 A DAYLONG MUSIC FEST TO HELP THOSE AFFECTED BY THIS SUMMER’S FLOOD
DESCRIPTION:Join us at Mt. Ellen on Saturday\, September 7th\, for a full day of food\, drink and live music to benefit Vermont flood relief efforts. 100% of ticket proceeds goes towards the Vermont Community Foundations VT Flood Response & Recovery Fund\, along with proceeds from the raffle. \nLive music featuring Abby Jenne\, Kind Bud\, Guitfiddle\, Ragged Company\, Running in Circles and The Grift. Doors at 11:00 AM with first notes at noon. Advanced tickets are $25; day-of $30. Limited tickets available. Kids 12 and under are free. \nThis is a shine only event; in the event of weather cancellation 100% of ticket proceeds will go to VT Flood Relief.
URL:https://mrvvillage.com/event/outpour-24-a-daylong-music-fest-to-help-those-affected-by-this-summers-flood/
LOCATION:Mount Ellen\, Mount Ellen
CATEGORIES:Arts & Entertainment,Community,Family Friendly,Food & Drink,Special Events,Sugarbush
ATTACH;FMTTYPE=image/png:https://mrvvillage.com/wp-content/uploads/2024/08/OUTPOUR_24-Poster-w-Logos-1.pdf-6-x-8-in-lkVfXL.tmp_.png
GEO:44.1600589;-72.9292834
X-APPLE-STRUCTURED-LOCATION;VALUE=URI;X-ADDRESS=Mount Ellen Mount Ellen;X-APPLE-RADIUS=500;X-TITLE=Mount Ellen:geo:-72.9292834,44.1600589
END:VEVENT
END:VCALENDAR