BEGIN:VCALENDAR
VERSION:2.0
PRODID:-//The Mad River Valley Village - ECPv6.0.13//NONSGML v1.0//EN
CALSCALE:GREGORIAN
METHOD:PUBLISH
X-ORIGINAL-URL:https://mrvvillage.com
X-WR-CALDESC:Events for The Mad River Valley Village
REFRESH-INTERVAL;VALUE=DURATION:PT1H
X-Robots-Tag:noindex
X-PUBLISHED-TTL:PT1H
BEGIN:VTIMEZONE
TZID:America/New_York
BEGIN:DAYLIGHT
TZOFFSETFROM:-0500
TZOFFSETTO:-0400
TZNAME:EDT
DTSTART:20240310T070000
END:DAYLIGHT
BEGIN:STANDARD
TZOFFSETFROM:-0400
TZOFFSETTO:-0500
TZNAME:EST
DTSTART:20241103T060000
END:STANDARD
END:VTIMEZONE
BEGIN:VEVENT
DTSTART;TZID=America/New_York:20241003T170000
DTEND;TZID=America/New_York:20241003T181500
DTSTAMP:20260424T003812
CREATED:20240827T172524Z
LAST-MODIFIED:20241003T120817Z
UID:10006920-1727974800-1727979300@mrvvillage.com
SUMMARY:Let’s Talk Italy
DESCRIPTION:Susan Day\, who has been touring Italy for over 20 years (mostly by bicycle)\, will lead participants on a journey of the contemporary Italian countryside–with a bit of language thrown in. She’ll share information about the different geographic regions\, and what makes them unique\, particularly when it comes to food and wine. Participants will practice helpful words and phrases\, laugh at themselves as they pronounce double constants and the Italian “r”\, translate menus\, and spend at least one session cooking.\nA presto! Pre-registration is required. Go to the Joslinmemoriallibrary website and Click on Upcoming Programs to register.
URL:https://mrvvillage.com/event/lets-talk-italy-3/
LOCATION:Joslin Memorial Library\, 4391 Main Street\, Waitsfield\, 05673
CATEGORIES:Arts & Entertainment,Community,Special Events
ATTACH;FMTTYPE=image/png:https://mrvvillage.com/wp-content/uploads/2024/08/Lets-Talk-Italy-Facebook-Post-29EVwo.tmp_.png
GEO:44.1926386;-72.7798479
X-APPLE-STRUCTURED-LOCATION;VALUE=URI;X-ADDRESS=Joslin Memorial Library 4391 Main Street Waitsfield 05673;X-APPLE-RADIUS=500;X-TITLE=4391 Main Street:geo:-72.7798479,44.1926386
END:VEVENT
BEGIN:VEVENT
DTSTART;TZID=America/New_York:20241003T190000
DTEND;TZID=America/New_York:20241003T200000
DTSTAMP:20260424T003812
CREATED:20240924T225415Z
LAST-MODIFIED:20241003T120817Z
UID:10007062-1727982000-1727985600@mrvvillage.com
SUMMARY:MRV Libraries Pub Trivia
DESCRIPTION:This month’s trivia\, is once again at the Deco restaurant at Hostel Tevere. Please reserve a table for you and your team by calling 802-496-9222. Questions about all things haunted will make for a spooky evening.
URL:https://mrvvillage.com/event/mrv-libraries-pub-trivia-4/
LOCATION:Hostel Tevere\, 203 Powderhound Rd\, Warren\, VT\, 05674\, United States
CATEGORIES:Arts & Entertainment,Community,Food & Drink,Special Events
ATTACH;FMTTYPE=image/png:https://mrvvillage.com/wp-content/uploads/2024/09/Haunted-Pub-Trivia-3g7UVi.tmp_.png
ORGANIZER;CN="Mad%20River%20Libraries":MAILTO:programs@warrenlibrary.com
GEO:44.1341751;-72.8481846
X-APPLE-STRUCTURED-LOCATION;VALUE=URI;X-ADDRESS=Hostel Tevere 203 Powderhound Rd Warren VT 05674 United States;X-APPLE-RADIUS=500;X-TITLE=203 Powderhound Rd:geo:-72.8481846,44.1341751
END:VEVENT
BEGIN:VEVENT
DTSTART;TZID=America/New_York:20241004T180000
DTEND;TZID=America/New_York:20241004T193000
DTSTAMP:20260424T003812
CREATED:20240924T225418Z
LAST-MODIFIED:20241004T120818Z
UID:10007064-1728064800-1728070200@mrvvillage.com
SUMMARY:Journeys on the Long Trail
DESCRIPTION:Join Sandi Pierson for a presentation on this 272 mile trail along the crest of the Green Mountains from Massachusetts to Canada. Sandi has hiked the trail alone\, with her four sisters\, twice with her son and always with a pup by her side. Light refreshments will be served.
URL:https://mrvvillage.com/event/journeys-on-the-long-trail/
LOCATION:Moretown Town Hall and Library\, 1147 Route 100B\, Moretown\, 05660
CATEGORIES:Arts & Entertainment,Community,Special Events
ATTACH;FMTTYPE=image/png:https://mrvvillage.com/wp-content/uploads/2024/09/Long-Trail-2024-he62Zg.tmp_.png
ORGANIZER;CN="Moretown%20Library":MAILTO:moretownlibrary@gmail.com
GEO:44.2476272;-72.7639304
X-APPLE-STRUCTURED-LOCATION;VALUE=URI;X-ADDRESS=Moretown Town Hall and Library 1147 Route 100B Moretown 05660;X-APPLE-RADIUS=500;X-TITLE=1147 Route 100B:geo:-72.7639304,44.2476272
END:VEVENT
BEGIN:VEVENT
DTSTART;TZID=America/New_York:20241005T130000
DTEND;TZID=America/New_York:20241005T134500
DTSTAMP:20260424T003812
CREATED:20241004T003828Z
LAST-MODIFIED:20241005T120817Z
UID:10007116-1728133200-1728135900@mrvvillage.com
SUMMARY:Geology Event at Mad River Glen!  Family-Friendly
DESCRIPTION:Join us on October 5th for an engaging presentation by Greg Walsh of the U.S. Geological Survey. From 1:00-1:45 pm at the Mad River Glen Basebox. Families can dive into Stark Mountain’s geologic history with interactive activities like visualizing Earth’s timeline and piecing together the Pangaea supercontinent. Perfect for kids 5 and up\, this event also features new geology signs along the mountain’s snowshoe trails\, and families can ride the single chair to view the foliage. \nDon’t miss out—pre-register here: bit.ly/geologypresentation #FamilyFun #Geology #MadRiverGlen #StarkMountainFoundation #Vermont \n**Illustration by Sarah Clowes\, modified from “Rock Cycle” by Siyavula Education
URL:https://mrvvillage.com/event/geology-event-at-mad-river-glen-family-friendly/
LOCATION:Mad River Glen\, 57 Schuss Pass Road\, Waitsfield\, 05673
CATEGORIES:Community,Special Events
ATTACH;FMTTYPE=image/jpeg:https://mrvvillage.com/wp-content/uploads/2024/10/RockCycle-WEyuPn.tmp_.jpg
ORGANIZER;CN="Stark%20Mountain%20Foundation":MAILTO:contact@starkmountain.org
GEO:44.2023162;-72.9182617
X-APPLE-STRUCTURED-LOCATION;VALUE=URI;X-ADDRESS=Mad River Glen 57 Schuss Pass Road Waitsfield 05673;X-APPLE-RADIUS=500;X-TITLE=57 Schuss Pass Road:geo:-72.9182617,44.2023162
END:VEVENT
BEGIN:VEVENT
DTSTART;TZID=America/New_York:20241005T150000
DTEND;TZID=America/New_York:20241005T163000
DTSTAMP:20260424T003812
CREATED:20240925T230930Z
LAST-MODIFIED:20241005T120817Z
UID:10007078-1728140400-1728145800@mrvvillage.com
SUMMARY:von Trapp Farmstead – Farm Tour
DESCRIPTION:Trace the path of von Trapp Farmstead’s award-winning organic cheeses on a guided farm tour: from pasture to store! \nBeginning at the farm store\, we’ll walk out on pasture and learn about how we manage soil health and cultivate a diverse diet for our cows. From there\, we’ll go find the cows – either on pasture or in the covered barnyard taking a mid-day break in the shade and then learn a little about cheesemaking. Finally\, we’ll return to the farm store where you’ll get to sample all of our cheeses and check out the many local products in the store! \nSome things to keep in mind: \nWear closed toe shoes \nDress for the weather (hats\, sunscreen\, raincoat\, etc.) \nLeave your animals at home \nDuring check out\, you will read the Vermont Act 31 Agritourism liability warning \nOur tour is geared towards adults and older children. We do not recommend this tour for toddlers and young children. If you do plan to bring young children\, they need their own ticket and must be accompanied by an adult for the duration of the tour
URL:https://mrvvillage.com/event/von-trapp-farmstead-farm-tour/
LOCATION:von Trapp Farmstead\, 251 Common Road\, Waitsfield\, Vermont\, 05673
CATEGORIES:Arts & Entertainment,Community,Food & Drink,Special Events,Ticketed Event
ATTACH;FMTTYPE=image/jpeg:https://mrvvillage.com/wp-content/uploads/2024/09/AliKaukas_DSC_7149-f30PVt.tmp_.jpg
ORGANIZER;CN="von%20Trapp%20Farmstead":MAILTO:info@vontrappfarmstead.com
GEO:44.1866196;-72.795793
X-APPLE-STRUCTURED-LOCATION;VALUE=URI;X-ADDRESS=von Trapp Farmstead 251 Common Road Waitsfield Vermont 05673;X-APPLE-RADIUS=500;X-TITLE=251 Common Road:geo:-72.795793,44.1866196
END:VEVENT
END:VCALENDAR