BEGIN:VCALENDAR
VERSION:2.0
PRODID:-//The Mad River Valley Village - ECPv6.0.13//NONSGML v1.0//EN
CALSCALE:GREGORIAN
METHOD:PUBLISH
X-WR-CALNAME:The Mad River Valley Village
X-ORIGINAL-URL:https://mrvvillage.com
X-WR-CALDESC:Events for The Mad River Valley Village
REFRESH-INTERVAL;VALUE=DURATION:PT1H
X-Robots-Tag:noindex
X-PUBLISHED-TTL:PT1H
BEGIN:VTIMEZONE
TZID:America/New_York
BEGIN:DAYLIGHT
TZOFFSETFROM:-0500
TZOFFSETTO:-0400
TZNAME:EDT
DTSTART:20240310T070000
END:DAYLIGHT
BEGIN:STANDARD
TZOFFSETFROM:-0400
TZOFFSETTO:-0500
TZNAME:EST
DTSTART:20241103T060000
END:STANDARD
END:VTIMEZONE
BEGIN:VEVENT
DTSTART;TZID=America/New_York:20241221T150000
DTEND;TZID=America/New_York:20241221T203000
DTSTAMP:20260425T102916
CREATED:20241211T183856Z
LAST-MODIFIED:20241221T202317Z
UID:10007297-1734793200-1734813000@mrvvillage.com
SUMMARY:Solstice Celebration at the Big Picture
DESCRIPTION:A free community event featuring\n3p – the classic Christmas movie “It’s a Wonderful Life”\n5p – Carol singing with pianist Carey Bennet\n6p – Community potluck: bring a dish to share!\n7p – a Moth-Inspired Storytelling event hosted by Phantom Theater with the theme: Stories of the Solstice & Transformation. \nA great family friendly gathering! \nOwner Claudia Becker will be on hand to share thoughts about the future of this important community hub.
URL:https://mrvvillage.com/event/solstice-celebration-at-the-big-picture/
LOCATION:Big Picture Theater\, 44 Carroll Road\, Waitsfield\, 05673
CATEGORIES:Live Music,Public Welcome,Special Events
ATTACH;FMTTYPE=image/jpeg:https://mrvvillage.com/wp-content/uploads/2024/12/big-pic-tight-2ubSbI.tmp_.jpg
GEO:44.1874779;-72.8335286
X-APPLE-STRUCTURED-LOCATION;VALUE=URI;X-ADDRESS=Big Picture Theater 44 Carroll Road Waitsfield 05673;X-APPLE-RADIUS=500;X-TITLE=44 Carroll Road:geo:-72.8335286,44.1874779
END:VEVENT
BEGIN:VEVENT
DTSTART;TZID=America/New_York:20241222T110000
DTEND;TZID=America/New_York:20241222T130000
DTSTAMP:20260425T102916
CREATED:20241214T183840Z
LAST-MODIFIED:20241222T203815Z
UID:10007304-1734865200-1734872400@mrvvillage.com
SUMMARY:Mrs. Claus Elf Party at Inklings Children’s Books!
DESCRIPTION:Join Mrs. Claus at Inklings Children’s Books for an Elf Party! Cookies\, crafts\, and drinks for all. \nPeople dressed as an elf will get an official elf certificate from Mrs. Claus herself\, direct from the North Pole!! \nFREE and open to all.
URL:https://mrvvillage.com/event/mrs-claus-elf-party-at-inklings-childrens-books/
LOCATION:Inklings Children’s Books\, 106 Mad River Greeen\, Waitsfield\, VT\, 05673\, United States
CATEGORIES:Family Friendly,Public Welcome,Special Events
ATTACH;FMTTYPE=image/jpeg:https://mrvvillage.com/wp-content/uploads/2024/12/Mrs-Claus-Flyer-MRV-tzvKG5.tmp_.jpg
ORGANIZER;CN="Inklings%20Children%26%238217%3Bs%20Books":MAILTO:inklingschildrensbooks@gmail.com
GEO:44.1844899;-72.839037
X-APPLE-STRUCTURED-LOCATION;VALUE=URI;X-ADDRESS=Inklings Children’s Books 106 Mad River Greeen Waitsfield VT 05673 United States;X-APPLE-RADIUS=500;X-TITLE=106 Mad River Greeen:geo:-72.839037,44.1844899
END:VEVENT
BEGIN:VEVENT
DTSTART;TZID=America/New_York:20241222T160000
DTEND;TZID=America/New_York:20241222T173000
DTSTAMP:20260425T102916
CREATED:20241211T183858Z
LAST-MODIFIED:20241222T203816Z
UID:10007298-1734883200-1734888600@mrvvillage.com
SUMMARY:Winter Solstice Tea Party at Joslin Memorial Library
DESCRIPTION:Join Joslin Library and music-maker Lynn Noble on one of the shortest days of the year for our 5th annual celebration of light and community. \nWe’ll have tea\, goodies\, a cozy fire\, a shadow puppet show\, and plenty of songs and chants to get us in the spirit. \nAll are welcome. Please be sure to dress for the weather.
URL:https://mrvvillage.com/event/winter-solstice-tea-party-at-joslin-memorial-library/
LOCATION:Joslin Memorial Library\, 4391 Main Street\, Waitsfield\, 05673
CATEGORIES:Family Friendly,Live Music,Public Welcome,Special Events
ATTACH;FMTTYPE=image/jpeg:https://mrvvillage.com/wp-content/uploads/2024/12/2024-JML-Winter-Solstice-Tea-Party-2-fpUB4G.tmp_.jpg
ORGANIZER;CN="Joslin%20Memorial%20Library":MAILTO:programs@joslinmemoriallibrary.com
GEO:44.1926386;-72.7798479
X-APPLE-STRUCTURED-LOCATION;VALUE=URI;X-ADDRESS=Joslin Memorial Library 4391 Main Street Waitsfield 05673;X-APPLE-RADIUS=500;X-TITLE=4391 Main Street:geo:-72.7798479,44.1926386
END:VEVENT
END:VCALENDAR