BEGIN:VCALENDAR
VERSION:2.0
PRODID:-//The Mad River Valley Village - ECPv6.0.13//NONSGML v1.0//EN
CALSCALE:GREGORIAN
METHOD:PUBLISH
X-ORIGINAL-URL:https://mrvvillage.com
X-WR-CALDESC:Events for The Mad River Valley Village
REFRESH-INTERVAL;VALUE=DURATION:PT1H
X-Robots-Tag:noindex
X-PUBLISHED-TTL:PT1H
BEGIN:VTIMEZONE
TZID:America/New_York
BEGIN:DAYLIGHT
TZOFFSETFROM:-0500
TZOFFSETTO:-0400
TZNAME:EDT
DTSTART:20240310T070000
END:DAYLIGHT
BEGIN:STANDARD
TZOFFSETFROM:-0400
TZOFFSETTO:-0500
TZNAME:EST
DTSTART:20241103T060000
END:STANDARD
END:VTIMEZONE
BEGIN:VEVENT
DTSTART;TZID=America/New_York:20241229T160000
DTEND;TZID=America/New_York:20241229T180000
DTSTAMP:20260425T103154
CREATED:20241211T183913Z
LAST-MODIFIED:20241229T222322Z
UID:10007299-1735488000-1735495200@mrvvillage.com
SUMMARY:Menorah Lighting and Chanukah Celebration
DESCRIPTION:Join us Sunday afternoon\, December 29th\, at Rusty Parker Memorial Park\, at 4:00 pm for our third annual Menorah Lighting and Chanukah Celebration! Delicious Chanukah treats\, music\, hot cocoa\, and and so much more! Also on the menu: good vibes and festive fun. \nOur noses may be a little frosty\, but with community togetherness and a public display of BEAMING Jewish pride like no other\, our souls will be warm and bright. \nWe are so looking forward to you joining us for our biggest and best year yet. This event is open to all. \nWe hope to see you there!
URL:https://mrvvillage.com/event/menorah-lighting-and-chanukah-celebration/
LOCATION:Rusty Parker Memorial Park\, Park Row\, Waterbury\, 05676
CATEGORIES:Public Welcome,Special Events
ATTACH;FMTTYPE=image/png:https://mrvvillage.com/wp-content/uploads/2024/12/Copy-of-Chanukah-6-Flyer-1-NUsvbR.tmp_.png
ORGANIZER;CN="Chabad%20of%20Stowe":MAILTO:chabadofstowe@gmail.com
GEO:44.3346984;-72.7529837
X-APPLE-STRUCTURED-LOCATION;VALUE=URI;X-ADDRESS=Rusty Parker Memorial Park Park Row Waterbury 05676;X-APPLE-RADIUS=500;X-TITLE=Park Row:geo:-72.7529837,44.3346984
END:VEVENT
END:VCALENDAR