BEGIN:VCALENDAR
VERSION:2.0
PRODID:-//The Mad River Valley Village - ECPv6.0.13//NONSGML v1.0//EN
CALSCALE:GREGORIAN
METHOD:PUBLISH
X-WR-CALNAME:The Mad River Valley Village
X-ORIGINAL-URL:https://mrvvillage.com
X-WR-CALDESC:Events for The Mad River Valley Village
REFRESH-INTERVAL;VALUE=DURATION:PT1H
X-Robots-Tag:noindex
X-PUBLISHED-TTL:PT1H
BEGIN:VTIMEZONE
TZID:America/New_York
BEGIN:DAYLIGHT
TZOFFSETFROM:-0500
TZOFFSETTO:-0400
TZNAME:EDT
DTSTART:20250309T070000
END:DAYLIGHT
BEGIN:STANDARD
TZOFFSETFROM:-0400
TZOFFSETTO:-0500
TZNAME:EST
DTSTART:20251102T060000
END:STANDARD
END:VTIMEZONE
BEGIN:VEVENT
DTSTART;TZID=America/New_York:20250115T190000
DTEND;TZID=America/New_York:20250115T200000
DTSTAMP:20260425T085347
CREATED:20250107T225404Z
LAST-MODIFIED:20250115T123824Z
UID:10007507-1736967600-1736971200@mrvvillage.com
SUMMARY:Concerts for a Cause – Doug Shick
DESCRIPTION:Concerts for a Cause is excited to start 2025 with a concert on Wednesday\, January 15 at 7 pm featuring Doug Shick. The concert is free but donations are welcomed to support the Mad River Valley Ambulance Service (MRVAS). \nDoug lives in Warren and performs regularly at the Hancock Hotel and other local venues. As a member of the Woodstock generation himself\, he has developed an authentic and eclectic “boomer-friendly” repertoire with appeal for all ages featuring songs from the 1920s to the 2020s. Doug is a former member of MRVAS\, having served as an EMT for 9 years. He’s excited to share his musical talents to benefit the valuable services that MRVAS provides to our community. \nPlease join us on January 15\, 7 pm\, at Warren United Church to hear some great music and support our local ambulance service. \nConcerts for a Cause is an ongoing concert series that aims to bring music to the community while supporting local Vermont charities. Warren United Church has graciously donated the space for these concerts. The featured musician for each concert selects the Vermont-based charity they would like their concert to benefit. We are seeking additional musicians to perform in the coming months\, so please contact the coordinator\, Christopher Cummiskey\, at mrvcfac@gmail.com if you are a musician who would like to donate your talents to a concert
URL:https://mrvvillage.com/event/concerts-for-a-cause-doug-shick/
LOCATION:Warren United Church\, 339 Main St\, Warren\, VT\, 05674\, United States
CATEGORIES:Family Friendly,Live Music,Public Welcome,Special Events
ATTACH;FMTTYPE=image/jpeg:https://mrvvillage.com/wp-content/uploads/2025/01/CFAC-Shick-for-MRVAS-QyUUCH.tmp_.jpg
ORGANIZER;CN="Warren%20United%20Church":MAILTO:warrenunitedchurch@gmail.com
GEO:44.1136307;-72.8552884
X-APPLE-STRUCTURED-LOCATION;VALUE=URI;X-ADDRESS=Warren United Church 339 Main St Warren VT 05674 United States;X-APPLE-RADIUS=500;X-TITLE=339 Main St:geo:-72.8552884,44.1136307
END:VEVENT
END:VCALENDAR